BEGIN:VCALENDAR
VERSION:2.0
PRODID:-//GCKiB - ECPv6.15.20//NONSGML v1.0//EN
CALSCALE:GREGORIAN
METHOD:PUBLISH
X-WR-CALNAME:GCKiB
X-ORIGINAL-URL:https://gckib.iwanowice.pl
X-WR-CALDESC:Wydarzenia dla GCKiB
REFRESH-INTERVAL;VALUE=DURATION:PT1H
X-Robots-Tag:noindex
X-PUBLISHED-TTL:PT1H
BEGIN:VTIMEZONE
TZID:Europe/Warsaw
BEGIN:DAYLIGHT
TZOFFSETFROM:+0100
TZOFFSETTO:+0200
TZNAME:CEST
DTSTART:20210328T010000
END:DAYLIGHT
BEGIN:STANDARD
TZOFFSETFROM:+0200
TZOFFSETTO:+0100
TZNAME:CET
DTSTART:20211031T010000
END:STANDARD
BEGIN:DAYLIGHT
TZOFFSETFROM:+0100
TZOFFSETTO:+0200
TZNAME:CEST
DTSTART:20220327T010000
END:DAYLIGHT
BEGIN:STANDARD
TZOFFSETFROM:+0200
TZOFFSETTO:+0100
TZNAME:CET
DTSTART:20221030T010000
END:STANDARD
BEGIN:DAYLIGHT
TZOFFSETFROM:+0100
TZOFFSETTO:+0200
TZNAME:CEST
DTSTART:20230326T010000
END:DAYLIGHT
BEGIN:STANDARD
TZOFFSETFROM:+0200
TZOFFSETTO:+0100
TZNAME:CET
DTSTART:20231029T010000
END:STANDARD
END:VTIMEZONE
BEGIN:VEVENT
DTSTART;TZID=Europe/Warsaw:20220202T170000
DTEND;TZID=Europe/Warsaw:20220202T174500
DTSTAMP:20260421T012129
CREATED:20220428T075329Z
LAST-MODIFIED:20220428T075329Z
UID:39921-1643821200-1643823900@gckib.iwanowice.pl
SUMMARY:Zumba kids
DESCRIPTION:Zumba dla dzieci. Choreografie łatwe do powtórzenia i zapamiętania. Dzieci uczą się różnych tańców np. cumbia\, reggaeton\, hip-hop\, merengue\, salsa itd. Czas trwania zajęć 45 minut. Koszt 60 zł za miesiąc.
URL:https://gckib.iwanowice.pl/wydarzenie/zumba-kids-2-2022-02-02/
CATEGORIES:Zumba
ATTACH;FMTTYPE=image/png:https://gckib.iwanowice.pl/wp-content/uploads/2021/06/UWAGA-Nowe-deklaracje-i-nowa-oplata-Zumba-dla-doroslych-od-1-stycznia-2022.png
END:VEVENT
BEGIN:VEVENT
DTSTART;TZID=Europe/Warsaw:20220202T175000
DTEND;TZID=Europe/Warsaw:20220202T185000
DTSTAMP:20260421T012129
CREATED:20220428T075804Z
LAST-MODIFIED:20220428T075804Z
UID:39991-1643824200-1643827800@gckib.iwanowice.pl
SUMMARY:Zumba Gold
DESCRIPTION:Zajęcia o mniejszej intensywności i wolniejszym tempie. W ramach tego programu wykorzystywane są eleementy merengue\, salsy\, cumbii\, tańca brzucha\, flamenco\, tanga i nie tylko. \nZajęcia odbywają się w środy od godziny 17:50 do 18:50. \n  \n 
URL:https://gckib.iwanowice.pl/wydarzenie/zumba-gold-2022-02-02/
LOCATION:Gminne Centrum Kultury i Bibliotek w Iwanowicach\, Strażacka 5\, Iwanowice Włościańskie
CATEGORIES:Zumba
ATTACH;FMTTYPE=image/png:https://gckib.iwanowice.pl/wp-content/uploads/2021/06/UWAGA-Nowe-deklaracje-i-nowa-oplata-Zumba-dla-doroslych-od-1-stycznia-2022.png
END:VEVENT
BEGIN:VEVENT
DTSTART;TZID=Europe/Warsaw:20220202T185000
DTEND;TZID=Europe/Warsaw:20220202T195000
DTSTAMP:20260421T012129
CREATED:20220428T080324Z
LAST-MODIFIED:20220428T080324Z
UID:40199-1643827800-1643831400@gckib.iwanowice.pl
SUMMARY:Zumba Fitness
DESCRIPTION:Połączenie tańców latynoamerykańskich z fitnessem. Rytmy salsy\, cumbii\, reggaetonu\, morengue\, cha-chy i innych. Zumba Fitness poprawia sylwetkę i pozwala na zrzucenie wagi w przyjemny sposób. \nZajęcia odbywają się w środy od godziny 18:50 do 19:50.
URL:https://gckib.iwanowice.pl/wydarzenie/zumba-fitness-2-2022-02-02/
LOCATION:SP/ Orlik w Iwanowicach
CATEGORIES:Zumba
ATTACH;FMTTYPE=image/png:https://gckib.iwanowice.pl/wp-content/uploads/2021/06/UWAGA-Nowe-deklaracje-i-nowa-oplata-Zumba-dla-doroslych-od-1-stycznia-2022.png
END:VEVENT
BEGIN:VEVENT
DTSTART;TZID=Europe/Warsaw:20220203T160000
DTEND;TZID=Europe/Warsaw:20220203T164500
DTSTAMP:20260421T012129
CREATED:20211020T143916Z
LAST-MODIFIED:20211020T144922Z
UID:36778-1643904000-1643906700@gckib.iwanowice.pl
SUMMARY:Balet dla dzieci Grupa 4 - 5 lat
DESCRIPTION:Balet dla dzieci w wieku od 4 do 5 roku życia. Opłata za zajęcia wynosi 60 zł za miesiąc. Aby zapisać dziecko na zajęcia należy złożyć deklarację https://gckib.iwanowice.pl/wp-content/uploads/2021/09/Zajecia-baletowe-deklaracja-uczestnictwa-1.pdf oraz uiścić opłatę\, przelewem na konto Gminnego Centrum Kultury i Bibliotek w Iwanowicach. \nW razie pytań prosimy o kontakt telefoniczny 12 388 45 16 lub mailowy gckib@iwanowice.pl \nSerdecznie zapraszamy wszystkie chętne dzieci.
URL:https://gckib.iwanowice.pl/wydarzenie/balet-dla-dzieci-grupa-4-5-r-z-2022-02-03/
LOCATION:mała sala przy ZS – P w Iwanowicach Włościańskich
ATTACH;FMTTYPE=image/png:https://gckib.iwanowice.pl/wp-content/uploads/2021/09/balet-jesien-amitiel.png
END:VEVENT
BEGIN:VEVENT
DTSTART;TZID=Europe/Warsaw:20220203T165500
DTEND;TZID=Europe/Warsaw:20220203T175500
DTSTAMP:20260421T012129
CREATED:20211020T144821Z
LAST-MODIFIED:20211020T144821Z
UID:37094-1643907300-1643910900@gckib.iwanowice.pl
SUMMARY:Balet dla dzieci GRUPA 6 - 7 lat
DESCRIPTION:Balet dla dzieci w wieku od 6 do 7 roku życia. Opłata za zajęcia wynosi 60 zł za miesiąc. Aby zapisać dziecko na zajęcia należy złożyć deklarację https://gckib.iwanowice.pl/wp-content/uploads/2021/09/Zajecia-baletowe-deklaracja-uczestnictwa-1.pdf oraz uiścić opłatę\, przelewem na konto Gminnego Centrum Kultury i Bibliotek w Iwanowicach. \nW razie pytań prosimy o kontakt telefoniczny 12 388 45 16 lub mailowy gckib@iwanowice.pl \nSerdecznie zapraszamy wszystkie chętne dzieci.
URL:https://gckib.iwanowice.pl/wydarzenie/balet-dla-dzieci-grupa-6-7-lat-2022-02-03/
LOCATION:mała sala przy ZS – P w Iwanowicach Włościańskich
ATTACH;FMTTYPE=image/png:https://gckib.iwanowice.pl/wp-content/uploads/2021/09/balet-jesien-amitiel.png
END:VEVENT
BEGIN:VEVENT
DTSTART;TZID=Europe/Warsaw:20220203T180000
DTEND;TZID=Europe/Warsaw:20220203T190000
DTSTAMP:20260421T012129
CREATED:20211020T145139Z
LAST-MODIFIED:20211020T145139Z
UID:37305-1643911200-1643914800@gckib.iwanowice.pl
SUMMARY:Balet dla dzieci grupa powyżej 8 lat
DESCRIPTION:Balet dla dzieci w wieku powyżej 8 roku życia. Opłata za zajęcia wynosi 60 zł za miesiąc. Aby zapisać dziecko na zajęcia należy złożyć deklarację https://gckib.iwanowice.pl/wp-content/uploads/2021/09/Zajecia-baletowe-deklaracja-uczestnictwa-1.pdf oraz uiścić opłatę\, przelewem na konto Gminnego Centrum Kultury i Bibliotek w Iwanowicach. \nW razie pytań prosimy o kontakt telefoniczny 12 388 45 16 lub mailowy gckib@iwanowice.pl \nSerdecznie zapraszamy wszystkie chętne dzieci.
URL:https://gckib.iwanowice.pl/wydarzenie/balet-dla-dzieci-grupa-powyzej-8-lat-2022-02-03/
LOCATION:mała sala przy ZS – P w Iwanowicach Włościańskich
ATTACH;FMTTYPE=image/png:https://gckib.iwanowice.pl/wp-content/uploads/2021/09/balet-jesien-amitiel.png
END:VEVENT
BEGIN:VEVENT
DTSTART;TZID=Europe/Warsaw:20220203T185000
DTEND;TZID=Europe/Warsaw:20220203T195000
DTSTAMP:20260421T012129
CREATED:20220428T080324Z
LAST-MODIFIED:20220428T080324Z
UID:40097-1643914200-1643917800@gckib.iwanowice.pl
SUMMARY:Zumba Fitness
DESCRIPTION:Połączenie tańców latynoamerykańskich z fitnessem. Rytmy salsy\, cumbii\, reggaetonu\, morengue\, cha-chy i innych. Zumba Fitness poprawia sylwetkę i pozwala na zrzucenie wagi w przyjemny sposób. \nZajęcia odbywają się w środy od godziny 18:50 do 19:50.
URL:https://gckib.iwanowice.pl/wydarzenie/zumba-fitness-2-2022-02-03/
LOCATION:SP/ Orlik w Iwanowicach
CATEGORIES:Zumba
ATTACH;FMTTYPE=image/png:https://gckib.iwanowice.pl/wp-content/uploads/2021/06/UWAGA-Nowe-deklaracje-i-nowa-oplata-Zumba-dla-doroslych-od-1-stycznia-2022.png
END:VEVENT
BEGIN:VEVENT
DTSTART;TZID=Europe/Warsaw:20220209T170000
DTEND;TZID=Europe/Warsaw:20220209T174500
DTSTAMP:20260421T012129
CREATED:20220428T075329Z
LAST-MODIFIED:20220428T075329Z
UID:39922-1644426000-1644428700@gckib.iwanowice.pl
SUMMARY:Zumba kids
DESCRIPTION:Zumba dla dzieci. Choreografie łatwe do powtórzenia i zapamiętania. Dzieci uczą się różnych tańców np. cumbia\, reggaeton\, hip-hop\, merengue\, salsa itd. Czas trwania zajęć 45 minut. Koszt 60 zł za miesiąc.
URL:https://gckib.iwanowice.pl/wydarzenie/zumba-kids-2-2022-02-09/
CATEGORIES:Zumba
ATTACH;FMTTYPE=image/png:https://gckib.iwanowice.pl/wp-content/uploads/2021/06/UWAGA-Nowe-deklaracje-i-nowa-oplata-Zumba-dla-doroslych-od-1-stycznia-2022.png
END:VEVENT
BEGIN:VEVENT
DTSTART;TZID=Europe/Warsaw:20220209T175000
DTEND;TZID=Europe/Warsaw:20220209T185000
DTSTAMP:20260421T012129
CREATED:20220428T075804Z
LAST-MODIFIED:20220428T075804Z
UID:39992-1644429000-1644432600@gckib.iwanowice.pl
SUMMARY:Zumba Gold
DESCRIPTION:Zajęcia o mniejszej intensywności i wolniejszym tempie. W ramach tego programu wykorzystywane są eleementy merengue\, salsy\, cumbii\, tańca brzucha\, flamenco\, tanga i nie tylko. \nZajęcia odbywają się w środy od godziny 17:50 do 18:50. \n  \n 
URL:https://gckib.iwanowice.pl/wydarzenie/zumba-gold-2022-02-09/
LOCATION:Gminne Centrum Kultury i Bibliotek w Iwanowicach\, Strażacka 5\, Iwanowice Włościańskie
CATEGORIES:Zumba
ATTACH;FMTTYPE=image/png:https://gckib.iwanowice.pl/wp-content/uploads/2021/06/UWAGA-Nowe-deklaracje-i-nowa-oplata-Zumba-dla-doroslych-od-1-stycznia-2022.png
END:VEVENT
BEGIN:VEVENT
DTSTART;TZID=Europe/Warsaw:20220209T185000
DTEND;TZID=Europe/Warsaw:20220209T195000
DTSTAMP:20260421T012129
CREATED:20220428T080324Z
LAST-MODIFIED:20220428T080324Z
UID:40200-1644432600-1644436200@gckib.iwanowice.pl
SUMMARY:Zumba Fitness
DESCRIPTION:Połączenie tańców latynoamerykańskich z fitnessem. Rytmy salsy\, cumbii\, reggaetonu\, morengue\, cha-chy i innych. Zumba Fitness poprawia sylwetkę i pozwala na zrzucenie wagi w przyjemny sposób. \nZajęcia odbywają się w środy od godziny 18:50 do 19:50.
URL:https://gckib.iwanowice.pl/wydarzenie/zumba-fitness-2-2022-02-09/
LOCATION:SP/ Orlik w Iwanowicach
CATEGORIES:Zumba
ATTACH;FMTTYPE=image/png:https://gckib.iwanowice.pl/wp-content/uploads/2021/06/UWAGA-Nowe-deklaracje-i-nowa-oplata-Zumba-dla-doroslych-od-1-stycznia-2022.png
END:VEVENT
BEGIN:VEVENT
DTSTART;TZID=Europe/Warsaw:20220210T160000
DTEND;TZID=Europe/Warsaw:20220210T164500
DTSTAMP:20260421T012129
CREATED:20211020T143916Z
LAST-MODIFIED:20211020T144922Z
UID:36779-1644508800-1644511500@gckib.iwanowice.pl
SUMMARY:Balet dla dzieci Grupa 4 - 5 lat
DESCRIPTION:Balet dla dzieci w wieku od 4 do 5 roku życia. Opłata za zajęcia wynosi 60 zł za miesiąc. Aby zapisać dziecko na zajęcia należy złożyć deklarację https://gckib.iwanowice.pl/wp-content/uploads/2021/09/Zajecia-baletowe-deklaracja-uczestnictwa-1.pdf oraz uiścić opłatę\, przelewem na konto Gminnego Centrum Kultury i Bibliotek w Iwanowicach. \nW razie pytań prosimy o kontakt telefoniczny 12 388 45 16 lub mailowy gckib@iwanowice.pl \nSerdecznie zapraszamy wszystkie chętne dzieci.
URL:https://gckib.iwanowice.pl/wydarzenie/balet-dla-dzieci-grupa-4-5-r-z-2022-02-10/
LOCATION:mała sala przy ZS – P w Iwanowicach Włościańskich
ATTACH;FMTTYPE=image/png:https://gckib.iwanowice.pl/wp-content/uploads/2021/09/balet-jesien-amitiel.png
END:VEVENT
BEGIN:VEVENT
DTSTART;TZID=Europe/Warsaw:20220210T165500
DTEND;TZID=Europe/Warsaw:20220210T175500
DTSTAMP:20260421T012129
CREATED:20211020T144821Z
LAST-MODIFIED:20211020T144821Z
UID:37095-1644512100-1644515700@gckib.iwanowice.pl
SUMMARY:Balet dla dzieci GRUPA 6 - 7 lat
DESCRIPTION:Balet dla dzieci w wieku od 6 do 7 roku życia. Opłata za zajęcia wynosi 60 zł za miesiąc. Aby zapisać dziecko na zajęcia należy złożyć deklarację https://gckib.iwanowice.pl/wp-content/uploads/2021/09/Zajecia-baletowe-deklaracja-uczestnictwa-1.pdf oraz uiścić opłatę\, przelewem na konto Gminnego Centrum Kultury i Bibliotek w Iwanowicach. \nW razie pytań prosimy o kontakt telefoniczny 12 388 45 16 lub mailowy gckib@iwanowice.pl \nSerdecznie zapraszamy wszystkie chętne dzieci.
URL:https://gckib.iwanowice.pl/wydarzenie/balet-dla-dzieci-grupa-6-7-lat-2022-02-10/
LOCATION:mała sala przy ZS – P w Iwanowicach Włościańskich
ATTACH;FMTTYPE=image/png:https://gckib.iwanowice.pl/wp-content/uploads/2021/09/balet-jesien-amitiel.png
END:VEVENT
BEGIN:VEVENT
DTSTART;TZID=Europe/Warsaw:20220210T180000
DTEND;TZID=Europe/Warsaw:20220210T190000
DTSTAMP:20260421T012129
CREATED:20211020T145139Z
LAST-MODIFIED:20211020T145139Z
UID:37306-1644516000-1644519600@gckib.iwanowice.pl
SUMMARY:Balet dla dzieci grupa powyżej 8 lat
DESCRIPTION:Balet dla dzieci w wieku powyżej 8 roku życia. Opłata za zajęcia wynosi 60 zł za miesiąc. Aby zapisać dziecko na zajęcia należy złożyć deklarację https://gckib.iwanowice.pl/wp-content/uploads/2021/09/Zajecia-baletowe-deklaracja-uczestnictwa-1.pdf oraz uiścić opłatę\, przelewem na konto Gminnego Centrum Kultury i Bibliotek w Iwanowicach. \nW razie pytań prosimy o kontakt telefoniczny 12 388 45 16 lub mailowy gckib@iwanowice.pl \nSerdecznie zapraszamy wszystkie chętne dzieci.
URL:https://gckib.iwanowice.pl/wydarzenie/balet-dla-dzieci-grupa-powyzej-8-lat-2022-02-10/
LOCATION:mała sala przy ZS – P w Iwanowicach Włościańskich
ATTACH;FMTTYPE=image/png:https://gckib.iwanowice.pl/wp-content/uploads/2021/09/balet-jesien-amitiel.png
END:VEVENT
BEGIN:VEVENT
DTSTART;TZID=Europe/Warsaw:20220210T185000
DTEND;TZID=Europe/Warsaw:20220210T195000
DTSTAMP:20260421T012129
CREATED:20220428T080324Z
LAST-MODIFIED:20220428T080324Z
UID:40098-1644519000-1644522600@gckib.iwanowice.pl
SUMMARY:Zumba Fitness
DESCRIPTION:Połączenie tańców latynoamerykańskich z fitnessem. Rytmy salsy\, cumbii\, reggaetonu\, morengue\, cha-chy i innych. Zumba Fitness poprawia sylwetkę i pozwala na zrzucenie wagi w przyjemny sposób. \nZajęcia odbywają się w środy od godziny 18:50 do 19:50.
URL:https://gckib.iwanowice.pl/wydarzenie/zumba-fitness-2-2022-02-10/
LOCATION:SP/ Orlik w Iwanowicach
CATEGORIES:Zumba
ATTACH;FMTTYPE=image/png:https://gckib.iwanowice.pl/wp-content/uploads/2021/06/UWAGA-Nowe-deklaracje-i-nowa-oplata-Zumba-dla-doroslych-od-1-stycznia-2022.png
END:VEVENT
BEGIN:VEVENT
DTSTART;TZID=Europe/Warsaw:20220216T170000
DTEND;TZID=Europe/Warsaw:20220216T174500
DTSTAMP:20260421T012129
CREATED:20220428T075329Z
LAST-MODIFIED:20220428T075329Z
UID:39923-1645030800-1645033500@gckib.iwanowice.pl
SUMMARY:Zumba kids
DESCRIPTION:Zumba dla dzieci. Choreografie łatwe do powtórzenia i zapamiętania. Dzieci uczą się różnych tańców np. cumbia\, reggaeton\, hip-hop\, merengue\, salsa itd. Czas trwania zajęć 45 minut. Koszt 60 zł za miesiąc.
URL:https://gckib.iwanowice.pl/wydarzenie/zumba-kids-2-2022-02-16/
CATEGORIES:Zumba
ATTACH;FMTTYPE=image/png:https://gckib.iwanowice.pl/wp-content/uploads/2021/06/UWAGA-Nowe-deklaracje-i-nowa-oplata-Zumba-dla-doroslych-od-1-stycznia-2022.png
END:VEVENT
BEGIN:VEVENT
DTSTART;TZID=Europe/Warsaw:20220216T175000
DTEND;TZID=Europe/Warsaw:20220216T185000
DTSTAMP:20260421T012129
CREATED:20220428T075804Z
LAST-MODIFIED:20220428T075804Z
UID:39993-1645033800-1645037400@gckib.iwanowice.pl
SUMMARY:Zumba Gold
DESCRIPTION:Zajęcia o mniejszej intensywności i wolniejszym tempie. W ramach tego programu wykorzystywane są eleementy merengue\, salsy\, cumbii\, tańca brzucha\, flamenco\, tanga i nie tylko. \nZajęcia odbywają się w środy od godziny 17:50 do 18:50. \n  \n 
URL:https://gckib.iwanowice.pl/wydarzenie/zumba-gold-2022-02-16/
LOCATION:Gminne Centrum Kultury i Bibliotek w Iwanowicach\, Strażacka 5\, Iwanowice Włościańskie
CATEGORIES:Zumba
ATTACH;FMTTYPE=image/png:https://gckib.iwanowice.pl/wp-content/uploads/2021/06/UWAGA-Nowe-deklaracje-i-nowa-oplata-Zumba-dla-doroslych-od-1-stycznia-2022.png
END:VEVENT
BEGIN:VEVENT
DTSTART;TZID=Europe/Warsaw:20220216T185000
DTEND;TZID=Europe/Warsaw:20220216T195000
DTSTAMP:20260421T012129
CREATED:20220428T080324Z
LAST-MODIFIED:20220428T080324Z
UID:40201-1645037400-1645041000@gckib.iwanowice.pl
SUMMARY:Zumba Fitness
DESCRIPTION:Połączenie tańców latynoamerykańskich z fitnessem. Rytmy salsy\, cumbii\, reggaetonu\, morengue\, cha-chy i innych. Zumba Fitness poprawia sylwetkę i pozwala na zrzucenie wagi w przyjemny sposób. \nZajęcia odbywają się w środy od godziny 18:50 do 19:50.
URL:https://gckib.iwanowice.pl/wydarzenie/zumba-fitness-2-2022-02-16/
LOCATION:SP/ Orlik w Iwanowicach
CATEGORIES:Zumba
ATTACH;FMTTYPE=image/png:https://gckib.iwanowice.pl/wp-content/uploads/2021/06/UWAGA-Nowe-deklaracje-i-nowa-oplata-Zumba-dla-doroslych-od-1-stycznia-2022.png
END:VEVENT
BEGIN:VEVENT
DTSTART;TZID=Europe/Warsaw:20220217T160000
DTEND;TZID=Europe/Warsaw:20220217T164500
DTSTAMP:20260421T012129
CREATED:20211020T143916Z
LAST-MODIFIED:20211020T144923Z
UID:36780-1645113600-1645116300@gckib.iwanowice.pl
SUMMARY:Balet dla dzieci Grupa 4 - 5 lat
DESCRIPTION:Balet dla dzieci w wieku od 4 do 5 roku życia. Opłata za zajęcia wynosi 60 zł za miesiąc. Aby zapisać dziecko na zajęcia należy złożyć deklarację https://gckib.iwanowice.pl/wp-content/uploads/2021/09/Zajecia-baletowe-deklaracja-uczestnictwa-1.pdf oraz uiścić opłatę\, przelewem na konto Gminnego Centrum Kultury i Bibliotek w Iwanowicach. \nW razie pytań prosimy o kontakt telefoniczny 12 388 45 16 lub mailowy gckib@iwanowice.pl \nSerdecznie zapraszamy wszystkie chętne dzieci.
URL:https://gckib.iwanowice.pl/wydarzenie/balet-dla-dzieci-grupa-4-5-r-z-2022-02-17/
LOCATION:mała sala przy ZS – P w Iwanowicach Włościańskich
ATTACH;FMTTYPE=image/png:https://gckib.iwanowice.pl/wp-content/uploads/2021/09/balet-jesien-amitiel.png
END:VEVENT
BEGIN:VEVENT
DTSTART;TZID=Europe/Warsaw:20220217T165500
DTEND;TZID=Europe/Warsaw:20220217T175500
DTSTAMP:20260421T012129
CREATED:20211020T144821Z
LAST-MODIFIED:20211020T144821Z
UID:37096-1645116900-1645120500@gckib.iwanowice.pl
SUMMARY:Balet dla dzieci GRUPA 6 - 7 lat
DESCRIPTION:Balet dla dzieci w wieku od 6 do 7 roku życia. Opłata za zajęcia wynosi 60 zł za miesiąc. Aby zapisać dziecko na zajęcia należy złożyć deklarację https://gckib.iwanowice.pl/wp-content/uploads/2021/09/Zajecia-baletowe-deklaracja-uczestnictwa-1.pdf oraz uiścić opłatę\, przelewem na konto Gminnego Centrum Kultury i Bibliotek w Iwanowicach. \nW razie pytań prosimy o kontakt telefoniczny 12 388 45 16 lub mailowy gckib@iwanowice.pl \nSerdecznie zapraszamy wszystkie chętne dzieci.
URL:https://gckib.iwanowice.pl/wydarzenie/balet-dla-dzieci-grupa-6-7-lat-2022-02-17/
LOCATION:mała sala przy ZS – P w Iwanowicach Włościańskich
ATTACH;FMTTYPE=image/png:https://gckib.iwanowice.pl/wp-content/uploads/2021/09/balet-jesien-amitiel.png
END:VEVENT
BEGIN:VEVENT
DTSTART;TZID=Europe/Warsaw:20220217T180000
DTEND;TZID=Europe/Warsaw:20220217T190000
DTSTAMP:20260421T012129
CREATED:20211020T145139Z
LAST-MODIFIED:20211020T145139Z
UID:37307-1645120800-1645124400@gckib.iwanowice.pl
SUMMARY:Balet dla dzieci grupa powyżej 8 lat
DESCRIPTION:Balet dla dzieci w wieku powyżej 8 roku życia. Opłata za zajęcia wynosi 60 zł za miesiąc. Aby zapisać dziecko na zajęcia należy złożyć deklarację https://gckib.iwanowice.pl/wp-content/uploads/2021/09/Zajecia-baletowe-deklaracja-uczestnictwa-1.pdf oraz uiścić opłatę\, przelewem na konto Gminnego Centrum Kultury i Bibliotek w Iwanowicach. \nW razie pytań prosimy o kontakt telefoniczny 12 388 45 16 lub mailowy gckib@iwanowice.pl \nSerdecznie zapraszamy wszystkie chętne dzieci.
URL:https://gckib.iwanowice.pl/wydarzenie/balet-dla-dzieci-grupa-powyzej-8-lat-2022-02-17/
LOCATION:mała sala przy ZS – P w Iwanowicach Włościańskich
ATTACH;FMTTYPE=image/png:https://gckib.iwanowice.pl/wp-content/uploads/2021/09/balet-jesien-amitiel.png
END:VEVENT
BEGIN:VEVENT
DTSTART;TZID=Europe/Warsaw:20220217T185000
DTEND;TZID=Europe/Warsaw:20220217T195000
DTSTAMP:20260421T012129
CREATED:20220428T080324Z
LAST-MODIFIED:20220428T080324Z
UID:40099-1645123800-1645127400@gckib.iwanowice.pl
SUMMARY:Zumba Fitness
DESCRIPTION:Połączenie tańców latynoamerykańskich z fitnessem. Rytmy salsy\, cumbii\, reggaetonu\, morengue\, cha-chy i innych. Zumba Fitness poprawia sylwetkę i pozwala na zrzucenie wagi w przyjemny sposób. \nZajęcia odbywają się w środy od godziny 18:50 do 19:50.
URL:https://gckib.iwanowice.pl/wydarzenie/zumba-fitness-2-2022-02-17/
LOCATION:SP/ Orlik w Iwanowicach
CATEGORIES:Zumba
ATTACH;FMTTYPE=image/png:https://gckib.iwanowice.pl/wp-content/uploads/2021/06/UWAGA-Nowe-deklaracje-i-nowa-oplata-Zumba-dla-doroslych-od-1-stycznia-2022.png
END:VEVENT
BEGIN:VEVENT
DTSTART;TZID=Europe/Warsaw:20220223T170000
DTEND;TZID=Europe/Warsaw:20220223T174500
DTSTAMP:20260421T012129
CREATED:20220428T075329Z
LAST-MODIFIED:20220428T075329Z
UID:39924-1645635600-1645638300@gckib.iwanowice.pl
SUMMARY:Zumba kids
DESCRIPTION:Zumba dla dzieci. Choreografie łatwe do powtórzenia i zapamiętania. Dzieci uczą się różnych tańców np. cumbia\, reggaeton\, hip-hop\, merengue\, salsa itd. Czas trwania zajęć 45 minut. Koszt 60 zł za miesiąc.
URL:https://gckib.iwanowice.pl/wydarzenie/zumba-kids-2-2022-02-23/
CATEGORIES:Zumba
ATTACH;FMTTYPE=image/png:https://gckib.iwanowice.pl/wp-content/uploads/2021/06/UWAGA-Nowe-deklaracje-i-nowa-oplata-Zumba-dla-doroslych-od-1-stycznia-2022.png
END:VEVENT
BEGIN:VEVENT
DTSTART;TZID=Europe/Warsaw:20220223T175000
DTEND;TZID=Europe/Warsaw:20220223T185000
DTSTAMP:20260421T012129
CREATED:20220428T075804Z
LAST-MODIFIED:20220428T075804Z
UID:39994-1645638600-1645642200@gckib.iwanowice.pl
SUMMARY:Zumba Gold
DESCRIPTION:Zajęcia o mniejszej intensywności i wolniejszym tempie. W ramach tego programu wykorzystywane są eleementy merengue\, salsy\, cumbii\, tańca brzucha\, flamenco\, tanga i nie tylko. \nZajęcia odbywają się w środy od godziny 17:50 do 18:50. \n  \n 
URL:https://gckib.iwanowice.pl/wydarzenie/zumba-gold-2022-02-23/
LOCATION:Gminne Centrum Kultury i Bibliotek w Iwanowicach\, Strażacka 5\, Iwanowice Włościańskie
CATEGORIES:Zumba
ATTACH;FMTTYPE=image/png:https://gckib.iwanowice.pl/wp-content/uploads/2021/06/UWAGA-Nowe-deklaracje-i-nowa-oplata-Zumba-dla-doroslych-od-1-stycznia-2022.png
END:VEVENT
BEGIN:VEVENT
DTSTART;TZID=Europe/Warsaw:20220223T185000
DTEND;TZID=Europe/Warsaw:20220223T195000
DTSTAMP:20260421T012129
CREATED:20220428T080324Z
LAST-MODIFIED:20220428T080324Z
UID:40202-1645642200-1645645800@gckib.iwanowice.pl
SUMMARY:Zumba Fitness
DESCRIPTION:Połączenie tańców latynoamerykańskich z fitnessem. Rytmy salsy\, cumbii\, reggaetonu\, morengue\, cha-chy i innych. Zumba Fitness poprawia sylwetkę i pozwala na zrzucenie wagi w przyjemny sposób. \nZajęcia odbywają się w środy od godziny 18:50 do 19:50.
URL:https://gckib.iwanowice.pl/wydarzenie/zumba-fitness-2-2022-02-23/
LOCATION:SP/ Orlik w Iwanowicach
CATEGORIES:Zumba
ATTACH;FMTTYPE=image/png:https://gckib.iwanowice.pl/wp-content/uploads/2021/06/UWAGA-Nowe-deklaracje-i-nowa-oplata-Zumba-dla-doroslych-od-1-stycznia-2022.png
END:VEVENT
BEGIN:VEVENT
DTSTART;TZID=Europe/Warsaw:20220224T160000
DTEND;TZID=Europe/Warsaw:20220224T164500
DTSTAMP:20260421T012129
CREATED:20211020T143916Z
LAST-MODIFIED:20211020T144923Z
UID:36781-1645718400-1645721100@gckib.iwanowice.pl
SUMMARY:Balet dla dzieci Grupa 4 - 5 lat
DESCRIPTION:Balet dla dzieci w wieku od 4 do 5 roku życia. Opłata za zajęcia wynosi 60 zł za miesiąc. Aby zapisać dziecko na zajęcia należy złożyć deklarację https://gckib.iwanowice.pl/wp-content/uploads/2021/09/Zajecia-baletowe-deklaracja-uczestnictwa-1.pdf oraz uiścić opłatę\, przelewem na konto Gminnego Centrum Kultury i Bibliotek w Iwanowicach. \nW razie pytań prosimy o kontakt telefoniczny 12 388 45 16 lub mailowy gckib@iwanowice.pl \nSerdecznie zapraszamy wszystkie chętne dzieci.
URL:https://gckib.iwanowice.pl/wydarzenie/balet-dla-dzieci-grupa-4-5-r-z-2022-02-24/
LOCATION:mała sala przy ZS – P w Iwanowicach Włościańskich
ATTACH;FMTTYPE=image/png:https://gckib.iwanowice.pl/wp-content/uploads/2021/09/balet-jesien-amitiel.png
END:VEVENT
BEGIN:VEVENT
DTSTART;TZID=Europe/Warsaw:20220224T165500
DTEND;TZID=Europe/Warsaw:20220224T175500
DTSTAMP:20260421T012129
CREATED:20211020T144821Z
LAST-MODIFIED:20211020T144821Z
UID:37097-1645721700-1645725300@gckib.iwanowice.pl
SUMMARY:Balet dla dzieci GRUPA 6 - 7 lat
DESCRIPTION:Balet dla dzieci w wieku od 6 do 7 roku życia. Opłata za zajęcia wynosi 60 zł za miesiąc. Aby zapisać dziecko na zajęcia należy złożyć deklarację https://gckib.iwanowice.pl/wp-content/uploads/2021/09/Zajecia-baletowe-deklaracja-uczestnictwa-1.pdf oraz uiścić opłatę\, przelewem na konto Gminnego Centrum Kultury i Bibliotek w Iwanowicach. \nW razie pytań prosimy o kontakt telefoniczny 12 388 45 16 lub mailowy gckib@iwanowice.pl \nSerdecznie zapraszamy wszystkie chętne dzieci.
URL:https://gckib.iwanowice.pl/wydarzenie/balet-dla-dzieci-grupa-6-7-lat-2022-02-24/
LOCATION:mała sala przy ZS – P w Iwanowicach Włościańskich
ATTACH;FMTTYPE=image/png:https://gckib.iwanowice.pl/wp-content/uploads/2021/09/balet-jesien-amitiel.png
END:VEVENT
BEGIN:VEVENT
DTSTART;TZID=Europe/Warsaw:20220224T180000
DTEND;TZID=Europe/Warsaw:20220224T190000
DTSTAMP:20260421T012129
CREATED:20211020T145139Z
LAST-MODIFIED:20211020T145139Z
UID:37308-1645725600-1645729200@gckib.iwanowice.pl
SUMMARY:Balet dla dzieci grupa powyżej 8 lat
DESCRIPTION:Balet dla dzieci w wieku powyżej 8 roku życia. Opłata za zajęcia wynosi 60 zł za miesiąc. Aby zapisać dziecko na zajęcia należy złożyć deklarację https://gckib.iwanowice.pl/wp-content/uploads/2021/09/Zajecia-baletowe-deklaracja-uczestnictwa-1.pdf oraz uiścić opłatę\, przelewem na konto Gminnego Centrum Kultury i Bibliotek w Iwanowicach. \nW razie pytań prosimy o kontakt telefoniczny 12 388 45 16 lub mailowy gckib@iwanowice.pl \nSerdecznie zapraszamy wszystkie chętne dzieci.
URL:https://gckib.iwanowice.pl/wydarzenie/balet-dla-dzieci-grupa-powyzej-8-lat-2022-02-24/
LOCATION:mała sala przy ZS – P w Iwanowicach Włościańskich
ATTACH;FMTTYPE=image/png:https://gckib.iwanowice.pl/wp-content/uploads/2021/09/balet-jesien-amitiel.png
END:VEVENT
BEGIN:VEVENT
DTSTART;TZID=Europe/Warsaw:20220224T185000
DTEND;TZID=Europe/Warsaw:20220224T195000
DTSTAMP:20260421T012129
CREATED:20220428T080324Z
LAST-MODIFIED:20220428T080324Z
UID:40100-1645728600-1645732200@gckib.iwanowice.pl
SUMMARY:Zumba Fitness
DESCRIPTION:Połączenie tańców latynoamerykańskich z fitnessem. Rytmy salsy\, cumbii\, reggaetonu\, morengue\, cha-chy i innych. Zumba Fitness poprawia sylwetkę i pozwala na zrzucenie wagi w przyjemny sposób. \nZajęcia odbywają się w środy od godziny 18:50 do 19:50.
URL:https://gckib.iwanowice.pl/wydarzenie/zumba-fitness-2-2022-02-24/
LOCATION:SP/ Orlik w Iwanowicach
CATEGORIES:Zumba
ATTACH;FMTTYPE=image/png:https://gckib.iwanowice.pl/wp-content/uploads/2021/06/UWAGA-Nowe-deklaracje-i-nowa-oplata-Zumba-dla-doroslych-od-1-stycznia-2022.png
END:VEVENT
END:VCALENDAR