BEGIN:VCALENDAR
VERSION:2.0
PRODID:-//GCKiB - ECPv6.15.20//NONSGML v1.0//EN
CALSCALE:GREGORIAN
METHOD:PUBLISH
X-ORIGINAL-URL:https://gckib.iwanowice.pl
X-WR-CALDESC:Wydarzenia dla GCKiB
REFRESH-INTERVAL;VALUE=DURATION:PT1H
X-Robots-Tag:noindex
X-PUBLISHED-TTL:PT1H
BEGIN:VTIMEZONE
TZID:Europe/Warsaw
BEGIN:DAYLIGHT
TZOFFSETFROM:+0100
TZOFFSETTO:+0200
TZNAME:CEST
DTSTART:20200329T010000
END:DAYLIGHT
BEGIN:STANDARD
TZOFFSETFROM:+0200
TZOFFSETTO:+0100
TZNAME:CET
DTSTART:20201025T010000
END:STANDARD
BEGIN:DAYLIGHT
TZOFFSETFROM:+0100
TZOFFSETTO:+0200
TZNAME:CEST
DTSTART:20210328T010000
END:DAYLIGHT
BEGIN:STANDARD
TZOFFSETFROM:+0200
TZOFFSETTO:+0100
TZNAME:CET
DTSTART:20211031T010000
END:STANDARD
BEGIN:DAYLIGHT
TZOFFSETFROM:+0100
TZOFFSETTO:+0200
TZNAME:CEST
DTSTART:20220327T010000
END:DAYLIGHT
BEGIN:STANDARD
TZOFFSETFROM:+0200
TZOFFSETTO:+0100
TZNAME:CET
DTSTART:20221030T010000
END:STANDARD
END:VTIMEZONE
BEGIN:VEVENT
DTSTART;TZID=Europe/Warsaw:20210505T170000
DTEND;TZID=Europe/Warsaw:20210505T174500
DTSTAMP:20260421T173402
CREATED:20220428T075329Z
LAST-MODIFIED:20220428T075329Z
UID:39882-1620234000-1620236700@gckib.iwanowice.pl
SUMMARY:Zumba kids
DESCRIPTION:Zumba dla dzieci. Choreografie łatwe do powtórzenia i zapamiętania. Dzieci uczą się różnych tańców np. cumbia\, reggaeton\, hip-hop\, merengue\, salsa itd. Czas trwania zajęć 45 minut. Koszt 60 zł za miesiąc.
URL:https://gckib.iwanowice.pl/wydarzenie/zumba-kids-2-2021-05-05/
CATEGORIES:Zumba
ATTACH;FMTTYPE=image/png:https://gckib.iwanowice.pl/wp-content/uploads/2021/06/UWAGA-Nowe-deklaracje-i-nowa-oplata-Zumba-dla-doroslych-od-1-stycznia-2022.png
END:VEVENT
BEGIN:VEVENT
DTSTART;TZID=Europe/Warsaw:20210505T175000
DTEND;TZID=Europe/Warsaw:20210505T185000
DTSTAMP:20260421T173402
CREATED:20220428T075804Z
LAST-MODIFIED:20220428T075804Z
UID:39952-1620237000-1620240600@gckib.iwanowice.pl
SUMMARY:Zumba Gold
DESCRIPTION:Zajęcia o mniejszej intensywności i wolniejszym tempie. W ramach tego programu wykorzystywane są eleementy merengue\, salsy\, cumbii\, tańca brzucha\, flamenco\, tanga i nie tylko. \nZajęcia odbywają się w środy od godziny 17:50 do 18:50. \n  \n 
URL:https://gckib.iwanowice.pl/wydarzenie/zumba-gold-2021-05-05/
LOCATION:Gminne Centrum Kultury i Bibliotek w Iwanowicach\, Strażacka 5\, Iwanowice Włościańskie
CATEGORIES:Zumba
ATTACH;FMTTYPE=image/png:https://gckib.iwanowice.pl/wp-content/uploads/2021/06/UWAGA-Nowe-deklaracje-i-nowa-oplata-Zumba-dla-doroslych-od-1-stycznia-2022.png
END:VEVENT
BEGIN:VEVENT
DTSTART;TZID=Europe/Warsaw:20210505T185000
DTEND;TZID=Europe/Warsaw:20210505T195000
DTSTAMP:20260421T173402
CREATED:20220428T080324Z
LAST-MODIFIED:20220428T080324Z
UID:40160-1620240600-1620244200@gckib.iwanowice.pl
SUMMARY:Zumba Fitness
DESCRIPTION:Połączenie tańców latynoamerykańskich z fitnessem. Rytmy salsy\, cumbii\, reggaetonu\, morengue\, cha-chy i innych. Zumba Fitness poprawia sylwetkę i pozwala na zrzucenie wagi w przyjemny sposób. \nZajęcia odbywają się w środy od godziny 18:50 do 19:50.
URL:https://gckib.iwanowice.pl/wydarzenie/zumba-fitness-2-2021-05-05/
LOCATION:SP/ Orlik w Iwanowicach
CATEGORIES:Zumba
ATTACH;FMTTYPE=image/png:https://gckib.iwanowice.pl/wp-content/uploads/2021/06/UWAGA-Nowe-deklaracje-i-nowa-oplata-Zumba-dla-doroslych-od-1-stycznia-2022.png
END:VEVENT
BEGIN:VEVENT
DTSTART;TZID=Europe/Warsaw:20210506T185000
DTEND;TZID=Europe/Warsaw:20210506T195000
DTSTAMP:20260421T173402
CREATED:20220428T080324Z
LAST-MODIFIED:20220428T080324Z
UID:40058-1620327000-1620330600@gckib.iwanowice.pl
SUMMARY:Zumba Fitness
DESCRIPTION:Połączenie tańców latynoamerykańskich z fitnessem. Rytmy salsy\, cumbii\, reggaetonu\, morengue\, cha-chy i innych. Zumba Fitness poprawia sylwetkę i pozwala na zrzucenie wagi w przyjemny sposób. \nZajęcia odbywają się w środy od godziny 18:50 do 19:50.
URL:https://gckib.iwanowice.pl/wydarzenie/zumba-fitness-2-2021-05-06/
LOCATION:SP/ Orlik w Iwanowicach
CATEGORIES:Zumba
ATTACH;FMTTYPE=image/png:https://gckib.iwanowice.pl/wp-content/uploads/2021/06/UWAGA-Nowe-deklaracje-i-nowa-oplata-Zumba-dla-doroslych-od-1-stycznia-2022.png
END:VEVENT
BEGIN:VEVENT
DTSTART;VALUE=DATE:20210510
DTEND;VALUE=DATE:20210511
DTSTAMP:20260421T173402
CREATED:20210712T070443Z
LAST-MODIFIED:20210712T070457Z
UID:34631-1620604800-1620691199@gckib.iwanowice.pl
SUMMARY:Powiatowy konkurs języka angielskiego dla uczniów klas III szkół podstawowych – KOMIKS “The best friends forever” - SP Celiny
DESCRIPTION:Zgłoszenia przedłużone do 10 maja br.
URL:https://gckib.iwanowice.pl/wydarzenie/powiatowy-konkurs-jezyka-angielskiego-dla-uczniow-klas-iii-szkol-podstawowych-komiks-the-best-friends-forever/
END:VEVENT
BEGIN:VEVENT
DTSTART;TZID=Europe/Warsaw:20210512T170000
DTEND;TZID=Europe/Warsaw:20210512T174500
DTSTAMP:20260421T173402
CREATED:20220428T075329Z
LAST-MODIFIED:20220428T075329Z
UID:39883-1620838800-1620841500@gckib.iwanowice.pl
SUMMARY:Zumba kids
DESCRIPTION:Zumba dla dzieci. Choreografie łatwe do powtórzenia i zapamiętania. Dzieci uczą się różnych tańców np. cumbia\, reggaeton\, hip-hop\, merengue\, salsa itd. Czas trwania zajęć 45 minut. Koszt 60 zł za miesiąc.
URL:https://gckib.iwanowice.pl/wydarzenie/zumba-kids-2-2021-05-12/
CATEGORIES:Zumba
ATTACH;FMTTYPE=image/png:https://gckib.iwanowice.pl/wp-content/uploads/2021/06/UWAGA-Nowe-deklaracje-i-nowa-oplata-Zumba-dla-doroslych-od-1-stycznia-2022.png
END:VEVENT
BEGIN:VEVENT
DTSTART;TZID=Europe/Warsaw:20210512T175000
DTEND;TZID=Europe/Warsaw:20210512T185000
DTSTAMP:20260421T173402
CREATED:20220428T075804Z
LAST-MODIFIED:20220428T075804Z
UID:39953-1620841800-1620845400@gckib.iwanowice.pl
SUMMARY:Zumba Gold
DESCRIPTION:Zajęcia o mniejszej intensywności i wolniejszym tempie. W ramach tego programu wykorzystywane są eleementy merengue\, salsy\, cumbii\, tańca brzucha\, flamenco\, tanga i nie tylko. \nZajęcia odbywają się w środy od godziny 17:50 do 18:50. \n  \n 
URL:https://gckib.iwanowice.pl/wydarzenie/zumba-gold-2021-05-12/
LOCATION:Gminne Centrum Kultury i Bibliotek w Iwanowicach\, Strażacka 5\, Iwanowice Włościańskie
CATEGORIES:Zumba
ATTACH;FMTTYPE=image/png:https://gckib.iwanowice.pl/wp-content/uploads/2021/06/UWAGA-Nowe-deklaracje-i-nowa-oplata-Zumba-dla-doroslych-od-1-stycznia-2022.png
END:VEVENT
BEGIN:VEVENT
DTSTART;TZID=Europe/Warsaw:20210512T185000
DTEND;TZID=Europe/Warsaw:20210512T195000
DTSTAMP:20260421T173402
CREATED:20220428T080324Z
LAST-MODIFIED:20220428T080324Z
UID:40161-1620845400-1620849000@gckib.iwanowice.pl
SUMMARY:Zumba Fitness
DESCRIPTION:Połączenie tańców latynoamerykańskich z fitnessem. Rytmy salsy\, cumbii\, reggaetonu\, morengue\, cha-chy i innych. Zumba Fitness poprawia sylwetkę i pozwala na zrzucenie wagi w przyjemny sposób. \nZajęcia odbywają się w środy od godziny 18:50 do 19:50.
URL:https://gckib.iwanowice.pl/wydarzenie/zumba-fitness-2-2021-05-12/
LOCATION:SP/ Orlik w Iwanowicach
CATEGORIES:Zumba
ATTACH;FMTTYPE=image/png:https://gckib.iwanowice.pl/wp-content/uploads/2021/06/UWAGA-Nowe-deklaracje-i-nowa-oplata-Zumba-dla-doroslych-od-1-stycznia-2022.png
END:VEVENT
BEGIN:VEVENT
DTSTART;TZID=Europe/Warsaw:20210513T185000
DTEND;TZID=Europe/Warsaw:20210513T195000
DTSTAMP:20260421T173402
CREATED:20220428T080324Z
LAST-MODIFIED:20220428T080324Z
UID:40059-1620931800-1620935400@gckib.iwanowice.pl
SUMMARY:Zumba Fitness
DESCRIPTION:Połączenie tańców latynoamerykańskich z fitnessem. Rytmy salsy\, cumbii\, reggaetonu\, morengue\, cha-chy i innych. Zumba Fitness poprawia sylwetkę i pozwala na zrzucenie wagi w przyjemny sposób. \nZajęcia odbywają się w środy od godziny 18:50 do 19:50.
URL:https://gckib.iwanowice.pl/wydarzenie/zumba-fitness-2-2021-05-13/
LOCATION:SP/ Orlik w Iwanowicach
CATEGORIES:Zumba
ATTACH;FMTTYPE=image/png:https://gckib.iwanowice.pl/wp-content/uploads/2021/06/UWAGA-Nowe-deklaracje-i-nowa-oplata-Zumba-dla-doroslych-od-1-stycznia-2022.png
END:VEVENT
BEGIN:VEVENT
DTSTART;TZID=Europe/Warsaw:20210519T170000
DTEND;TZID=Europe/Warsaw:20210519T174500
DTSTAMP:20260421T173402
CREATED:20220428T075329Z
LAST-MODIFIED:20220428T075329Z
UID:39884-1621443600-1621446300@gckib.iwanowice.pl
SUMMARY:Zumba kids
DESCRIPTION:Zumba dla dzieci. Choreografie łatwe do powtórzenia i zapamiętania. Dzieci uczą się różnych tańców np. cumbia\, reggaeton\, hip-hop\, merengue\, salsa itd. Czas trwania zajęć 45 minut. Koszt 60 zł za miesiąc.
URL:https://gckib.iwanowice.pl/wydarzenie/zumba-kids-2-2021-05-19/
CATEGORIES:Zumba
ATTACH;FMTTYPE=image/png:https://gckib.iwanowice.pl/wp-content/uploads/2021/06/UWAGA-Nowe-deklaracje-i-nowa-oplata-Zumba-dla-doroslych-od-1-stycznia-2022.png
END:VEVENT
BEGIN:VEVENT
DTSTART;TZID=Europe/Warsaw:20210519T175000
DTEND;TZID=Europe/Warsaw:20210519T185000
DTSTAMP:20260421T173402
CREATED:20220428T075804Z
LAST-MODIFIED:20220428T075804Z
UID:39954-1621446600-1621450200@gckib.iwanowice.pl
SUMMARY:Zumba Gold
DESCRIPTION:Zajęcia o mniejszej intensywności i wolniejszym tempie. W ramach tego programu wykorzystywane są eleementy merengue\, salsy\, cumbii\, tańca brzucha\, flamenco\, tanga i nie tylko. \nZajęcia odbywają się w środy od godziny 17:50 do 18:50. \n  \n 
URL:https://gckib.iwanowice.pl/wydarzenie/zumba-gold-2021-05-19/
LOCATION:Gminne Centrum Kultury i Bibliotek w Iwanowicach\, Strażacka 5\, Iwanowice Włościańskie
CATEGORIES:Zumba
ATTACH;FMTTYPE=image/png:https://gckib.iwanowice.pl/wp-content/uploads/2021/06/UWAGA-Nowe-deklaracje-i-nowa-oplata-Zumba-dla-doroslych-od-1-stycznia-2022.png
END:VEVENT
BEGIN:VEVENT
DTSTART;TZID=Europe/Warsaw:20210519T185000
DTEND;TZID=Europe/Warsaw:20210519T195000
DTSTAMP:20260421T173402
CREATED:20220428T080324Z
LAST-MODIFIED:20220428T080324Z
UID:40162-1621450200-1621453800@gckib.iwanowice.pl
SUMMARY:Zumba Fitness
DESCRIPTION:Połączenie tańców latynoamerykańskich z fitnessem. Rytmy salsy\, cumbii\, reggaetonu\, morengue\, cha-chy i innych. Zumba Fitness poprawia sylwetkę i pozwala na zrzucenie wagi w przyjemny sposób. \nZajęcia odbywają się w środy od godziny 18:50 do 19:50.
URL:https://gckib.iwanowice.pl/wydarzenie/zumba-fitness-2-2021-05-19/
LOCATION:SP/ Orlik w Iwanowicach
CATEGORIES:Zumba
ATTACH;FMTTYPE=image/png:https://gckib.iwanowice.pl/wp-content/uploads/2021/06/UWAGA-Nowe-deklaracje-i-nowa-oplata-Zumba-dla-doroslych-od-1-stycznia-2022.png
END:VEVENT
BEGIN:VEVENT
DTSTART;TZID=Europe/Warsaw:20210520T185000
DTEND;TZID=Europe/Warsaw:20210520T195000
DTSTAMP:20260421T173402
CREATED:20220428T080324Z
LAST-MODIFIED:20220428T080324Z
UID:40060-1621536600-1621540200@gckib.iwanowice.pl
SUMMARY:Zumba Fitness
DESCRIPTION:Połączenie tańców latynoamerykańskich z fitnessem. Rytmy salsy\, cumbii\, reggaetonu\, morengue\, cha-chy i innych. Zumba Fitness poprawia sylwetkę i pozwala na zrzucenie wagi w przyjemny sposób. \nZajęcia odbywają się w środy od godziny 18:50 do 19:50.
URL:https://gckib.iwanowice.pl/wydarzenie/zumba-fitness-2-2021-05-20/
LOCATION:SP/ Orlik w Iwanowicach
CATEGORIES:Zumba
ATTACH;FMTTYPE=image/png:https://gckib.iwanowice.pl/wp-content/uploads/2021/06/UWAGA-Nowe-deklaracje-i-nowa-oplata-Zumba-dla-doroslych-od-1-stycznia-2022.png
END:VEVENT
BEGIN:VEVENT
DTSTART;VALUE=DATE:20210521
DTEND;VALUE=DATE:20210522
DTSTAMP:20260421T173402
CREATED:20210712T070207Z
LAST-MODIFIED:20210712T070207Z
UID:34625-1621555200-1621641599@gckib.iwanowice.pl
SUMMARY:Konkurs “Zawody przyszłości” - SP Sieciechowice
DESCRIPTION:Zgłoszenia zostają przedłużone do 21 maja br.
URL:https://gckib.iwanowice.pl/wydarzenie/konkurs-zawody-przyszlosci-sp-sieciechowice/
ATTACH;FMTTYPE=image/jpeg:https://gckib.iwanowice.pl/wp-content/uploads/2021/07/0001.jpg
END:VEVENT
BEGIN:VEVENT
DTSTART;TZID=Europe/Warsaw:20210526T170000
DTEND;TZID=Europe/Warsaw:20210526T174500
DTSTAMP:20260421T173402
CREATED:20220428T075329Z
LAST-MODIFIED:20220428T075329Z
UID:39885-1622048400-1622051100@gckib.iwanowice.pl
SUMMARY:Zumba kids
DESCRIPTION:Zumba dla dzieci. Choreografie łatwe do powtórzenia i zapamiętania. Dzieci uczą się różnych tańców np. cumbia\, reggaeton\, hip-hop\, merengue\, salsa itd. Czas trwania zajęć 45 minut. Koszt 60 zł za miesiąc.
URL:https://gckib.iwanowice.pl/wydarzenie/zumba-kids-2-2021-05-26/
CATEGORIES:Zumba
ATTACH;FMTTYPE=image/png:https://gckib.iwanowice.pl/wp-content/uploads/2021/06/UWAGA-Nowe-deklaracje-i-nowa-oplata-Zumba-dla-doroslych-od-1-stycznia-2022.png
END:VEVENT
BEGIN:VEVENT
DTSTART;TZID=Europe/Warsaw:20210526T175000
DTEND;TZID=Europe/Warsaw:20210526T185000
DTSTAMP:20260421T173402
CREATED:20220428T075804Z
LAST-MODIFIED:20220428T075804Z
UID:39955-1622051400-1622055000@gckib.iwanowice.pl
SUMMARY:Zumba Gold
DESCRIPTION:Zajęcia o mniejszej intensywności i wolniejszym tempie. W ramach tego programu wykorzystywane są eleementy merengue\, salsy\, cumbii\, tańca brzucha\, flamenco\, tanga i nie tylko. \nZajęcia odbywają się w środy od godziny 17:50 do 18:50. \n  \n 
URL:https://gckib.iwanowice.pl/wydarzenie/zumba-gold-2021-05-26/
LOCATION:Gminne Centrum Kultury i Bibliotek w Iwanowicach\, Strażacka 5\, Iwanowice Włościańskie
CATEGORIES:Zumba
ATTACH;FMTTYPE=image/png:https://gckib.iwanowice.pl/wp-content/uploads/2021/06/UWAGA-Nowe-deklaracje-i-nowa-oplata-Zumba-dla-doroslych-od-1-stycznia-2022.png
END:VEVENT
BEGIN:VEVENT
DTSTART;TZID=Europe/Warsaw:20210526T185000
DTEND;TZID=Europe/Warsaw:20210526T195000
DTSTAMP:20260421T173402
CREATED:20220428T080324Z
LAST-MODIFIED:20220428T080324Z
UID:40163-1622055000-1622058600@gckib.iwanowice.pl
SUMMARY:Zumba Fitness
DESCRIPTION:Połączenie tańców latynoamerykańskich z fitnessem. Rytmy salsy\, cumbii\, reggaetonu\, morengue\, cha-chy i innych. Zumba Fitness poprawia sylwetkę i pozwala na zrzucenie wagi w przyjemny sposób. \nZajęcia odbywają się w środy od godziny 18:50 do 19:50.
URL:https://gckib.iwanowice.pl/wydarzenie/zumba-fitness-2-2021-05-26/
LOCATION:SP/ Orlik w Iwanowicach
CATEGORIES:Zumba
ATTACH;FMTTYPE=image/png:https://gckib.iwanowice.pl/wp-content/uploads/2021/06/UWAGA-Nowe-deklaracje-i-nowa-oplata-Zumba-dla-doroslych-od-1-stycznia-2022.png
END:VEVENT
BEGIN:VEVENT
DTSTART;TZID=Europe/Warsaw:20210527T185000
DTEND;TZID=Europe/Warsaw:20210527T195000
DTSTAMP:20260421T173402
CREATED:20220428T080324Z
LAST-MODIFIED:20220428T080324Z
UID:40061-1622141400-1622145000@gckib.iwanowice.pl
SUMMARY:Zumba Fitness
DESCRIPTION:Połączenie tańców latynoamerykańskich z fitnessem. Rytmy salsy\, cumbii\, reggaetonu\, morengue\, cha-chy i innych. Zumba Fitness poprawia sylwetkę i pozwala na zrzucenie wagi w przyjemny sposób. \nZajęcia odbywają się w środy od godziny 18:50 do 19:50.
URL:https://gckib.iwanowice.pl/wydarzenie/zumba-fitness-2-2021-05-27/
LOCATION:SP/ Orlik w Iwanowicach
CATEGORIES:Zumba
ATTACH;FMTTYPE=image/png:https://gckib.iwanowice.pl/wp-content/uploads/2021/06/UWAGA-Nowe-deklaracje-i-nowa-oplata-Zumba-dla-doroslych-od-1-stycznia-2022.png
END:VEVENT
END:VCALENDAR