BEGIN:VCALENDAR
VERSION:2.0
PRODID:-//GCKiB - ECPv6.15.20//NONSGML v1.0//EN
CALSCALE:GREGORIAN
METHOD:PUBLISH
X-WR-CALNAME:GCKiB
X-ORIGINAL-URL:https://gckib.iwanowice.pl
X-WR-CALDESC:Wydarzenia dla GCKiB
REFRESH-INTERVAL;VALUE=DURATION:PT1H
X-Robots-Tag:noindex
X-PUBLISHED-TTL:PT1H
BEGIN:VTIMEZONE
TZID:Europe/Warsaw
BEGIN:DAYLIGHT
TZOFFSETFROM:+0100
TZOFFSETTO:+0200
TZNAME:CEST
DTSTART:20190331T010000
END:DAYLIGHT
BEGIN:STANDARD
TZOFFSETFROM:+0200
TZOFFSETTO:+0100
TZNAME:CET
DTSTART:20191027T010000
END:STANDARD
BEGIN:DAYLIGHT
TZOFFSETFROM:+0100
TZOFFSETTO:+0200
TZNAME:CEST
DTSTART:20200329T010000
END:DAYLIGHT
BEGIN:STANDARD
TZOFFSETFROM:+0200
TZOFFSETTO:+0100
TZNAME:CET
DTSTART:20201025T010000
END:STANDARD
BEGIN:DAYLIGHT
TZOFFSETFROM:+0100
TZOFFSETTO:+0200
TZNAME:CEST
DTSTART:20210328T010000
END:DAYLIGHT
BEGIN:STANDARD
TZOFFSETFROM:+0200
TZOFFSETTO:+0100
TZNAME:CET
DTSTART:20211031T010000
END:STANDARD
END:VTIMEZONE
BEGIN:VEVENT
DTSTART;VALUE=DATE:20201107
DTEND;VALUE=DATE:20201108
DTSTAMP:20260422T042941
CREATED:20200212T114346Z
LAST-MODIFIED:20200212T114346Z
UID:30076-1604707200-1604793599@gckib.iwanowice.pl
SUMMARY:Iwanowicki Bieg Niepodległości
DESCRIPTION:
URL:https://gckib.iwanowice.pl/wydarzenie/iwanowicki-bieg-niepodleglosci/
END:VEVENT
BEGIN:VEVENT
DTSTART;VALUE=DATE:20201108
DTEND;VALUE=DATE:20201109
DTSTAMP:20260422T042942
CREATED:20200212T114431Z
LAST-MODIFIED:20200212T114431Z
UID:30079-1604793600-1604879999@gckib.iwanowice.pl
SUMMARY:Zaduszki Patriotyczne w Sieciechowicach
DESCRIPTION:
URL:https://gckib.iwanowice.pl/wydarzenie/zaduszki-patriotyczne-w-sieciechowicach/
LOCATION:Sieciechowice
END:VEVENT
BEGIN:VEVENT
DTSTART;VALUE=DATE:20201111
DTEND;VALUE=DATE:20201112
DTSTAMP:20260422T042942
CREATED:20200212T114601Z
LAST-MODIFIED:20200212T114637Z
UID:30082-1605052800-1605139199@gckib.iwanowice.pl
SUMMARY:Obchody Święta Niepodległości
DESCRIPTION:
URL:https://gckib.iwanowice.pl/wydarzenie/ii-iwanowicka-lekcja-spiewu-piesni-patriotycznych/
END:VEVENT
BEGIN:VEVENT
DTSTART;VALUE=DATE:20201111
DTEND;VALUE=DATE:20201112
DTSTAMP:20260422T042942
CREATED:20200212T114752Z
LAST-MODIFIED:20200212T114752Z
UID:30085-1605052800-1605139199@gckib.iwanowice.pl
SUMMARY:Iwanowicka Lekcja Śpiewu Pieśni Patriotycznych
DESCRIPTION:
URL:https://gckib.iwanowice.pl/wydarzenie/iwanowicka-lekcja-spiewu-piesni-patriotycznych/
LOCATION:Iwanowice
END:VEVENT
BEGIN:VEVENT
DTSTART;VALUE=DATE:20201111
DTEND;VALUE=DATE:20201112
DTSTAMP:20260422T042942
CREATED:20200212T114833Z
LAST-MODIFIED:20200212T114833Z
UID:30088-1605052800-1605139199@gckib.iwanowice.pl
SUMMARY:Wernisaż "Ocalmy od zapomnienia dzieje zapomnienia"
DESCRIPTION:
URL:https://gckib.iwanowice.pl/wydarzenie/wernisaz-ocalmy-od-zapomnienia-dzieje-zapomnienia/
END:VEVENT
END:VCALENDAR