BEGIN:VCALENDAR
VERSION:2.0
PRODID:-//GCKiB - ECPv6.15.20//NONSGML v1.0//EN
CALSCALE:GREGORIAN
METHOD:PUBLISH
X-WR-CALNAME:GCKiB
X-ORIGINAL-URL:https://gckib.iwanowice.pl
X-WR-CALDESC:Wydarzenia dla GCKiB
REFRESH-INTERVAL;VALUE=DURATION:PT1H
X-Robots-Tag:noindex
X-PUBLISHED-TTL:PT1H
BEGIN:VTIMEZONE
TZID:Europe/Warsaw
BEGIN:DAYLIGHT
TZOFFSETFROM:+0100
TZOFFSETTO:+0200
TZNAME:CEST
DTSTART:20190331T010000
END:DAYLIGHT
BEGIN:STANDARD
TZOFFSETFROM:+0200
TZOFFSETTO:+0100
TZNAME:CET
DTSTART:20191027T010000
END:STANDARD
BEGIN:DAYLIGHT
TZOFFSETFROM:+0100
TZOFFSETTO:+0200
TZNAME:CEST
DTSTART:20200329T010000
END:DAYLIGHT
BEGIN:STANDARD
TZOFFSETFROM:+0200
TZOFFSETTO:+0100
TZNAME:CET
DTSTART:20201025T010000
END:STANDARD
BEGIN:DAYLIGHT
TZOFFSETFROM:+0100
TZOFFSETTO:+0200
TZNAME:CEST
DTSTART:20210328T010000
END:DAYLIGHT
BEGIN:STANDARD
TZOFFSETFROM:+0200
TZOFFSETTO:+0100
TZNAME:CET
DTSTART:20211031T010000
END:STANDARD
END:VTIMEZONE
BEGIN:VEVENT
DTSTART;VALUE=DATE:20200505
DTEND;VALUE=DATE:20200506
DTSTAMP:20260422T150351
CREATED:20200212T112514Z
LAST-MODIFIED:20200421T133213Z
UID:30042-1588636800-1588723199@gckib.iwanowice.pl
SUMMARY:Powiatowy Konkurs Języka Angielskiego dla klas III "Best in English"
DESCRIPTION:Wydarzenie odwołane
URL:https://gckib.iwanowice.pl/wydarzenie/powiatowy-konkurs-jezyka-angielskiego-dla-klas-iii-best-in-english-2/
LOCATION:Celiny
END:VEVENT
BEGIN:VEVENT
DTSTART;VALUE=DATE:20200506
DTEND;VALUE=DATE:20200507
DTSTAMP:20260422T150351
CREATED:20200212T112251Z
LAST-MODIFIED:20200421T133207Z
UID:30039-1588723200-1588809599@gckib.iwanowice.pl
SUMMARY:Gminny Konkurs Ortograficzny "Mistrz Ortografii"
DESCRIPTION:Wydarzenie odwołane
URL:https://gckib.iwanowice.pl/wydarzenie/gminny-konkurs-ortograficzny-mistrz-ortografii/
LOCATION:SP Celiny
END:VEVENT
BEGIN:VEVENT
DTSTART;TZID=Europe/Warsaw:20200507T191500
DTEND;TZID=Europe/Warsaw:20200507T201500
DTSTAMP:20260422T150351
CREATED:20200506T071309Z
LAST-MODIFIED:20200506T071337Z
UID:30805-1588878900-1588882500@gckib.iwanowice.pl
SUMMARY:Fitness online
DESCRIPTION:Zajęcia fitness online odbywają się w poniedziałki (godz. 20:15) oraz czwartki (godzi. 19:15). Więcej informacji udziela p. Marta Stępień-Nalewajko (instruktor) oraz Gminne Centrum Kultury i Bibliotek w Iwanowicach.
URL:https://gckib.iwanowice.pl/wydarzenie/fitness-online-2/
END:VEVENT
BEGIN:VEVENT
DTSTART;TZID=Europe/Warsaw:20200509T090000
DTEND;TZID=Europe/Warsaw:20200509T140000
DTSTAMP:20260422T150351
CREATED:20200115T080223Z
LAST-MODIFIED:20200421T133200Z
UID:29278-1589014800-1589032800@gckib.iwanowice.pl
SUMMARY:Uniwersytet Dziecięcy - Tajemnice wirującego bączka
DESCRIPTION:Wydarzenie odwołane \n  \n 
URL:https://gckib.iwanowice.pl/wydarzenie/uniwersytet-dzieciecy-tajemnice-wirujacego-baczka/
ATTACH;FMTTYPE=image/jpeg:https://gckib.iwanowice.pl/wp-content/uploads/2020/01/00015-1.jpg
END:VEVENT
BEGIN:VEVENT
DTSTART;TZID=Europe/Warsaw:20200511T201500
DTEND;TZID=Europe/Warsaw:20200511T210000
DTSTAMP:20260422T150351
CREATED:20200421T135829Z
LAST-MODIFIED:20200828T121342Z
UID:30667-1589228100-1589230800@gckib.iwanowice.pl
SUMMARY:Fitness online
DESCRIPTION:Zajęcia fitness online odbywają się w poniedziałki (godz. 20:15) oraz czwartki (godzi. 19:15). Więcej informacji udziela p. Marta Stępień-Nalewajko (instruktor) oraz Gminne Centrum Kultury i Bibliotek w Iwanowicach.
URL:https://gckib.iwanowice.pl/wydarzenie/fitness-online-2020-05-11/
END:VEVENT
BEGIN:VEVENT
DTSTART;VALUE=DATE:20200516
DTEND;VALUE=DATE:20200517
DTSTAMP:20260422T150351
CREATED:20200212T112615Z
LAST-MODIFIED:20200421T121541Z
UID:30044-1589587200-1589673599@gckib.iwanowice.pl
SUMMARY:Gminny Dzień Seniora
DESCRIPTION:Wydarzenie odwołane
URL:https://gckib.iwanowice.pl/wydarzenie/gminny-dzien-seniora/
LOCATION:Klub Seniora w Damicach
END:VEVENT
BEGIN:VEVENT
DTSTART;VALUE=DATE:20200517
DTEND;VALUE=DATE:20200518
DTSTAMP:20260422T150351
CREATED:20200212T113034Z
LAST-MODIFIED:20200421T133148Z
UID:30047-1589673600-1589759999@gckib.iwanowice.pl
SUMMARY:Festyn Rodzinny "Z ojcem świętym przez świat"
DESCRIPTION:Wydarzenie odwołane
URL:https://gckib.iwanowice.pl/wydarzenie/festyn-rodzinny-z-ojcem-swietym-przez-swiat/
END:VEVENT
BEGIN:VEVENT
DTSTART;VALUE=DATE:20200531
DTEND;VALUE=DATE:20200601
DTSTAMP:20260422T150351
CREATED:20200212T113115Z
LAST-MODIFIED:20200421T120845Z
UID:30049-1590883200-1590969599@gckib.iwanowice.pl
SUMMARY:Festyn "Niedziela z Rodziną" w Sieciechowicach
DESCRIPTION:Wydarzenie odwołane
URL:https://gckib.iwanowice.pl/wydarzenie/festyn-niedziela-z-rodzina-w-sieciechowicach/
END:VEVENT
END:VCALENDAR