BEGIN:VCALENDAR
VERSION:2.0
PRODID:-//GCKiB - ECPv6.15.20//NONSGML v1.0//EN
CALSCALE:GREGORIAN
METHOD:PUBLISH
X-WR-CALNAME:GCKiB
X-ORIGINAL-URL:https://gckib.iwanowice.pl
X-WR-CALDESC:Wydarzenia dla GCKiB
REFRESH-INTERVAL;VALUE=DURATION:PT1H
X-Robots-Tag:noindex
X-PUBLISHED-TTL:PT1H
BEGIN:VTIMEZONE
TZID:Europe/Warsaw
BEGIN:DAYLIGHT
TZOFFSETFROM:+0100
TZOFFSETTO:+0200
TZNAME:CEST
DTSTART:20190331T010000
END:DAYLIGHT
BEGIN:STANDARD
TZOFFSETFROM:+0200
TZOFFSETTO:+0100
TZNAME:CET
DTSTART:20191027T010000
END:STANDARD
BEGIN:DAYLIGHT
TZOFFSETFROM:+0100
TZOFFSETTO:+0200
TZNAME:CEST
DTSTART:20200329T010000
END:DAYLIGHT
BEGIN:STANDARD
TZOFFSETFROM:+0200
TZOFFSETTO:+0100
TZNAME:CET
DTSTART:20201025T010000
END:STANDARD
BEGIN:DAYLIGHT
TZOFFSETFROM:+0100
TZOFFSETTO:+0200
TZNAME:CEST
DTSTART:20210328T010000
END:DAYLIGHT
BEGIN:STANDARD
TZOFFSETFROM:+0200
TZOFFSETTO:+0100
TZNAME:CET
DTSTART:20211031T010000
END:STANDARD
END:VTIMEZONE
BEGIN:VEVENT
DTSTART;TZID=Europe/Warsaw:20200403T080000
DTEND;TZID=Europe/Warsaw:20200403T170000
DTSTAMP:20260422T164721
CREATED:20200212T111833Z
LAST-MODIFIED:20200323T140242Z
UID:30034-1585900800-1585933200@gckib.iwanowice.pl
SUMMARY:XIV Gminny Konkurs na Tradycyjną Palmę Wielkanocną
DESCRIPTION:Więcej informacji udziela Szkoła Podstawowa w Iwanowicach
URL:https://gckib.iwanowice.pl/wydarzenie/xiv-gminny-konkurs-na-tradycyjna-palme-wielkanocna/
END:VEVENT
BEGIN:VEVENT
DTSTART;TZID=Europe/Warsaw:20200404T090000
DTEND;TZID=Europe/Warsaw:20200404T140000
DTSTAMP:20260422T164721
CREATED:20200115T080137Z
LAST-MODIFIED:20200323T140218Z
UID:29276-1585990800-1586008800@gckib.iwanowice.pl
SUMMARY:Uniwersytet Dziecięcy - Lustra
DESCRIPTION:Zajęcia odwołane
URL:https://gckib.iwanowice.pl/wydarzenie/uniwersytet-dzieciecy-lustra/
ATTACH;FMTTYPE=image/jpeg:https://gckib.iwanowice.pl/wp-content/uploads/2020/01/00015-1.jpg
END:VEVENT
BEGIN:VEVENT
DTSTART;TZID=Europe/Warsaw:20200420T201500
DTEND;TZID=Europe/Warsaw:20200420T210000
DTSTAMP:20260422T164721
CREATED:20200421T135829Z
LAST-MODIFIED:20200506T070203Z
UID:30660-1587413700-1587416400@gckib.iwanowice.pl
SUMMARY:Fitness online
DESCRIPTION:Zajęcia fitness online odbywają się w poniedziałki (godz. 20:15) oraz czwartki (godzi. 19:15). Więcej informacji udziela p. Marta Stępień-Nalewajko (instruktor) oraz Gminne Centrum Kultury i Bibliotek w Iwanowicach.
URL:https://gckib.iwanowice.pl/wydarzenie/fitness-online/
END:VEVENT
BEGIN:VEVENT
DTSTART;TZID=Europe/Warsaw:20200426T080000
DTEND;TZID=Europe/Warsaw:20200426T170000
DTSTAMP:20260422T164721
CREATED:20200212T112105Z
LAST-MODIFIED:20200324T095318Z
UID:30036-1587888000-1587920400@gckib.iwanowice.pl
SUMMARY:Niebieski Bieg Świadomości Autyzmu
DESCRIPTION:Wydarzenie odwołane
URL:https://gckib.iwanowice.pl/wydarzenie/niebieski-bieg-swiadomosci-autyzmu-2/
END:VEVENT
END:VCALENDAR