BEGIN:VCALENDAR
VERSION:2.0
PRODID:-//GCKiB - ECPv6.15.20//NONSGML v1.0//EN
CALSCALE:GREGORIAN
METHOD:PUBLISH
X-ORIGINAL-URL:https://gckib.iwanowice.pl
X-WR-CALDESC:Wydarzenia dla GCKiB
REFRESH-INTERVAL;VALUE=DURATION:PT1H
X-Robots-Tag:noindex
X-PUBLISHED-TTL:PT1H
BEGIN:VTIMEZONE
TZID:Europe/Warsaw
BEGIN:DAYLIGHT
TZOFFSETFROM:+0100
TZOFFSETTO:+0200
TZNAME:CEST
DTSTART:20190331T010000
END:DAYLIGHT
BEGIN:STANDARD
TZOFFSETFROM:+0200
TZOFFSETTO:+0100
TZNAME:CET
DTSTART:20191027T010000
END:STANDARD
BEGIN:DAYLIGHT
TZOFFSETFROM:+0100
TZOFFSETTO:+0200
TZNAME:CEST
DTSTART:20200329T010000
END:DAYLIGHT
BEGIN:STANDARD
TZOFFSETFROM:+0200
TZOFFSETTO:+0100
TZNAME:CET
DTSTART:20201025T010000
END:STANDARD
BEGIN:DAYLIGHT
TZOFFSETFROM:+0100
TZOFFSETTO:+0200
TZNAME:CEST
DTSTART:20210328T010000
END:DAYLIGHT
BEGIN:STANDARD
TZOFFSETFROM:+0200
TZOFFSETTO:+0100
TZNAME:CET
DTSTART:20211031T010000
END:STANDARD
END:VTIMEZONE
BEGIN:VEVENT
DTSTART;TZID=Europe/Warsaw:20200304T183000
DTEND;TZID=Europe/Warsaw:20200304T193000
DTSTAMP:20260422T183906
CREATED:20200124T100813Z
LAST-MODIFIED:20200124T101456Z
UID:29890-1583346600-1583350200@gckib.iwanowice.pl
SUMMARY:Fitness - Szkoła Podstawowa Iwanowice
DESCRIPTION:
URL:https://gckib.iwanowice.pl/wydarzenie/fitness-37/
LOCATION:SP w Iwanowicach
ATTACH;FMTTYPE=image/jpeg:https://gckib.iwanowice.pl/wp-content/uploads/2020/01/post-07.jpg
ORGANIZER;CN="Iwanowice LOWE":MAILTO:mswiatek@iwanowice.pl
END:VEVENT
BEGIN:VEVENT
DTSTART;TZID=Europe/Warsaw:20200307T090000
DTEND;TZID=Europe/Warsaw:20200307T140000
DTSTAMP:20260422T183906
CREATED:20200115T075930Z
LAST-MODIFIED:20200115T080029Z
UID:29274-1583571600-1583589600@gckib.iwanowice.pl
SUMMARY:Uniwersytet Dziecięcy - Elektrostatyka
DESCRIPTION:
URL:https://gckib.iwanowice.pl/wydarzenie/uniwersytet-dzieciecy-elektrostatyka/
ATTACH;FMTTYPE=image/jpeg:https://gckib.iwanowice.pl/wp-content/uploads/2020/01/00015-1.jpg
END:VEVENT
BEGIN:VEVENT
DTSTART;VALUE=DATE:20200312
DTEND;VALUE=DATE:20200313
DTSTAMP:20260422T183906
CREATED:20200204T102144Z
LAST-MODIFIED:20200204T102144Z
UID:29984-1583971200-1584057599@gckib.iwanowice.pl
SUMMARY:V Konkurs na Godkę - finał
DESCRIPTION:Zgłoszenia należy dokonać drogą elektroniczną (adres e-mail: miesiąc.jezyka.ojczystego@uj.edu.pl) do 17 lutego 2020 roku. \nWięcej informacji na: \nhttp://mjo.uj.edu.pl/konkursy-2020/
URL:https://gckib.iwanowice.pl/wydarzenie/v-konkurs-na-godke-final/
ATTACH;FMTTYPE=image/png:https://gckib.iwanowice.pl/wp-content/uploads/2020/02/plakat_konkursy_MJO_2020.png
END:VEVENT
BEGIN:VEVENT
DTSTART;TZID=Europe/Warsaw:20200318T183000
DTEND;TZID=Europe/Warsaw:20200318T193000
DTSTAMP:20260422T183906
CREATED:20200116T075812Z
LAST-MODIFIED:20200323T140400Z
UID:29375-1584556200-1584559800@gckib.iwanowice.pl
SUMMARY:Fitness - Szkoła Podstawowa w Iwanowicach
DESCRIPTION:Zajęcia odwołane
URL:https://gckib.iwanowice.pl/wydarzenie/fitness-20-2020-03-18/
LOCATION:SP w Iwanowicach
ATTACH;FMTTYPE=image/jpeg:https://gckib.iwanowice.pl/wp-content/uploads/2020/01/post-07.jpg
ORGANIZER;CN="Iwanowice LOWE":MAILTO:mswiatek@iwanowice.pl
END:VEVENT
BEGIN:VEVENT
DTSTART;TZID=Europe/Warsaw:20200324T180000
DTEND;TZID=Europe/Warsaw:20200324T190000
DTSTAMP:20260422T183906
CREATED:20200116T075437Z
LAST-MODIFIED:20200323T140350Z
UID:29349-1585072800-1585076400@gckib.iwanowice.pl
SUMMARY:Fitness - Szkoła Podstawowa w Sieciechowicach
DESCRIPTION:Zajęcia odwołane
URL:https://gckib.iwanowice.pl/wydarzenie/fitness-11-2020-03-24/
LOCATION:SP w Sieciechowicach
ATTACH;FMTTYPE=image/jpeg:https://gckib.iwanowice.pl/wp-content/uploads/2020/01/post-07.jpg
ORGANIZER;CN="Iwanowice LOWE":MAILTO:mswiatek@iwanowice.pl
END:VEVENT
BEGIN:VEVENT
DTSTART;TZID=Europe/Warsaw:20200324T200000
DTEND;TZID=Europe/Warsaw:20200324T210000
DTSTAMP:20260422T183906
CREATED:20200116T080045Z
LAST-MODIFIED:20200323T140336Z
UID:29405-1585080000-1585083600@gckib.iwanowice.pl
SUMMARY:Fitness - Świetlica Poskwitów Stary
DESCRIPTION:Zajęcia odwołane
URL:https://gckib.iwanowice.pl/wydarzenie/fitness-29-2020-03-24/
LOCATION:Świetlica Poskwitów Stary
ATTACH;FMTTYPE=image/jpeg:https://gckib.iwanowice.pl/wp-content/uploads/2020/01/post-07.jpg
ORGANIZER;CN="Iwanowice LOWE":MAILTO:mswiatek@iwanowice.pl
END:VEVENT
BEGIN:VEVENT
DTSTART;TZID=Europe/Warsaw:20200325T183000
DTEND;TZID=Europe/Warsaw:20200325T193000
DTSTAMP:20260422T183906
CREATED:20200116T075812Z
LAST-MODIFIED:20200323T140329Z
UID:29376-1585161000-1585164600@gckib.iwanowice.pl
SUMMARY:Fitness - Szkoła Podstawowa w Iwanowicach
DESCRIPTION:Zajęcia odwołane
URL:https://gckib.iwanowice.pl/wydarzenie/fitness-20-2020-03-25/
LOCATION:SP w Iwanowicach
ATTACH;FMTTYPE=image/jpeg:https://gckib.iwanowice.pl/wp-content/uploads/2020/01/post-07.jpg
ORGANIZER;CN="Iwanowice LOWE":MAILTO:mswiatek@iwanowice.pl
END:VEVENT
BEGIN:VEVENT
DTSTART;TZID=Europe/Warsaw:20200326T080000
DTEND;TZID=Europe/Warsaw:20200326T170000
DTSTAMP:20260422T183906
CREATED:20200212T111137Z
LAST-MODIFIED:20200323T140322Z
UID:30031-1585209600-1585242000@gckib.iwanowice.pl
SUMMARY:Gminny Konkurs Wiedzy o Krakowie
DESCRIPTION:Konkurs odwołany. Więcej informacji udziela Szkoła Podstawowa im. J. Bosko w Celinach
URL:https://gckib.iwanowice.pl/wydarzenie/gminny-konkurs-wiedzy-o-krakowie-2/
END:VEVENT
BEGIN:VEVENT
DTSTART;TZID=Europe/Warsaw:20200331T180000
DTEND;TZID=Europe/Warsaw:20200331T190000
DTSTAMP:20260422T183906
CREATED:20200116T075437Z
LAST-MODIFIED:20200323T140301Z
UID:29350-1585677600-1585681200@gckib.iwanowice.pl
SUMMARY:Fitness - Szkoła Podstawowa w Sieciechowicach
DESCRIPTION:Zajęcia odwołane
URL:https://gckib.iwanowice.pl/wydarzenie/fitness-11-2020-03-31/
LOCATION:SP w Sieciechowicach
ATTACH;FMTTYPE=image/jpeg:https://gckib.iwanowice.pl/wp-content/uploads/2020/01/post-07.jpg
ORGANIZER;CN="Iwanowice LOWE":MAILTO:mswiatek@iwanowice.pl
END:VEVENT
BEGIN:VEVENT
DTSTART;TZID=Europe/Warsaw:20200331T200000
DTEND;TZID=Europe/Warsaw:20200331T210000
DTSTAMP:20260422T183906
CREATED:20200116T080045Z
LAST-MODIFIED:20200323T140255Z
UID:29406-1585684800-1585688400@gckib.iwanowice.pl
SUMMARY:Fitness - Świetlica Poskwitów Stary
DESCRIPTION:Zajęcia odwołane
URL:https://gckib.iwanowice.pl/wydarzenie/fitness-29-2020-03-31/
LOCATION:Świetlica Poskwitów Stary
ATTACH;FMTTYPE=image/jpeg:https://gckib.iwanowice.pl/wp-content/uploads/2020/01/post-07.jpg
ORGANIZER;CN="Iwanowice LOWE":MAILTO:mswiatek@iwanowice.pl
END:VEVENT
END:VCALENDAR