BEGIN:VCALENDAR
VERSION:2.0
PRODID:-//GCKiB - ECPv6.15.20//NONSGML v1.0//EN
CALSCALE:GREGORIAN
METHOD:PUBLISH
X-WR-CALNAME:GCKiB
X-ORIGINAL-URL:https://gckib.iwanowice.pl
X-WR-CALDESC:Wydarzenia dla GCKiB
REFRESH-INTERVAL;VALUE=DURATION:PT1H
X-Robots-Tag:noindex
X-PUBLISHED-TTL:PT1H
BEGIN:VTIMEZONE
TZID:Europe/Warsaw
BEGIN:DAYLIGHT
TZOFFSETFROM:+0100
TZOFFSETTO:+0200
TZNAME:CEST
DTSTART:20190331T010000
END:DAYLIGHT
BEGIN:STANDARD
TZOFFSETFROM:+0200
TZOFFSETTO:+0100
TZNAME:CET
DTSTART:20191027T010000
END:STANDARD
BEGIN:DAYLIGHT
TZOFFSETFROM:+0100
TZOFFSETTO:+0200
TZNAME:CEST
DTSTART:20200329T010000
END:DAYLIGHT
BEGIN:STANDARD
TZOFFSETFROM:+0200
TZOFFSETTO:+0100
TZNAME:CET
DTSTART:20201025T010000
END:STANDARD
BEGIN:DAYLIGHT
TZOFFSETFROM:+0100
TZOFFSETTO:+0200
TZNAME:CEST
DTSTART:20210328T010000
END:DAYLIGHT
BEGIN:STANDARD
TZOFFSETFROM:+0200
TZOFFSETTO:+0100
TZNAME:CET
DTSTART:20211031T010000
END:STANDARD
END:VTIMEZONE
BEGIN:VEVENT
DTSTART;TZID=Europe/Warsaw:20200204T110000
DTEND;TZID=Europe/Warsaw:20200204T123000
DTSTAMP:20260422T202156
CREATED:20200129T074705Z
LAST-MODIFIED:20200129T081250Z
UID:29936-1580814000-1580819400@gckib.iwanowice.pl
SUMMARY:Warsztaty plastyczne - temat: zima
DESCRIPTION:Zachęcamy wszystkie dzieci do udziału w warsztatach plastycznych\, które odbędą się 4-go lutego w bibliotece w Widomej. Podczas zajęć dzieci wykonywać będą prace o tematyce zimowej. Warsztaty są całkowicie bezpłatne!
URL:https://gckib.iwanowice.pl/wydarzenie/warsztaty-plastyczne-temat-zima/
ATTACH;FMTTYPE=image/png:https://gckib.iwanowice.pl/wp-content/uploads/2020/01/warsztaty-plastyczne-4-luty-zimowe-1.png
END:VEVENT
BEGIN:VEVENT
DTSTART;VALUE=DATE:20200213
DTEND;VALUE=DATE:20200214
DTSTAMP:20260422T202156
CREATED:20200115T082140Z
LAST-MODIFIED:20200207T102351Z
UID:29297-1581552000-1581638399@gckib.iwanowice.pl
SUMMARY:Zawody Łyżwiarskie w Sieciechowicach
DESCRIPTION:
URL:https://gckib.iwanowice.pl/wydarzenie/zawody-lyzwiarskie-w-sieciechowicach/
ATTACH;FMTTYPE=image/png:https://gckib.iwanowice.pl/wp-content/uploads/2020/01/Zawody-Łyżwiarskie-v2-program.png
END:VEVENT
BEGIN:VEVENT
DTSTART;TZID=Europe/Warsaw:20200215T100000
DTEND;TZID=Europe/Warsaw:20200215T123000
DTSTAMP:20260422T202156
CREATED:20200129T075322Z
LAST-MODIFIED:20200203T133749Z
UID:29939-1581760800-1581769800@gckib.iwanowice.pl
SUMMARY:Rekrutacja do "Iwanowickie Perełki"
DESCRIPTION:Pierwsza próba Gminnego Zespołu Ludowego „Iwanowickie Perełki” w tym roku już 15 lutego o godz. 10:00! Zapraszamy dzieci od 7 roku życia. Zajęcia odbywają się w świetlicy w miejscowości Poskwitów Stary. Są one całkowicie bezpłatne! Więcej informacji udziela GCKiB w Iwanowicach
URL:https://gckib.iwanowice.pl/wydarzenie/proba-zespolu-ludowego/
ATTACH;FMTTYPE=image/png:https://gckib.iwanowice.pl/wp-content/uploads/2020/01/rekrutacja-Iwanowickie-Perełki-animacja.png
END:VEVENT
BEGIN:VEVENT
DTSTART;TZID=Europe/Warsaw:20200221T180000
DTEND;TZID=Europe/Warsaw:20200221T220000
DTSTAMP:20260422T202156
CREATED:20200116T091415Z
LAST-MODIFIED:20200204T101456Z
UID:29567-1582308000-1582322400@gckib.iwanowice.pl
SUMMARY:Wspomnienie o Antonim Walaszczyku
DESCRIPTION:
URL:https://gckib.iwanowice.pl/wydarzenie/wieczernica-antoniego-walaszczyka/
ATTACH;FMTTYPE=image/png:https://gckib.iwanowice.pl/wp-content/uploads/2020/01/Wspomnienie-Antoniego-Walaszczyka-mniejszy-plik.png
END:VEVENT
END:VCALENDAR