BEGIN:VCALENDAR
VERSION:2.0
PRODID:-//GCKiB - ECPv6.15.20//NONSGML v1.0//EN
CALSCALE:GREGORIAN
METHOD:PUBLISH
X-WR-CALNAME:GCKiB
X-ORIGINAL-URL:https://gckib.iwanowice.pl
X-WR-CALDESC:Wydarzenia dla GCKiB
REFRESH-INTERVAL;VALUE=DURATION:PT1H
X-Robots-Tag:noindex
X-PUBLISHED-TTL:PT1H
BEGIN:VTIMEZONE
TZID:Europe/Warsaw
BEGIN:DAYLIGHT
TZOFFSETFROM:+0100
TZOFFSETTO:+0200
TZNAME:CEST
DTSTART:20180325T010000
END:DAYLIGHT
BEGIN:STANDARD
TZOFFSETFROM:+0200
TZOFFSETTO:+0100
TZNAME:CET
DTSTART:20181028T010000
END:STANDARD
BEGIN:DAYLIGHT
TZOFFSETFROM:+0100
TZOFFSETTO:+0200
TZNAME:CEST
DTSTART:20190331T010000
END:DAYLIGHT
BEGIN:STANDARD
TZOFFSETFROM:+0200
TZOFFSETTO:+0100
TZNAME:CET
DTSTART:20191027T010000
END:STANDARD
BEGIN:DAYLIGHT
TZOFFSETFROM:+0100
TZOFFSETTO:+0200
TZNAME:CEST
DTSTART:20200329T010000
END:DAYLIGHT
BEGIN:STANDARD
TZOFFSETFROM:+0200
TZOFFSETTO:+0100
TZNAME:CET
DTSTART:20201025T010000
END:STANDARD
END:VTIMEZONE
BEGIN:VEVENT
DTSTART;TZID=Europe/Warsaw:20190804T170000
DTEND;TZID=Europe/Warsaw:20190804T180000
DTSTAMP:20260423T070546
CREATED:20190218T131251Z
LAST-MODIFIED:20190719T112633Z
UID:22033-1564938000-1564941600@gckib.iwanowice.pl
SUMMARY:Wakacyjne Spotkanie z Muzyką
DESCRIPTION:4 sierpnia odbędą całodniowe warsztaty muzyczne dla dzieci i młodzieży wchodzącej w skład członkowski Reprezentacyjnej Orkiestry Tempo z Iwanowic. Warsztaty będą odbywały się w Szkole Podstawowej im. Jana Pawła II w Iwanowicach. \nZwieńczeniem warsztatów będzie koncert plenerowy orkiestry skierowany dla wszystkich mieszkańców. Koncert odbędzie o godz. 17:00 na terenie nowopowstałego placu zabaw w Iwanowicach Włościańskich (obok kościoła). Zapraszamy serdecznie wszystkich sympatyków muzyki! \n 
URL:https://gckib.iwanowice.pl/wydarzenie/wakacyjne-spotkanie-z-muzyka/
ATTACH;FMTTYPE=image/jpeg:https://gckib.iwanowice.pl/wp-content/uploads/2019/02/11164821_1618848848359996_7695817581996466288_n.jpg
END:VEVENT
BEGIN:VEVENT
DTSTART;TZID=Europe/Warsaw:20190811T080000
DTEND;TZID=Europe/Warsaw:20190811T170000
DTSTAMP:20260423T070546
CREATED:20190703T072607Z
LAST-MODIFIED:20190708T084938Z
UID:25196-1565510400-1565542800@gckib.iwanowice.pl
SUMMARY:Jubileusz 65-lecia OSP w Widomej
DESCRIPTION:Dnia 11 sierpnia 2019 r. odbędzie się uroczysty jubileusz 65-lecia istnienia jednostki Ochotniczej Straży Pożarnej w Widomej. Uroczystość odbędzie się na placu pod remizą. \n  \n  \nSzczegółowy plan wydarzenia: \n13.15 – Zbiórka jednostek przed remizą \n14.00 – Msza Święta w Kościele parafialnym Św. Piotra i Pawła w Widomej \n17.00 – Podniesienie flagi na maszt \n– Powitanie zaproszonych gości \n– Odczytanie kroniki \n– Odznaczenie zasłużonych druhów \n– Wystąpienie zaproszonych gości \n– Występ dzieci ze Szkoły Podstawowej w Widomej \n– Występ Kapeli Maszkowiacy \n– Występ Chóru „Fermata” z Zielonek \n– Koncert Orkiestry Dętej „Tempo” z Iwanowic \n– Wpis do księgi pamiątkowej \n– Zabawa taneczna
URL:https://gckib.iwanowice.pl/wydarzenie/jubileusz-65-lecia-osp-w-widomej/
LOCATION:OSP Widoma
ATTACH;FMTTYPE=image/png:https://gckib.iwanowice.pl/wp-content/uploads/2019/07/65-lecie-OSP-w-WIDOMEJ.png
END:VEVENT
BEGIN:VEVENT
DTSTART;VALUE=DATE:20190818
DTEND;VALUE=DATE:20190819
DTSTAMP:20260423T070546
CREATED:20190703T073653Z
LAST-MODIFIED:20190715T135222Z
UID:25199-1566086400-1566172799@gckib.iwanowice.pl
SUMMARY:Turniej Sołectw
DESCRIPTION:Dnia 18 sierpnia 2019 r. na terenie boisk w Biskupicach odbędzie się Turniej Sołectw. \nTurniej będzie polegał na konkurencjach sportowych. Szczegółowy rodzaj i opis konkurencji zostaną podane w opracowanym regulaminie. Dodatkowo w czasie imprezy odbędzie się Iwanowicki Festiwal Smaku\, który będzie polegał na przygotowaniu potraw regionalnych przez KGW z poszczególnych sołectw i zaprezentowaniu ich na stołach regionalnych. Odbędzie się również „Dłubniańskie etno – czyli rób i dziel się” – pokaz rękodzieła i folkloru tworzonego przez mieszkańców naszej gminy. Na wspomnianym pokazie zostaną przedstawione produkty warsztatów rękodzielniczych i warsztatów szycia realizowanych w ramach projektu. Jury będzie oceniać wszystkie konkurencję i przyznawać punkty. Następnie punktacja zostanie zsumowana i poszczególnym sołectwom zostaną przyznane miejsca. Za poszczególne miejsca zostaną przyznane nagrody rzeczowe. Projekt „Turniej sołectw w Gminie Iwanowice” finansowany jest ze środków Gminy Iwanowice.
URL:https://gckib.iwanowice.pl/wydarzenie/turniej-solectw/
LOCATION:Biskupice
ATTACH;FMTTYPE=image/jpeg:https://gckib.iwanowice.pl/wp-content/uploads/2019/07/logo-Turniej-Sołectw.jpg
END:VEVENT
BEGIN:VEVENT
DTSTART;VALUE=DATE:20190824
DTEND;VALUE=DATE:20190825
DTSTAMP:20260423T070547
CREATED:20190218T132300Z
LAST-MODIFIED:20190708T083631Z
UID:22049-1566604800-1566691199@gckib.iwanowice.pl
SUMMARY:Piknik Rodzinny "Pożegnanie lata" w Zalesiu
DESCRIPTION:Dnia 24 sierpnia 2019 r. w Zalesiu odbędzie się piknik rodzinny pod nazwą „Pożegnanie lata”. Piknik będzie imprezą integracyjną mającą na celu propagowanie aktywnego spędzania czasu w gronie rodzinnym\, umożliwienie wzajemnego poznania się oraz zachęcenie do podejmowania wspólnych działań na rzecz środowiska lokalnego. W programie przewidziano atrakcje dla dzieci takie jak: zabawy z animatorem\, „dmuchańce”\, malowanie twarzy. W tym dniu odbędzie się również pokaz sprzętu strażackiego oraz mini zawody strażackie. Wydarzenie zostanie połączone z jubileuszem 50-lecia Koła Gospodyń Wiejskich w Zalesiu. Członkinie podczas spotkania zaprezentują działalność koła. Dodatkowo zostanie przygotowany poczęstunek w formie stołu regionalnego
URL:https://gckib.iwanowice.pl/wydarzenie/piknik-rodzinny-pozegnanie-lata/
LOCATION:Zalesie
ATTACH;FMTTYPE=image/jpeg:https://gckib.iwanowice.pl/wp-content/uploads/2019/02/merry-rodzinne-dni-tle_23-2147620075.jpg
END:VEVENT
BEGIN:VEVENT
DTSTART;VALUE=DATE:20190824
DTEND;VALUE=DATE:20190825
DTSTAMP:20260423T070547
CREATED:20190703T074134Z
LAST-MODIFIED:20190708T084128Z
UID:25204-1566604800-1566691199@gckib.iwanowice.pl
SUMMARY:50-lecie KGW Zalesie
DESCRIPTION:Koło Gospodyń Wiejskich w Zalesiu już 24 sierpnia 2019 r. obchodzić będzie jubileusz 50-lecia swojego istnienia. Podczas spotkania zostanie zaprezentowana działalność koła. Dodatkowo zostanie przygotowany poczęstunek w formie stołu regionalnego. Wydarzenie zostanie połączone z Piknikiem Rodzinnym „Pożegnanie lata”. W programie pikniku przewidziano atrakcje dla dzieci takie jak: zabawy z animatorem\, „dmuchańce”\, malowanie twarzy. W tym dniu odbędzie się również pokaz sprzętu strażackiego oraz mini zawody strażackie.
URL:https://gckib.iwanowice.pl/wydarzenie/50-lecie-kgw-zalesie-2/
LOCATION:Zalesie
ATTACH;FMTTYPE=image/png:https://gckib.iwanowice.pl/wp-content/uploads/2019/07/50-lecie-KGW-Zalesie.png
END:VEVENT
END:VCALENDAR