BEGIN:VCALENDAR
VERSION:2.0
PRODID:-//GCKiB - ECPv6.15.20//NONSGML v1.0//EN
CALSCALE:GREGORIAN
METHOD:PUBLISH
X-WR-CALNAME:GCKiB
X-ORIGINAL-URL:https://gckib.iwanowice.pl
X-WR-CALDESC:Wydarzenia dla GCKiB
REFRESH-INTERVAL;VALUE=DURATION:PT1H
X-Robots-Tag:noindex
X-PUBLISHED-TTL:PT1H
BEGIN:VTIMEZONE
TZID:Europe/Warsaw
BEGIN:DAYLIGHT
TZOFFSETFROM:+0100
TZOFFSETTO:+0200
TZNAME:CEST
DTSTART:20180325T010000
END:DAYLIGHT
BEGIN:STANDARD
TZOFFSETFROM:+0200
TZOFFSETTO:+0100
TZNAME:CET
DTSTART:20181028T010000
END:STANDARD
BEGIN:DAYLIGHT
TZOFFSETFROM:+0100
TZOFFSETTO:+0200
TZNAME:CEST
DTSTART:20190331T010000
END:DAYLIGHT
BEGIN:STANDARD
TZOFFSETFROM:+0200
TZOFFSETTO:+0100
TZNAME:CET
DTSTART:20191027T010000
END:STANDARD
BEGIN:DAYLIGHT
TZOFFSETFROM:+0100
TZOFFSETTO:+0200
TZNAME:CEST
DTSTART:20200329T010000
END:DAYLIGHT
BEGIN:STANDARD
TZOFFSETFROM:+0200
TZOFFSETTO:+0100
TZNAME:CET
DTSTART:20201025T010000
END:STANDARD
END:VTIMEZONE
BEGIN:VEVENT
DTSTART;TZID=Europe/Warsaw:20190401T153000
DTEND;TZID=Europe/Warsaw:20190401T162500
DTSTAMP:20260423T142703
CREATED:20190201T075556Z
LAST-MODIFIED:20190201T075556Z
UID:21745-1554132600-1554135900@gckib.iwanowice.pl
SUMMARY:Iwanowicka Akademia Futbolu
DESCRIPTION:
URL:https://gckib.iwanowice.pl/wydarzenie/iwanowicka-akademia-futbolu-12/
ATTACH;FMTTYPE=image/jpeg:https://gckib.iwanowice.pl/wp-content/uploads/2019/02/Logotyp-01-844-x-844.jpg
END:VEVENT
BEGIN:VEVENT
DTSTART;TZID=Europe/Warsaw:20190402T160000
DTEND;TZID=Europe/Warsaw:20190402T183000
DTSTAMP:20260423T142703
CREATED:20190219T121443Z
LAST-MODIFIED:20190219T121443Z
UID:22129-1554220800-1554229800@gckib.iwanowice.pl
SUMMARY:Zajęcia rękodzielnicze
DESCRIPTION:S.P. Sieciechowice 
URL:https://gckib.iwanowice.pl/wydarzenie/zajecia-rekodzielnicze-15/
END:VEVENT
BEGIN:VEVENT
DTSTART;TZID=Europe/Warsaw:20190403T150000
DTEND;TZID=Europe/Warsaw:20190403T173000
DTSTAMP:20260423T142703
CREATED:20190219T125857Z
LAST-MODIFIED:20190219T125857Z
UID:22167-1554303600-1554312600@gckib.iwanowice.pl
SUMMARY:Zajęcia rękodzielnicze
DESCRIPTION:S.P. Celiny 
URL:https://gckib.iwanowice.pl/wydarzenie/zajecia-rekodzielnicze-34/
END:VEVENT
BEGIN:VEVENT
DTSTART;TZID=Europe/Warsaw:20190403T183000
DTEND;TZID=Europe/Warsaw:20190403T192000
DTSTAMP:20260423T142703
CREATED:20190220T104416Z
LAST-MODIFIED:20190220T104416Z
UID:22272-1554316200-1554319200@gckib.iwanowice.pl
SUMMARY:Fitness
DESCRIPTION:S.P. Iwanowice 
URL:https://gckib.iwanowice.pl/wydarzenie/fitness-41/
LOCATION:Iwanowice
END:VEVENT
BEGIN:VEVENT
DTSTART;TZID=Europe/Warsaw:20190403T193000
DTEND;TZID=Europe/Warsaw:20190403T202000
DTSTAMP:20260423T142703
CREATED:20190220T110906Z
LAST-MODIFIED:20190220T110906Z
UID:22288-1554319800-1554322800@gckib.iwanowice.pl
SUMMARY:Fitness
DESCRIPTION:S.P. Sieciechowice 
URL:https://gckib.iwanowice.pl/wydarzenie/fitness-48/
END:VEVENT
BEGIN:VEVENT
DTSTART;TZID=Europe/Warsaw:20190405T090000
DTEND;TZID=Europe/Warsaw:20190405T094500
DTSTAMP:20260423T142703
CREATED:20181009T102655Z
LAST-MODIFIED:20181009T102655Z
UID:19838-1554454800-1554457500@gckib.iwanowice.pl
SUMMARY:Przedszkolak na Uczelni – Sieciechowice
DESCRIPTION:Wykład – Ach te gady!
URL:https://gckib.iwanowice.pl/wydarzenie/przedszkolak-na-uczelni-sieciechowice-14/
END:VEVENT
BEGIN:VEVENT
DTSTART;TZID=Europe/Warsaw:20190405T100500
DTEND;TZID=Europe/Warsaw:20190405T105000
DTSTAMP:20260423T142703
CREATED:20181009T102221Z
LAST-MODIFIED:20181009T102221Z
UID:19836-1554458700-1554461400@gckib.iwanowice.pl
SUMMARY:Przedszkolak na Uczelni – Celiny
DESCRIPTION:Wykład – Ach te gady!
URL:https://gckib.iwanowice.pl/wydarzenie/przedszkolak-na-uczelni-celiny-6/
END:VEVENT
BEGIN:VEVENT
DTSTART;TZID=Europe/Warsaw:20190405T111000
DTEND;TZID=Europe/Warsaw:20190405T120000
DTSTAMP:20260423T142703
CREATED:20181009T102125Z
LAST-MODIFIED:20181009T102125Z
UID:19834-1554462600-1554465600@gckib.iwanowice.pl
SUMMARY:Przedszkolak na Uczelni – Iwanowice
DESCRIPTION:Wykład – Ach te gady!
URL:https://gckib.iwanowice.pl/wydarzenie/przedszkolak-na-uczelni-iwanowice-14/
END:VEVENT
BEGIN:VEVENT
DTSTART;TZID=Europe/Warsaw:20190405T130000
DTEND;TZID=Europe/Warsaw:20190405T134500
DTSTAMP:20260423T142703
CREATED:20181009T100551Z
LAST-MODIFIED:20181009T100551Z
UID:19830-1554469200-1554471900@gckib.iwanowice.pl
SUMMARY:Przedszkolak na Uczelni – Widoma
DESCRIPTION:Wykład – Ach te gady!
URL:https://gckib.iwanowice.pl/wydarzenie/przedszkolak-na-uczelni-widoma-14/
END:VEVENT
BEGIN:VEVENT
DTSTART;TZID=Europe/Warsaw:20190405T133000
DTEND;TZID=Europe/Warsaw:20190405T142500
DTSTAMP:20260423T142703
CREATED:20190201T083548Z
LAST-MODIFIED:20190201T083548Z
UID:21788-1554471000-1554474300@gckib.iwanowice.pl
SUMMARY:Iwanowicka Akademia Futbolu
DESCRIPTION:
URL:https://gckib.iwanowice.pl/wydarzenie/iwanowicka-akademia-futbolu-32/
LOCATION:Iwanowice
ATTACH;FMTTYPE=image/jpeg:https://gckib.iwanowice.pl/wp-content/uploads/2019/02/Logotyp-01-844-x-844.jpg
END:VEVENT
BEGIN:VEVENT
DTSTART;TZID=Europe/Warsaw:20190408T150000
DTEND;TZID=Europe/Warsaw:20190408T180000
DTSTAMP:20260423T142703
CREATED:20190219T114347Z
LAST-MODIFIED:20190219T114347Z
UID:22102-1554735600-1554746400@gckib.iwanowice.pl
SUMMARY:Zajęcia rękodzielnicze
DESCRIPTION:Świetlica Poskwitów Stary 
URL:https://gckib.iwanowice.pl/wydarzenie/zajecia-rekodzielnicze-2/
LOCATION:Świetlica Poskwitów Stary
END:VEVENT
BEGIN:VEVENT
DTSTART;TZID=Europe/Warsaw:20190408T153000
DTEND;TZID=Europe/Warsaw:20190408T162500
DTSTAMP:20260423T142703
CREATED:20190201T075647Z
LAST-MODIFIED:20190201T075647Z
UID:21747-1554737400-1554740700@gckib.iwanowice.pl
SUMMARY:Iwanowicka Akademia Futbolu
DESCRIPTION:
URL:https://gckib.iwanowice.pl/wydarzenie/iwanowicka-akademia-futbolu-13/
ATTACH;FMTTYPE=image/jpeg:https://gckib.iwanowice.pl/wp-content/uploads/2019/02/Logotyp-01-844-x-844.jpg
END:VEVENT
BEGIN:VEVENT
DTSTART;TZID=Europe/Warsaw:20190409T150000
DTEND;TZID=Europe/Warsaw:20190409T180000
DTSTAMP:20260423T142703
CREATED:20190219T115725Z
LAST-MODIFIED:20190219T115725Z
UID:22111-1554822000-1554832800@gckib.iwanowice.pl
SUMMARY:Zajęcia rękodzielnicze
DESCRIPTION:Remiza OSP Władysław 
URL:https://gckib.iwanowice.pl/wydarzenie/zajecia-rekodzielnicze-6/
LOCATION:Remiza OSP Władysław
END:VEVENT
BEGIN:VEVENT
DTSTART;TZID=Europe/Warsaw:20190409T160000
DTEND;TZID=Europe/Warsaw:20190409T183000
DTSTAMP:20260423T142703
CREATED:20190219T121555Z
LAST-MODIFIED:20190219T121555Z
UID:22131-1554825600-1554834600@gckib.iwanowice.pl
SUMMARY:Zajęcia rękodzielnicze
DESCRIPTION:S.P. Sieciechowice 
URL:https://gckib.iwanowice.pl/wydarzenie/zajecia-rekodzielnicze-16/
END:VEVENT
BEGIN:VEVENT
DTSTART;TZID=Europe/Warsaw:20190410T150000
DTEND;TZID=Europe/Warsaw:20190410T173000
DTSTAMP:20260423T142703
CREATED:20190219T130002Z
LAST-MODIFIED:20190219T130002Z
UID:22169-1554908400-1554917400@gckib.iwanowice.pl
SUMMARY:Zajęcia rękodzielnicze
DESCRIPTION:S.P. Celiny 
URL:https://gckib.iwanowice.pl/wydarzenie/zajecia-rekodzielnicze-35/
END:VEVENT
BEGIN:VEVENT
DTSTART;TZID=Europe/Warsaw:20190410T163000
DTEND;TZID=Europe/Warsaw:20190410T172000
DTSTAMP:20260423T142703
CREATED:20190220T093128Z
LAST-MODIFIED:20190220T093128Z
UID:22202-1554913800-1554916800@gckib.iwanowice.pl
SUMMARY:Fitness
DESCRIPTION:S.P. Poskwitów Nowy
URL:https://gckib.iwanowice.pl/wydarzenie/fitness-6/
LOCATION:Poskwitów Nowy
END:VEVENT
BEGIN:VEVENT
DTSTART;TZID=Europe/Warsaw:20190410T173000
DTEND;TZID=Europe/Warsaw:20190410T182000
DTSTAMP:20260423T142703
CREATED:20190220T094339Z
LAST-MODIFIED:20190220T094339Z
UID:22220-1554917400-1554920400@gckib.iwanowice.pl
SUMMARY:Fitness
DESCRIPTION:S.P. Widoma 
URL:https://gckib.iwanowice.pl/wydarzenie/fitness-15/
END:VEVENT
BEGIN:VEVENT
DTSTART;TZID=Europe/Warsaw:20190410T183000
DTEND;TZID=Europe/Warsaw:20190410T192000
DTSTAMP:20260423T142703
CREATED:20190220T095551Z
LAST-MODIFIED:20190220T095551Z
UID:22238-1554921000-1554924000@gckib.iwanowice.pl
SUMMARY:Fitness
DESCRIPTION:S.P. Iwanowice 
URL:https://gckib.iwanowice.pl/wydarzenie/fitness-24/
LOCATION:Iwanowice
END:VEVENT
BEGIN:VEVENT
DTSTART;TZID=Europe/Warsaw:20190410T193000
DTEND;TZID=Europe/Warsaw:20190410T202000
DTSTAMP:20260423T142703
CREATED:20190220T100806Z
LAST-MODIFIED:20190220T100806Z
UID:22256-1554924600-1554927600@gckib.iwanowice.pl
SUMMARY:Fitness
DESCRIPTION:S.P. Sieciechowice 
URL:https://gckib.iwanowice.pl/wydarzenie/fitness-33/
END:VEVENT
BEGIN:VEVENT
DTSTART;VALUE=DATE:20190412
DTEND;VALUE=DATE:20190413
DTSTAMP:20260423T142703
CREATED:20190218T131816Z
LAST-MODIFIED:20190218T131816Z
UID:22041-1555027200-1555113599@gckib.iwanowice.pl
SUMMARY:XIII Gminny Konkurs na tradycyjną Palmę wielkanocną
DESCRIPTION:
URL:https://gckib.iwanowice.pl/wydarzenie/xiii-gminny-konkurs-na-tradycyjna-palme-wielkanocna/
END:VEVENT
BEGIN:VEVENT
DTSTART;TZID=Europe/Warsaw:20190412T133000
DTEND;TZID=Europe/Warsaw:20190412T143000
DTSTAMP:20260423T142703
CREATED:20190201T083618Z
LAST-MODIFIED:20190201T083618Z
UID:21790-1555075800-1555079400@gckib.iwanowice.pl
SUMMARY:Iwanowicka Akademia Futbolu
DESCRIPTION:
URL:https://gckib.iwanowice.pl/wydarzenie/iwanowicka-akademia-futbolu-33/
LOCATION:Iwanowice
ATTACH;FMTTYPE=image/jpeg:https://gckib.iwanowice.pl/wp-content/uploads/2019/02/Logotyp-01-844-x-844.jpg
END:VEVENT
BEGIN:VEVENT
DTSTART;TZID=Europe/Warsaw:20190413T090000
DTEND;TZID=Europe/Warsaw:20190413T100000
DTSTAMP:20260423T142703
CREATED:20180926T120600Z
LAST-MODIFIED:20180926T120600Z
UID:19278-1555146000-1555149600@gckib.iwanowice.pl
SUMMARY:Iwanowicki Uniwersytet Dziecięcy
DESCRIPTION:
URL:https://gckib.iwanowice.pl/wydarzenie/iwanowicki-uniwersytet-dzieciecy-14/
END:VEVENT
BEGIN:VEVENT
DTSTART;TZID=Europe/Warsaw:20190413T090000
DTEND;TZID=Europe/Warsaw:20190413T100000
DTSTAMP:20260423T142703
CREATED:20180926T122235Z
LAST-MODIFIED:20180926T122235Z
UID:19295-1555146000-1555149600@gckib.iwanowice.pl
SUMMARY:Akademia Rozwoju Rodzica
DESCRIPTION:
URL:https://gckib.iwanowice.pl/wydarzenie/akademia-rozwoju-rodzica-6/
END:VEVENT
BEGIN:VEVENT
DTSTART;VALUE=DATE:20190414
DTEND;VALUE=DATE:20190415
DTSTAMP:20260423T142703
CREATED:20190218T130849Z
LAST-MODIFIED:20190218T130849Z
UID:22025-1555200000-1555286399@gckib.iwanowice.pl
SUMMARY:"Koncert Wielkopostny"
DESCRIPTION:
URL:https://gckib.iwanowice.pl/wydarzenie/koncert-wielkopostny/
END:VEVENT
BEGIN:VEVENT
DTSTART;TZID=Europe/Warsaw:20190415T153000
DTEND;TZID=Europe/Warsaw:20190415T162500
DTSTAMP:20260423T142703
CREATED:20190201T075804Z
LAST-MODIFIED:20190201T075804Z
UID:21749-1555342200-1555345500@gckib.iwanowice.pl
SUMMARY:Iwanowicka Akademia Futbolu
DESCRIPTION:
URL:https://gckib.iwanowice.pl/wydarzenie/iwanowicka-akademia-futbolu-14/
LOCATION:Iwanowice
ATTACH;FMTTYPE=image/jpeg:https://gckib.iwanowice.pl/wp-content/uploads/2019/02/Logotyp-01-844-x-844.jpg
END:VEVENT
BEGIN:VEVENT
DTSTART;TZID=Europe/Warsaw:20190416T160000
DTEND;TZID=Europe/Warsaw:20190416T183000
DTSTAMP:20260423T142703
CREATED:20190219T121657Z
LAST-MODIFIED:20190219T121657Z
UID:22133-1555430400-1555439400@gckib.iwanowice.pl
SUMMARY:Zajęcia rękodzielnicze
DESCRIPTION:S.P. Sieciechowice 
URL:https://gckib.iwanowice.pl/wydarzenie/zajecia-rekodzielnicze-17/
END:VEVENT
BEGIN:VEVENT
DTSTART;TZID=Europe/Warsaw:20190417T150000
DTEND;TZID=Europe/Warsaw:20190417T173000
DTSTAMP:20260423T142703
CREATED:20190219T130101Z
LAST-MODIFIED:20190219T130101Z
UID:22171-1555513200-1555522200@gckib.iwanowice.pl
SUMMARY:Zajęcia rękodzielnicze
DESCRIPTION:S.P. Celiny 
URL:https://gckib.iwanowice.pl/wydarzenie/zajecia-rekodzielnicze-36/
END:VEVENT
BEGIN:VEVENT
DTSTART;TZID=Europe/Warsaw:20190417T183000
DTEND;TZID=Europe/Warsaw:20190417T192000
DTSTAMP:20260423T142703
CREATED:20190220T104502Z
LAST-MODIFIED:20190220T104502Z
UID:22274-1555525800-1555528800@gckib.iwanowice.pl
SUMMARY:Fitness
DESCRIPTION:S.P. Iwanowice 
URL:https://gckib.iwanowice.pl/wydarzenie/fitness-42/
LOCATION:Iwanowice
END:VEVENT
BEGIN:VEVENT
DTSTART;TZID=Europe/Warsaw:20190417T193000
DTEND;TZID=Europe/Warsaw:20190417T202000
DTSTAMP:20260423T142703
CREATED:20190220T111016Z
LAST-MODIFIED:20190220T111016Z
UID:22290-1555529400-1555532400@gckib.iwanowice.pl
SUMMARY:Fitness
DESCRIPTION:S.P. Sieciechowice 
URL:https://gckib.iwanowice.pl/wydarzenie/fitness-49/
END:VEVENT
BEGIN:VEVENT
DTSTART;TZID=Europe/Warsaw:20190423T160000
DTEND;TZID=Europe/Warsaw:20190423T183000
DTSTAMP:20260423T142703
CREATED:20190219T121742Z
LAST-MODIFIED:20190219T121742Z
UID:22135-1556035200-1556044200@gckib.iwanowice.pl
SUMMARY:Zajęcia rękodzielnicze
DESCRIPTION:S.P. Sieciechowice 
URL:https://gckib.iwanowice.pl/wydarzenie/zajecia-rekodzielnicze-18/
END:VEVENT
END:VCALENDAR