BEGIN:VCALENDAR
VERSION:2.0
PRODID:-//GCKiB - ECPv6.15.20//NONSGML v1.0//EN
CALSCALE:GREGORIAN
METHOD:PUBLISH
X-ORIGINAL-URL:https://gckib.iwanowice.pl
X-WR-CALDESC:Wydarzenia dla GCKiB
REFRESH-INTERVAL;VALUE=DURATION:PT1H
X-Robots-Tag:noindex
X-PUBLISHED-TTL:PT1H
BEGIN:VTIMEZONE
TZID:Europe/Warsaw
BEGIN:DAYLIGHT
TZOFFSETFROM:+0100
TZOFFSETTO:+0200
TZNAME:CEST
DTSTART:20170326T010000
END:DAYLIGHT
BEGIN:STANDARD
TZOFFSETFROM:+0200
TZOFFSETTO:+0100
TZNAME:CET
DTSTART:20171029T010000
END:STANDARD
BEGIN:DAYLIGHT
TZOFFSETFROM:+0100
TZOFFSETTO:+0200
TZNAME:CEST
DTSTART:20180325T010000
END:DAYLIGHT
BEGIN:STANDARD
TZOFFSETFROM:+0200
TZOFFSETTO:+0100
TZNAME:CET
DTSTART:20181028T010000
END:STANDARD
BEGIN:DAYLIGHT
TZOFFSETFROM:+0100
TZOFFSETTO:+0200
TZNAME:CEST
DTSTART:20190331T010000
END:DAYLIGHT
BEGIN:STANDARD
TZOFFSETFROM:+0200
TZOFFSETTO:+0100
TZNAME:CET
DTSTART:20191027T010000
END:STANDARD
END:VTIMEZONE
BEGIN:VEVENT
DTSTART;TZID=Europe/Warsaw:20181106T100000
DTEND;TZID=Europe/Warsaw:20181106T120000
DTSTAMP:20260423T224642
CREATED:20181106T073700Z
LAST-MODIFIED:20181106T073700Z
UID:20040-1541498400-1541505600@gckib.iwanowice.pl
SUMMARY:Gra Terenowa
DESCRIPTION:
URL:https://gckib.iwanowice.pl/wydarzenie/gra-terenowa/
END:VEVENT
BEGIN:VEVENT
DTSTART;TZID=Europe/Warsaw:20181108T173000
DTEND;TZID=Europe/Warsaw:20181108T190000
DTSTAMP:20260423T224642
CREATED:20181106T074157Z
LAST-MODIFIED:20181106T074157Z
UID:20042-1541698200-1541703600@gckib.iwanowice.pl
SUMMARY:Międzyszkolny Koncert Pieśni Patriotycznych
DESCRIPTION:
URL:https://gckib.iwanowice.pl/wydarzenie/miedzyszkolny-koncert-piesni-patriotycznych/
END:VEVENT
BEGIN:VEVENT
DTSTART;TZID=Europe/Warsaw:20181109T173000
DTEND;TZID=Europe/Warsaw:20181109T190000
DTSTAMP:20260423T224642
CREATED:20181106T075115Z
LAST-MODIFIED:20181106T075509Z
UID:20044-1541784600-1541790000@gckib.iwanowice.pl
SUMMARY:Wieczór Literacki
DESCRIPTION:
URL:https://gckib.iwanowice.pl/wydarzenie/wieczor-literacki/
END:VEVENT
BEGIN:VEVENT
DTSTART;TZID=Europe/Warsaw:20181110T120000
DTEND;TZID=Europe/Warsaw:20181110T170000
DTSTAMP:20260423T224642
CREATED:20180919T094040Z
LAST-MODIFIED:20180919T094136Z
UID:19209-1541851200-1541869200@gckib.iwanowice.pl
SUMMARY:Bieg Niepodległości
DESCRIPTION:
URL:https://gckib.iwanowice.pl/wydarzenie/bieg-niepodleglosci/
ATTACH;FMTTYPE=image/jpeg:https://gckib.iwanowice.pl/wp-content/uploads/2018/09/Plakat-biegi.jpg
END:VEVENT
BEGIN:VEVENT
DTSTART;TZID=Europe/Warsaw:20181111T130000
DTEND;TZID=Europe/Warsaw:20181111T150000
DTSTAMP:20260423T224642
CREATED:20181106T075229Z
LAST-MODIFIED:20181106T075229Z
UID:20046-1541941200-1541948400@gckib.iwanowice.pl
SUMMARY:Gala Finałowa podsumowująca projekt „Ocalmy od zapomnienia dzieje wyzwolenia”
DESCRIPTION:
URL:https://gckib.iwanowice.pl/wydarzenie/gala-finalowa-podsumowujaca-projekt-ocalmy-od-zapomnienia-dzieje-wyzwolenia/
END:VEVENT
BEGIN:VEVENT
DTSTART;TZID=Europe/Warsaw:20181117T090000
DTEND;TZID=Europe/Warsaw:20181117T100000
DTSTAMP:20260423T224642
CREATED:20180926T120207Z
LAST-MODIFIED:20180926T125725Z
UID:19270-1542445200-1542448800@gckib.iwanowice.pl
SUMMARY:Iwanowicki Uniwersytet Dziecięcy
DESCRIPTION:
URL:https://gckib.iwanowice.pl/wydarzenie/iwanowicki-uniwersytet-dzieciecy-10/
END:VEVENT
BEGIN:VEVENT
DTSTART;TZID=Europe/Warsaw:20181117T090000
DTEND;TZID=Europe/Warsaw:20181117T100000
DTSTAMP:20260423T224642
CREATED:20180926T121823Z
LAST-MODIFIED:20180926T121823Z
UID:19286-1542445200-1542448800@gckib.iwanowice.pl
SUMMARY:Akademia Rozwoju Rodzica
DESCRIPTION:
URL:https://gckib.iwanowice.pl/wydarzenie/akademia-rozwoju-rodzica-2/
END:VEVENT
BEGIN:VEVENT
DTSTART;TZID=Europe/Warsaw:20181117T100000
DTEND;TZID=Europe/Warsaw:20181117T120000
DTSTAMP:20260423T224642
CREATED:20180926T123137Z
LAST-MODIFIED:20180926T123137Z
UID:19303-1542448800-1542456000@gckib.iwanowice.pl
SUMMARY:Warsztaty plastyczne
DESCRIPTION:
URL:https://gckib.iwanowice.pl/wydarzenie/warsztaty-plastyczne-2/
END:VEVENT
BEGIN:VEVENT
DTSTART;TZID=Europe/Warsaw:20181123T090000
DTEND;TZID=Europe/Warsaw:20181123T094500
DTSTAMP:20260423T224642
CREATED:20181009T081301Z
LAST-MODIFIED:20181009T081301Z
UID:19795-1542963600-1542966300@gckib.iwanowice.pl
SUMMARY:Przedszkolak na Uczelni – Sieciechowice
DESCRIPTION:Wykład – Gdzie mieszka Śpiąca Królewna?
URL:https://gckib.iwanowice.pl/wydarzenie/przedszkolak-na-uczelni-sieciechowice-10/
END:VEVENT
BEGIN:VEVENT
DTSTART;TZID=Europe/Warsaw:20181123T100500
DTEND;TZID=Europe/Warsaw:20181123T105000
DTSTAMP:20260423T224642
CREATED:20181009T081413Z
LAST-MODIFIED:20181009T081413Z
UID:19797-1542967500-1542970200@gckib.iwanowice.pl
SUMMARY:Przedszkolak na Uczelni - Celiny
DESCRIPTION:Wykład – Gdzie mieszka Śpiąca Królewna?
URL:https://gckib.iwanowice.pl/wydarzenie/przedszkolak-na-uczelni-celiny-2/
END:VEVENT
BEGIN:VEVENT
DTSTART;TZID=Europe/Warsaw:20181123T111000
DTEND;TZID=Europe/Warsaw:20181123T120000
DTSTAMP:20260423T224642
CREATED:20181009T081728Z
LAST-MODIFIED:20181009T081728Z
UID:19799-1542971400-1542974400@gckib.iwanowice.pl
SUMMARY:Przedszkolak na Uczelni – Iwanowice
DESCRIPTION:Wykład – Gdzie mieszka Śpiąca Królewna?
URL:https://gckib.iwanowice.pl/wydarzenie/przedszkolak-na-uczelni-iwanowice-9/
END:VEVENT
BEGIN:VEVENT
DTSTART;TZID=Europe/Warsaw:20181123T130000
DTEND;TZID=Europe/Warsaw:20181123T134500
DTSTAMP:20260423T224642
CREATED:20181009T081830Z
LAST-MODIFIED:20181009T081830Z
UID:19801-1542978000-1542980700@gckib.iwanowice.pl
SUMMARY:Przedszkolak na Uczelni – Widoma
DESCRIPTION:Wykład – Gdzie mieszka Śpiąca Królewna?
URL:https://gckib.iwanowice.pl/wydarzenie/przedszkolak-na-uczelni-widoma-10/
END:VEVENT
BEGIN:VEVENT
DTSTART;TZID=Europe/Warsaw:20181126T160000
DTEND;TZID=Europe/Warsaw:20181126T190000
DTSTAMP:20260423T224642
CREATED:20180927T102844Z
LAST-MODIFIED:20180927T102844Z
UID:19498-1543248000-1543258800@gckib.iwanowice.pl
SUMMARY:LOWE Zajęcia rękodzielnicze w Sieciechowicach
DESCRIPTION:
URL:https://gckib.iwanowice.pl/wydarzenie/lowe-zajecia-rekodzielnicze-w-sieciechowicach-2/
END:VEVENT
BEGIN:VEVENT
DTSTART;TZID=Europe/Warsaw:20181129T150000
DTEND;TZID=Europe/Warsaw:20181129T180000
DTSTAMP:20260423T224642
CREATED:20180927T101911Z
LAST-MODIFIED:20180927T101911Z
UID:19479-1543503600-1543514400@gckib.iwanowice.pl
SUMMARY:LOWE Zajęcia rękodzielnicze w Celinach
DESCRIPTION:
URL:https://gckib.iwanowice.pl/wydarzenie/lowe-zajecia-rekodzielnicze-w-celinach-2/
END:VEVENT
END:VCALENDAR