BEGIN:VCALENDAR
VERSION:2.0
PRODID:-//GCKiB - ECPv6.15.20//NONSGML v1.0//EN
CALSCALE:GREGORIAN
METHOD:PUBLISH
X-ORIGINAL-URL:https://gckib.iwanowice.pl
X-WR-CALDESC:Wydarzenia dla GCKiB
REFRESH-INTERVAL;VALUE=DURATION:PT1H
X-Robots-Tag:noindex
X-PUBLISHED-TTL:PT1H
BEGIN:VTIMEZONE
TZID:Europe/Warsaw
BEGIN:DAYLIGHT
TZOFFSETFROM:+0100
TZOFFSETTO:+0200
TZNAME:CEST
DTSTART:20170326T010000
END:DAYLIGHT
BEGIN:STANDARD
TZOFFSETFROM:+0200
TZOFFSETTO:+0100
TZNAME:CET
DTSTART:20171029T010000
END:STANDARD
BEGIN:DAYLIGHT
TZOFFSETFROM:+0100
TZOFFSETTO:+0200
TZNAME:CEST
DTSTART:20180325T010000
END:DAYLIGHT
BEGIN:STANDARD
TZOFFSETFROM:+0200
TZOFFSETTO:+0100
TZNAME:CET
DTSTART:20181028T010000
END:STANDARD
BEGIN:DAYLIGHT
TZOFFSETFROM:+0100
TZOFFSETTO:+0200
TZNAME:CEST
DTSTART:20190331T010000
END:DAYLIGHT
BEGIN:STANDARD
TZOFFSETFROM:+0200
TZOFFSETTO:+0100
TZNAME:CET
DTSTART:20191027T010000
END:STANDARD
END:VTIMEZONE
BEGIN:VEVENT
DTSTART;VALUE=DATE:20180722
DTEND;VALUE=DATE:20180723
DTSTAMP:20260424T054145
CREATED:20180118T083259Z
LAST-MODIFIED:20180118T083259Z
UID:14574-1532217600-1532303999@gckib.iwanowice.pl
SUMMARY:IV Turniej Piłki Nożnej Kobiet o Puchar Starosty Krakowskiego
DESCRIPTION:IV Turniej Piłki Nożnej Kobiet o Puchar Starosty Krakowskiego i zabawa taneczna  organizowana przez FAN KLUB „NOVI” Narama na terenie OSP NARAMA. \n 
URL:https://gckib.iwanowice.pl/wydarzenie/iv-turniej-pilki-noznej-kobiet-o-puchar-starosty-krakowskiego/
ATTACH;FMTTYPE=image/jpeg:https://gckib.iwanowice.pl/wp-content/uploads/2018/01/logo-Novi-Narama.jpg
END:VEVENT
BEGIN:VEVENT
DTSTART;TZID=Europe/Warsaw:20180729T150000
DTEND;TZID=Europe/Warsaw:20180729T170000
DTSTAMP:20260424T054145
CREATED:20180724T064006Z
LAST-MODIFIED:20180724T065754Z
UID:17849-1532876400-1532883600@gckib.iwanowice.pl
SUMMARY:Piknik Rodzinny w Żerkowicach
DESCRIPTION:
URL:https://gckib.iwanowice.pl/wydarzenie/piknik-rodzinny-w-zerkowicach/
LOCATION:Żerkowice
ATTACH;FMTTYPE=image/jpeg:https://gckib.iwanowice.pl/wp-content/uploads/2018/07/37407777_1869430346413683_3705766412271222784_n.jpg
END:VEVENT
END:VCALENDAR