BEGIN:VCALENDAR
VERSION:2.0
PRODID:-//GCKiB - ECPv6.15.20//NONSGML v1.0//EN
CALSCALE:GREGORIAN
METHOD:PUBLISH
X-WR-CALNAME:GCKiB
X-ORIGINAL-URL:https://gckib.iwanowice.pl
X-WR-CALDESC:Wydarzenia dla GCKiB
REFRESH-INTERVAL;VALUE=DURATION:PT1H
X-Robots-Tag:noindex
X-PUBLISHED-TTL:PT1H
BEGIN:VTIMEZONE
TZID:Europe/Warsaw
BEGIN:DAYLIGHT
TZOFFSETFROM:+0100
TZOFFSETTO:+0200
TZNAME:CEST
DTSTART:20170326T010000
END:DAYLIGHT
BEGIN:STANDARD
TZOFFSETFROM:+0200
TZOFFSETTO:+0100
TZNAME:CET
DTSTART:20171029T010000
END:STANDARD
BEGIN:DAYLIGHT
TZOFFSETFROM:+0100
TZOFFSETTO:+0200
TZNAME:CEST
DTSTART:20180325T010000
END:DAYLIGHT
BEGIN:STANDARD
TZOFFSETFROM:+0200
TZOFFSETTO:+0100
TZNAME:CET
DTSTART:20181028T010000
END:STANDARD
BEGIN:DAYLIGHT
TZOFFSETFROM:+0100
TZOFFSETTO:+0200
TZNAME:CEST
DTSTART:20190331T010000
END:DAYLIGHT
BEGIN:STANDARD
TZOFFSETFROM:+0200
TZOFFSETTO:+0100
TZNAME:CET
DTSTART:20191027T010000
END:STANDARD
END:VTIMEZONE
BEGIN:VEVENT
DTSTART;TZID=Europe/Warsaw:20180203T090000
DTEND;TZID=Europe/Warsaw:20180203T100000
DTSTAMP:20260424T163544
CREATED:20171016T080034Z
LAST-MODIFIED:20171016T080425Z
UID:12564-1517648400-1517652000@gckib.iwanowice.pl
SUMMARY:Iwanowicki Uniwersytet Dziecięcy
DESCRIPTION:Wykład – „Prywatne życie roślin” 
URL:https://gckib.iwanowice.pl/wydarzenie/iwanowicki-uniwersytet-dzieciecy-5/
ATTACH;FMTTYPE=image/jpeg:https://gckib.iwanowice.pl/wp-content/uploads/2017/10/iwanownicki.jpg
END:VEVENT
BEGIN:VEVENT
DTSTART;TZID=Europe/Warsaw:20180207T083000
DTEND;TZID=Europe/Warsaw:20180207T120000
DTSTAMP:20260424T163544
CREATED:20180206T075154Z
LAST-MODIFIED:20180206T075154Z
UID:14639-1517992200-1518004800@gckib.iwanowice.pl
SUMMARY:Gminne zawody łyżwiarskie w Sieciechowicach
DESCRIPTION:
URL:https://gckib.iwanowice.pl/wydarzenie/gminne-zawody-lyzwiarskie-w-sieciechowicach/
ATTACH;FMTTYPE=image/jpeg:https://gckib.iwanowice.pl/wp-content/uploads/2018/01/plakat-zawody-łyżwiarskie.jpg
END:VEVENT
BEGIN:VEVENT
DTSTART;TZID=Europe/Warsaw:20180208T090000
DTEND;TZID=Europe/Warsaw:20180208T100000
DTSTAMP:20260424T163544
CREATED:20171218T134639Z
LAST-MODIFIED:20171218T134639Z
UID:14042-1518080400-1518084000@gckib.iwanowice.pl
SUMMARY:Przedszkolak na Uczelni – Widoma
DESCRIPTION:Wykład – Mały Wielki Głos
URL:https://gckib.iwanowice.pl/wydarzenie/przedszkolak-na-uczelni-widoma-4/
ATTACH;FMTTYPE=image/jpeg:https://gckib.iwanowice.pl/wp-content/uploads/2017/12/iwanownicki-1329-x-443.jpg
END:VEVENT
BEGIN:VEVENT
DTSTART;TZID=Europe/Warsaw:20180208T101500
DTEND;TZID=Europe/Warsaw:20180208T111500
DTSTAMP:20260424T163544
CREATED:20171218T140529Z
LAST-MODIFIED:20171218T144707Z
UID:14057-1518084900-1518088500@gckib.iwanowice.pl
SUMMARY:Przedszkolak na Uczelni – Iwanowice
DESCRIPTION:Wykład – Mały Wielki Głos
URL:https://gckib.iwanowice.pl/wydarzenie/krotka-historia-powstania-zabawek/
ATTACH;FMTTYPE=image/jpeg:https://gckib.iwanowice.pl/wp-content/uploads/2017/12/iwanownicki-1329-x-443.jpg
END:VEVENT
BEGIN:VEVENT
DTSTART;TZID=Europe/Warsaw:20180208T113000
DTEND;TZID=Europe/Warsaw:20180208T123000
DTSTAMP:20260424T163544
CREATED:20171218T142711Z
LAST-MODIFIED:20171218T142711Z
UID:14070-1518089400-1518093000@gckib.iwanowice.pl
SUMMARY:Przedszkolak na Uczelni – Sieciechowice
DESCRIPTION:Wykład – Mały Wielki Głos
URL:https://gckib.iwanowice.pl/wydarzenie/przedszkolak-na-uczelni-sieciechowice-4/
ATTACH;FMTTYPE=image/jpeg:https://gckib.iwanowice.pl/wp-content/uploads/2017/12/iwanownicki-1329-x-443.jpg
END:VEVENT
END:VCALENDAR