BEGIN:VCALENDAR
VERSION:2.0
PRODID:-//GCKiB - ECPv6.15.20//NONSGML v1.0//EN
CALSCALE:GREGORIAN
METHOD:PUBLISH
X-ORIGINAL-URL:https://gckib.iwanowice.pl
X-WR-CALDESC:Wydarzenia dla GCKiB
REFRESH-INTERVAL;VALUE=DURATION:PT1H
X-Robots-Tag:noindex
X-PUBLISHED-TTL:PT1H
BEGIN:VTIMEZONE
TZID:Europe/Warsaw
BEGIN:DAYLIGHT
TZOFFSETFROM:+0100
TZOFFSETTO:+0200
TZNAME:CEST
DTSTART:20160327T010000
END:DAYLIGHT
BEGIN:STANDARD
TZOFFSETFROM:+0200
TZOFFSETTO:+0100
TZNAME:CET
DTSTART:20161030T010000
END:STANDARD
BEGIN:DAYLIGHT
TZOFFSETFROM:+0100
TZOFFSETTO:+0200
TZNAME:CEST
DTSTART:20170326T010000
END:DAYLIGHT
BEGIN:STANDARD
TZOFFSETFROM:+0200
TZOFFSETTO:+0100
TZNAME:CET
DTSTART:20171029T010000
END:STANDARD
BEGIN:DAYLIGHT
TZOFFSETFROM:+0100
TZOFFSETTO:+0200
TZNAME:CEST
DTSTART:20180325T010000
END:DAYLIGHT
BEGIN:STANDARD
TZOFFSETFROM:+0200
TZOFFSETTO:+0100
TZNAME:CET
DTSTART:20181028T010000
END:STANDARD
END:VTIMEZONE
BEGIN:VEVENT
DTSTART;TZID=Europe/Warsaw:20171201T090000
DTEND;TZID=Europe/Warsaw:20171201T100000
DTSTAMP:20260424T195434
CREATED:20171107T083418Z
LAST-MODIFIED:20171107T083418Z
UID:12888-1512118800-1512122400@gckib.iwanowice.pl
SUMMARY:Przedszkolak na uczelni – Widoma
DESCRIPTION:Temat wykładu: Słodki\, kwaśny\, gorzki\, słony\, umami… ale dlaczego dzieci\nodczuwają smaki inaczej niż dorośli?
URL:https://gckib.iwanowice.pl/wydarzenie/przedszkolak-na-uczelni-widoma/
LOCATION:Widoma
ATTACH;FMTTYPE=image/jpeg:https://gckib.iwanowice.pl/wp-content/uploads/2017/10/przedszkolak_logo.jpg
END:VEVENT
BEGIN:VEVENT
DTSTART;TZID=Europe/Warsaw:20171201T101500
DTEND;TZID=Europe/Warsaw:20171201T111500
DTSTAMP:20260424T195434
CREATED:20171107T083836Z
LAST-MODIFIED:20171107T083836Z
UID:12893-1512123300-1512126900@gckib.iwanowice.pl
SUMMARY:Przedszkolak na uczelni – Iwanowice
DESCRIPTION:Temat wykładu: Słodki\, kwaśny\, gorzki\, słony\, umami… ale dlaczego dzieci\n odczuwają smaki inaczej niż dorośli?
URL:https://gckib.iwanowice.pl/wydarzenie/przedszkolak-na-uczelni-iwanowice/
ATTACH;FMTTYPE=image/jpeg:https://gckib.iwanowice.pl/wp-content/uploads/2017/10/przedszkolak_logo.jpg
END:VEVENT
BEGIN:VEVENT
DTSTART;TZID=Europe/Warsaw:20171201T113000
DTEND;TZID=Europe/Warsaw:20171201T123000
DTSTAMP:20260424T195434
CREATED:20171107T084055Z
LAST-MODIFIED:20171107T084055Z
UID:12895-1512127800-1512131400@gckib.iwanowice.pl
SUMMARY:Przedszkolak na uczelni – Sieciechowice
DESCRIPTION:Temat wykładu: Słodki\, kwaśny\, gorzki\, słony\, umami… ale dlaczego dzieci\n odczuwają smaki inaczej niż dorośli?
URL:https://gckib.iwanowice.pl/wydarzenie/przedszkolak-na-uczelni-sieciechowice/
ATTACH;FMTTYPE=image/jpeg:https://gckib.iwanowice.pl/wp-content/uploads/2017/10/przedszkolak_logo.jpg
END:VEVENT
BEGIN:VEVENT
DTSTART;TZID=Europe/Warsaw:20171201T134000
DTEND;TZID=Europe/Warsaw:20171201T154000
DTSTAMP:20260424T195434
CREATED:20170929T063737Z
LAST-MODIFIED:20170929T063737Z
UID:12345-1512135600-1512142800@gckib.iwanowice.pl
SUMMARY:Trening IAF – SP Widoma
DESCRIPTION:13.40 – 14.40 Klasy I-III\n14.40 – 15.40 Klasy IV-VI
URL:https://gckib.iwanowice.pl/wydarzenie/trening-iaf-sp-widoma-17/
LOCATION:Widoma
ATTACH;FMTTYPE=image/png:https://gckib.iwanowice.pl/wp-content/uploads/2017/09/Logotyp-01-1.png
END:VEVENT
BEGIN:VEVENT
DTSTART;TZID=Europe/Warsaw:20171201T163000
DTEND;TZID=Europe/Warsaw:20171201T174500
DTSTAMP:20260424T195434
CREATED:20170928T095927Z
LAST-MODIFIED:20170928T095927Z
UID:12230-1512145800-1512150300@gckib.iwanowice.pl
SUMMARY:Trening IAF – Iwanowice Akademia
DESCRIPTION:16.30-17.45 Orlik 
URL:https://gckib.iwanowice.pl/wydarzenie/trening-iaf-iwanowice-akademia-31/
ATTACH;FMTTYPE=image/png:https://gckib.iwanowice.pl/wp-content/uploads/2017/09/Logotyp-01-1.png
END:VEVENT
BEGIN:VEVENT
DTSTART;TZID=Europe/Warsaw:20171205T125500
DTEND;TZID=Europe/Warsaw:20171205T143500
DTSTAMP:20260424T195434
CREATED:20171018T062530Z
LAST-MODIFIED:20171026T124051Z
UID:12597-1512478500-1512484500@gckib.iwanowice.pl
SUMMARY:Trening IAF – SP Celiny
DESCRIPTION:Oddział przedszkolnego i klasy II w godzinach 12.55 – 13.40\nUczniowie z klas III-IV w godzinach 13.40 – 14.35
URL:https://gckib.iwanowice.pl/wydarzenie/trening-iaf-sp-celiny-7/
ATTACH;FMTTYPE=image/png:https://gckib.iwanowice.pl/wp-content/uploads/2017/09/Logotyp-01-1.png
END:VEVENT
BEGIN:VEVENT
DTSTART;TZID=Europe/Warsaw:20171205T150000
DTEND;TZID=Europe/Warsaw:20171205T170000
DTSTAMP:20260424T195434
CREATED:20170928T125102Z
LAST-MODIFIED:20170928T125102Z
UID:12291-1512486000-1512493200@gckib.iwanowice.pl
SUMMARY:Trening IAF – SP Narama
DESCRIPTION:15.00-16.00 Klasa I-III\n16.00-17.00 Klasa IV-VI
URL:https://gckib.iwanowice.pl/wydarzenie/trening-iaf-sp-narama-20/
ATTACH;FMTTYPE=image/png:https://gckib.iwanowice.pl/wp-content/uploads/2017/09/Logotyp-01-1.png
END:VEVENT
BEGIN:VEVENT
DTSTART;TZID=Europe/Warsaw:20171205T160000
DTEND;TZID=Europe/Warsaw:20171205T180000
DTSTAMP:20260424T195434
CREATED:20171107T093421Z
LAST-MODIFIED:20171107T093745Z
UID:12910-1512489600-1512496800@gckib.iwanowice.pl
SUMMARY:Spotkanie Gminnego Zespołu Teatralnego
DESCRIPTION:
URL:https://gckib.iwanowice.pl/wydarzenie/spotkanie-gminnego-zespolu-teatralnego-5/
END:VEVENT
BEGIN:VEVENT
DTSTART;TZID=Europe/Warsaw:20171206T134000
DTEND;TZID=Europe/Warsaw:20171206T154000
DTSTAMP:20260424T195434
CREATED:20170929T070455Z
LAST-MODIFIED:20170929T070455Z
UID:12347-1512567600-1512574800@gckib.iwanowice.pl
SUMMARY:Trening IAF – SP Widoma
DESCRIPTION:13.40 – 14.40 Klasy I-III\n14.40 – 15.40 Klasy IV-VI
URL:https://gckib.iwanowice.pl/wydarzenie/trening-iaf-sp-widoma-18/
LOCATION:Widoma
ATTACH;FMTTYPE=image/png:https://gckib.iwanowice.pl/wp-content/uploads/2017/09/Logotyp-01-1.png
END:VEVENT
BEGIN:VEVENT
DTSTART;TZID=Europe/Warsaw:20171206T163000
DTEND;TZID=Europe/Warsaw:20171206T174500
DTSTAMP:20260424T195434
CREATED:20170928T100244Z
LAST-MODIFIED:20170928T100244Z
UID:12233-1512577800-1512582300@gckib.iwanowice.pl
SUMMARY:Trening IAF – Iwanowice Akademia
DESCRIPTION:16.30-17.45 Orlik 
URL:https://gckib.iwanowice.pl/wydarzenie/trening-iaf-iwanowice-akademia-32/
ATTACH;FMTTYPE=image/png:https://gckib.iwanowice.pl/wp-content/uploads/2017/09/Logotyp-01-1.png
END:VEVENT
BEGIN:VEVENT
DTSTART;TZID=Europe/Warsaw:20171207T150000
DTEND;TZID=Europe/Warsaw:20171207T170000
DTSTAMP:20260424T195434
CREATED:20170928T125156Z
LAST-MODIFIED:20170928T125156Z
UID:12293-1512658800-1512666000@gckib.iwanowice.pl
SUMMARY:Trening IAF – SP Narama
DESCRIPTION:15.00-16.00 Klasa I-III\n16.00-17.00 Klasa IV-VI
URL:https://gckib.iwanowice.pl/wydarzenie/trening-iaf-sp-narama-21/
ATTACH;FMTTYPE=image/png:https://gckib.iwanowice.pl/wp-content/uploads/2017/09/Logotyp-01-1.png
END:VEVENT
BEGIN:VEVENT
DTSTART;TZID=Europe/Warsaw:20171208T090000
DTEND;TZID=Europe/Warsaw:20171208T100000
DTSTAMP:20260424T195434
CREATED:20171107T083633Z
LAST-MODIFIED:20171107T084533Z
UID:12891-1512723600-1512727200@gckib.iwanowice.pl
SUMMARY:Przedszkolak na uczelni – Widoma
DESCRIPTION:Temat wykładu: Żyć i przeżyć – rośliny
URL:https://gckib.iwanowice.pl/wydarzenie/przedszkolak-na-uczelni-widoma-2/
LOCATION:Widoma
ATTACH;FMTTYPE=image/jpeg:https://gckib.iwanowice.pl/wp-content/uploads/2017/10/przedszkolak_logo.jpg
END:VEVENT
BEGIN:VEVENT
DTSTART;TZID=Europe/Warsaw:20171208T101500
DTEND;TZID=Europe/Warsaw:20171208T111500
DTSTAMP:20260424T195434
CREATED:20171107T084243Z
LAST-MODIFIED:20171107T084243Z
UID:12897-1512728100-1512731700@gckib.iwanowice.pl
SUMMARY:Przedszkolak na uczelni – Iwanowice
DESCRIPTION:Temat wykładu: Żyć i przeżyć – rośliny
URL:https://gckib.iwanowice.pl/wydarzenie/przedszkolak-na-uczelni-iwanowice-2/
LOCATION:Iwanowice
ATTACH;FMTTYPE=image/jpeg:https://gckib.iwanowice.pl/wp-content/uploads/2017/10/przedszkolak_logo.jpg
END:VEVENT
BEGIN:VEVENT
DTSTART;TZID=Europe/Warsaw:20171208T113000
DTEND;TZID=Europe/Warsaw:20171208T123000
DTSTAMP:20260424T195434
CREATED:20171107T084429Z
LAST-MODIFIED:20171107T084429Z
UID:12899-1512732600-1512736200@gckib.iwanowice.pl
SUMMARY:Przedszkolak na uczelni – Sieciechowice
DESCRIPTION:Temat wykładu: Żyć i przeżyć – rośliny
URL:https://gckib.iwanowice.pl/wydarzenie/przedszkolak-na-uczelni-sieciechowice-2/
ATTACH;FMTTYPE=image/jpeg:https://gckib.iwanowice.pl/wp-content/uploads/2017/10/przedszkolak_logo.jpg
END:VEVENT
BEGIN:VEVENT
DTSTART;TZID=Europe/Warsaw:20171208T134000
DTEND;TZID=Europe/Warsaw:20171208T154000
DTSTAMP:20260424T195434
CREATED:20170929T091124Z
LAST-MODIFIED:20170929T091124Z
UID:12351-1512740400-1512747600@gckib.iwanowice.pl
SUMMARY:Trening IAF – SP Widoma
DESCRIPTION:13.40 – 14.40 Klasy I-III\n14.40 – 15.40 Klasy IV-VI
URL:https://gckib.iwanowice.pl/wydarzenie/trening-iaf-sp-widoma-19/
LOCATION:Widoma
ATTACH;FMTTYPE=image/png:https://gckib.iwanowice.pl/wp-content/uploads/2017/09/Logotyp-01-1.png
END:VEVENT
BEGIN:VEVENT
DTSTART;TZID=Europe/Warsaw:20171208T163000
DTEND;TZID=Europe/Warsaw:20171208T174500
DTSTAMP:20260424T195434
CREATED:20170928T100438Z
LAST-MODIFIED:20170928T100438Z
UID:12235-1512750600-1512755100@gckib.iwanowice.pl
SUMMARY:Trening IAF – Iwanowice Akademia
DESCRIPTION:16.30-17.45 Orlik 
URL:https://gckib.iwanowice.pl/wydarzenie/trening-iaf-iwanowice-akademia-33/
ATTACH;FMTTYPE=image/png:https://gckib.iwanowice.pl/wp-content/uploads/2017/09/Logotyp-01-1.png
END:VEVENT
BEGIN:VEVENT
DTSTART;TZID=Europe/Warsaw:20171211T090000
DTEND;TZID=Europe/Warsaw:20171211T100000
DTSTAMP:20260424T195434
CREATED:20171127T124556Z
LAST-MODIFIED:20171127T160540Z
UID:13675-1512982800-1512986400@gckib.iwanowice.pl
SUMMARY:II Gminne Dyktando
DESCRIPTION:Gminne Centrum Kultury i Bibliotek w Iwanowicach zaprasza uczniów szkół gimnazjalnych z terenu naszej gminy do udziału w konkursie – II Gminnym Dyktandzie\, podsumowującym projekt „Językowe Wędrówki Sowie”.
URL:https://gckib.iwanowice.pl/wydarzenie/ii-gminne-dyktando/
ATTACH;FMTTYPE=image/jpeg:https://gckib.iwanowice.pl/wp-content/uploads/2017/11/Plakat-dyktando-111.jpg
END:VEVENT
BEGIN:VEVENT
DTSTART;TZID=Europe/Warsaw:20171212T125500
DTEND;TZID=Europe/Warsaw:20171212T143500
DTSTAMP:20260424T195434
CREATED:20171018T062727Z
LAST-MODIFIED:20171026T124149Z
UID:12599-1513083300-1513089300@gckib.iwanowice.pl
SUMMARY:Trening IAF – SP Celiny
DESCRIPTION:Oddział przedszkolnego i klasy II w godzinach 12.55 – 13.40\nUczniowie z klas III-IV w godzinach 13.40 – 14.35
URL:https://gckib.iwanowice.pl/wydarzenie/trening-iaf-sp-celiny-8/
ATTACH;FMTTYPE=image/png:https://gckib.iwanowice.pl/wp-content/uploads/2017/09/Logotyp-01-1.png
END:VEVENT
BEGIN:VEVENT
DTSTART;TZID=Europe/Warsaw:20171212T150000
DTEND;TZID=Europe/Warsaw:20171212T170000
DTSTAMP:20260424T195434
CREATED:20170928T125259Z
LAST-MODIFIED:20170928T125259Z
UID:12295-1513090800-1513098000@gckib.iwanowice.pl
SUMMARY:Trening IAF – SP Narama
DESCRIPTION:15.00-16.00 Klasa I-III\n16.00-17.00 Klasa IV-VI
URL:https://gckib.iwanowice.pl/wydarzenie/trening-iaf-sp-narama-22/
ATTACH;FMTTYPE=image/png:https://gckib.iwanowice.pl/wp-content/uploads/2017/09/Logotyp-01-1.png
END:VEVENT
BEGIN:VEVENT
DTSTART;TZID=Europe/Warsaw:20171212T160000
DTEND;TZID=Europe/Warsaw:20171212T180000
DTSTAMP:20260424T195434
CREATED:20171107T093533Z
LAST-MODIFIED:20171107T093533Z
UID:12912-1513094400-1513101600@gckib.iwanowice.pl
SUMMARY:Spotkanie Gminnego Zespołu Teatralnego
DESCRIPTION:
URL:https://gckib.iwanowice.pl/wydarzenie/spotkanie-gminnego-zespolu-teatralnego-6/
END:VEVENT
BEGIN:VEVENT
DTSTART;TZID=Europe/Warsaw:20171213T134000
DTEND;TZID=Europe/Warsaw:20171213T154000
DTSTAMP:20260424T195434
CREATED:20170929T091244Z
LAST-MODIFIED:20170929T091244Z
UID:12353-1513172400-1513179600@gckib.iwanowice.pl
SUMMARY:Trening IAF – SP Widoma
DESCRIPTION:13.40 – 14.40 Klasy I-III\n14.40 – 15.40 Klasy IV-VI
URL:https://gckib.iwanowice.pl/wydarzenie/trening-iaf-sp-widoma-20/
LOCATION:Widoma
ATTACH;FMTTYPE=image/png:https://gckib.iwanowice.pl/wp-content/uploads/2017/09/Logotyp-01-1.png
END:VEVENT
BEGIN:VEVENT
DTSTART;TZID=Europe/Warsaw:20171213T163000
DTEND;TZID=Europe/Warsaw:20171213T174500
DTSTAMP:20260424T195434
CREATED:20170928T100552Z
LAST-MODIFIED:20170928T100552Z
UID:12237-1513182600-1513187100@gckib.iwanowice.pl
SUMMARY:Trening IAF – Iwanowice Akademia
DESCRIPTION:16.30-17.45 Orlik 
URL:https://gckib.iwanowice.pl/wydarzenie/trening-iaf-iwanowice-akademia-34/
ATTACH;FMTTYPE=image/png:https://gckib.iwanowice.pl/wp-content/uploads/2017/09/Logotyp-01-1.png
END:VEVENT
BEGIN:VEVENT
DTSTART;TZID=Europe/Warsaw:20171214T150000
DTEND;TZID=Europe/Warsaw:20171214T170000
DTSTAMP:20260424T195434
CREATED:20170928T131033Z
LAST-MODIFIED:20170928T131033Z
UID:12297-1513263600-1513270800@gckib.iwanowice.pl
SUMMARY:Trening IAF – SP Narama
DESCRIPTION:15.00-16.00 Klasa I-III\n16.00-17.00 Klasa IV-VI
URL:https://gckib.iwanowice.pl/wydarzenie/trening-iaf-sp-narama-23/
ATTACH;FMTTYPE=image/png:https://gckib.iwanowice.pl/wp-content/uploads/2017/09/Logotyp-01-1.png
END:VEVENT
BEGIN:VEVENT
DTSTART;TZID=Europe/Warsaw:20171215T134000
DTEND;TZID=Europe/Warsaw:20171215T154000
DTSTAMP:20260424T195434
CREATED:20170929T091357Z
LAST-MODIFIED:20170929T091357Z
UID:12355-1513345200-1513352400@gckib.iwanowice.pl
SUMMARY:Trening IAF – SP Widoma
DESCRIPTION:13.40 – 14.40 Klasy I-III\n14.40 – 15.40 Klasy IV-VI
URL:https://gckib.iwanowice.pl/wydarzenie/trening-iaf-sp-widoma-21/
ATTACH;FMTTYPE=image/png:https://gckib.iwanowice.pl/wp-content/uploads/2017/09/Logotyp-01-1.png
END:VEVENT
BEGIN:VEVENT
DTSTART;TZID=Europe/Warsaw:20171215T163000
DTEND;TZID=Europe/Warsaw:20171215T174500
DTSTAMP:20260424T195434
CREATED:20170928T100701Z
LAST-MODIFIED:20170928T100701Z
UID:12239-1513355400-1513359900@gckib.iwanowice.pl
SUMMARY:Trening IAF – Iwanowice Akademia
DESCRIPTION:16.30-17.45 Orlik 
URL:https://gckib.iwanowice.pl/wydarzenie/trening-iaf-iwanowice-akademia-35/
ATTACH;FMTTYPE=image/png:https://gckib.iwanowice.pl/wp-content/uploads/2017/09/Logotyp-01-1.png
END:VEVENT
BEGIN:VEVENT
DTSTART;TZID=Europe/Warsaw:20171216T090000
DTEND;TZID=Europe/Warsaw:20171216T100000
DTSTAMP:20260424T195434
CREATED:20171016T075437Z
LAST-MODIFIED:20171016T075437Z
UID:12560-1513414800-1513418400@gckib.iwanowice.pl
SUMMARY:Iwanowicki Uniwersytet Dziecięcy
DESCRIPTION:Wykład – ” Życie w późnym średniowieczu”  
URL:https://gckib.iwanowice.pl/wydarzenie/iwanowicki-uniwersytet-dzieciecy-3/
ATTACH;FMTTYPE=image/jpeg:https://gckib.iwanowice.pl/wp-content/uploads/2017/10/iwanownicki.jpg
END:VEVENT
BEGIN:VEVENT
DTSTART;TZID=Europe/Warsaw:20171219T125500
DTEND;TZID=Europe/Warsaw:20171219T143500
DTSTAMP:20260424T195434
CREATED:20171018T063032Z
LAST-MODIFIED:20171026T124248Z
UID:12601-1513688100-1513694100@gckib.iwanowice.pl
SUMMARY:Trening IAF – SP Celiny
DESCRIPTION:Oddział przedszkolnego i klasy II w godzinach 12.55 – 13.40\nUczniowie z klas III-IV w godzinach 13.40 – 14.35
URL:https://gckib.iwanowice.pl/wydarzenie/trening-iaf-sp-celiny-9/
ATTACH;FMTTYPE=image/png:https://gckib.iwanowice.pl/wp-content/uploads/2017/09/Logotyp-01-1.png
END:VEVENT
BEGIN:VEVENT
DTSTART;TZID=Europe/Warsaw:20171219T150000
DTEND;TZID=Europe/Warsaw:20171219T170000
DTSTAMP:20260424T195434
CREATED:20170928T131435Z
LAST-MODIFIED:20170928T131435Z
UID:12299-1513695600-1513702800@gckib.iwanowice.pl
SUMMARY:Trening IAF – SP Narama
DESCRIPTION:15.00-16.00 Klasa I-III\n16.00-17.00 Klasa IV-VI
URL:https://gckib.iwanowice.pl/wydarzenie/trening-iaf-sp-narama-24/
ATTACH;FMTTYPE=image/png:https://gckib.iwanowice.pl/wp-content/uploads/2017/09/Logotyp-01-1.png
END:VEVENT
BEGIN:VEVENT
DTSTART;TZID=Europe/Warsaw:20171219T160000
DTEND;TZID=Europe/Warsaw:20171219T180000
DTSTAMP:20260424T195434
CREATED:20171107T093628Z
LAST-MODIFIED:20171107T093628Z
UID:12914-1513699200-1513706400@gckib.iwanowice.pl
SUMMARY:Spotkanie Gminnego Zespołu Teatralnego
DESCRIPTION:
URL:https://gckib.iwanowice.pl/wydarzenie/spotkanie-gminnego-zespolu-teatralnego-7/
END:VEVENT
BEGIN:VEVENT
DTSTART;TZID=Europe/Warsaw:20171220T134000
DTEND;TZID=Europe/Warsaw:20171220T154000
DTSTAMP:20260424T195434
CREATED:20170929T094739Z
LAST-MODIFIED:20170929T094739Z
UID:12357-1513777200-1513784400@gckib.iwanowice.pl
SUMMARY:Trening IAF – SP Widoma
DESCRIPTION:13.40 – 14.40 Klasy I-III\n14.40 – 15.40 Klasy IV-VI
URL:https://gckib.iwanowice.pl/wydarzenie/trening-iaf-sp-widoma-22/
ATTACH;FMTTYPE=image/png:https://gckib.iwanowice.pl/wp-content/uploads/2017/09/Logotyp-01-1.png
END:VEVENT
END:VCALENDAR