BEGIN:VCALENDAR
VERSION:2.0
PRODID:-//GCKiB - ECPv6.15.20//NONSGML v1.0//EN
CALSCALE:GREGORIAN
METHOD:PUBLISH
X-WR-CALNAME:GCKiB
X-ORIGINAL-URL:https://gckib.iwanowice.pl
X-WR-CALDESC:Wydarzenia dla GCKiB
REFRESH-INTERVAL;VALUE=DURATION:PT1H
X-Robots-Tag:noindex
X-PUBLISHED-TTL:PT1H
BEGIN:VTIMEZONE
TZID:Europe/Warsaw
BEGIN:DAYLIGHT
TZOFFSETFROM:+0100
TZOFFSETTO:+0200
TZNAME:CEST
DTSTART:20160327T010000
END:DAYLIGHT
BEGIN:STANDARD
TZOFFSETFROM:+0200
TZOFFSETTO:+0100
TZNAME:CET
DTSTART:20161030T010000
END:STANDARD
BEGIN:DAYLIGHT
TZOFFSETFROM:+0100
TZOFFSETTO:+0200
TZNAME:CEST
DTSTART:20170326T010000
END:DAYLIGHT
BEGIN:STANDARD
TZOFFSETFROM:+0200
TZOFFSETTO:+0100
TZNAME:CET
DTSTART:20171029T010000
END:STANDARD
BEGIN:DAYLIGHT
TZOFFSETFROM:+0100
TZOFFSETTO:+0200
TZNAME:CEST
DTSTART:20180325T010000
END:DAYLIGHT
BEGIN:STANDARD
TZOFFSETFROM:+0200
TZOFFSETTO:+0100
TZNAME:CET
DTSTART:20181028T010000
END:STANDARD
END:VTIMEZONE
BEGIN:VEVENT
DTSTART;VALUE=DATE:20170709
DTEND;VALUE=DATE:20170710
DTSTAMP:20260425T051133
CREATED:20170516T055657Z
LAST-MODIFIED:20170516T055657Z
UID:9163-1499558400-1499644799@gckib.iwanowice.pl
SUMMARY:Piknik Strażacki w Sułkowicach
DESCRIPTION:
URL:https://gckib.iwanowice.pl/wydarzenie/piknik-strazacki-w-sulkowicach/
END:VEVENT
BEGIN:VEVENT
DTSTART;VALUE=DATE:20170716
DTEND;VALUE=DATE:20170717
DTSTAMP:20260425T051133
CREATED:20170606T082443Z
LAST-MODIFIED:20170606T082443Z
UID:9639-1500163200-1500249599@gckib.iwanowice.pl
SUMMARY:Odpust i zabawa taneczna w Naramie
DESCRIPTION:
URL:https://gckib.iwanowice.pl/wydarzenie/odpust-i-zabawa-taneczna-w-naramie/
END:VEVENT
BEGIN:VEVENT
DTSTART;VALUE=DATE:20170723
DTEND;VALUE=DATE:20170724
DTSTAMP:20260425T051133
CREATED:20170124T094452Z
LAST-MODIFIED:20170718T083413Z
UID:7640-1500768000-1500854399@gckib.iwanowice.pl
SUMMARY:Celiniada po strażacku - 70 lat OSP Celiny
DESCRIPTION:Zapraszamy na Jubileusz 70-lecia Ochotniczej Straży Pożarnej w Celinach \n 
URL:https://gckib.iwanowice.pl/wydarzenie/70-lat-osp-celiny/
ATTACH;FMTTYPE=image/jpeg:https://gckib.iwanowice.pl/wp-content/uploads/2017/01/OSP-Celiny.jpg
END:VEVENT
BEGIN:VEVENT
DTSTART;VALUE=DATE:20170723
DTEND;VALUE=DATE:20170724
DTSTAMP:20260425T051133
CREATED:20170606T082759Z
LAST-MODIFIED:20170718T085131Z
UID:9641-1500768000-1500854399@gckib.iwanowice.pl
SUMMARY:III Turniej Piłki Nożnej Kobiet
DESCRIPTION:LTS Novi Narama zaprasza na III Turniej Piłki Nożnej Kobiet o Puchar Starosty Krakowskiego\, który odbędzie się 23 lipca 2017 r. o godz. 13.30 na boisku LTS Novi Narama.
URL:https://gckib.iwanowice.pl/wydarzenie/lts-novi-narama/
ATTACH;FMTTYPE=image/jpeg:https://gckib.iwanowice.pl/wp-content/uploads/2017/06/Novi-Narama-1000-x-1406.jpg
END:VEVENT
BEGIN:VEVENT
DTSTART;TZID=Europe/Warsaw:20170729T160000
DTEND;TZID=Europe/Warsaw:20170729T200000
DTSTAMP:20260425T051133
CREATED:20170710T072559Z
LAST-MODIFIED:20170710T074521Z
UID:10627-1501344000-1501358400@gckib.iwanowice.pl
SUMMARY:Piknik Rodzinny w Żerkowicach
DESCRIPTION:Rada Sołecka Wsi Żerkowice zaprasza na Piknik Rodzinny\, który odbędzie się w sobotę 29 lipca od godz. 16.00 na terenie placu zabaw w Żerkowicach.
URL:https://gckib.iwanowice.pl/wydarzenie/piknik-rodzinny-w-zerkowicach-2/
ATTACH;FMTTYPE=image/jpeg:https://gckib.iwanowice.pl/wp-content/uploads/2017/07/4-1.jpg
END:VEVENT
END:VCALENDAR