BEGIN:VCALENDAR
VERSION:2.0
PRODID:-//GCKiB - ECPv6.15.20//NONSGML v1.0//EN
CALSCALE:GREGORIAN
METHOD:PUBLISH
X-ORIGINAL-URL:https://gckib.iwanowice.pl
X-WR-CALDESC:Wydarzenia dla GCKiB
REFRESH-INTERVAL;VALUE=DURATION:PT1H
X-Robots-Tag:noindex
X-PUBLISHED-TTL:PT1H
BEGIN:VTIMEZONE
TZID:Europe/Warsaw
BEGIN:DAYLIGHT
TZOFFSETFROM:+0100
TZOFFSETTO:+0200
TZNAME:CEST
DTSTART:20150329T010000
END:DAYLIGHT
BEGIN:STANDARD
TZOFFSETFROM:+0200
TZOFFSETTO:+0100
TZNAME:CET
DTSTART:20151025T010000
END:STANDARD
BEGIN:DAYLIGHT
TZOFFSETFROM:+0100
TZOFFSETTO:+0200
TZNAME:CEST
DTSTART:20160327T010000
END:DAYLIGHT
BEGIN:STANDARD
TZOFFSETFROM:+0200
TZOFFSETTO:+0100
TZNAME:CET
DTSTART:20161030T010000
END:STANDARD
BEGIN:DAYLIGHT
TZOFFSETFROM:+0100
TZOFFSETTO:+0200
TZNAME:CEST
DTSTART:20170326T010000
END:DAYLIGHT
BEGIN:STANDARD
TZOFFSETFROM:+0200
TZOFFSETTO:+0100
TZNAME:CET
DTSTART:20171029T010000
END:STANDARD
END:VTIMEZONE
BEGIN:VEVENT
DTSTART;VALUE=DATE:20161216
DTEND;VALUE=DATE:20161217
DTSTAMP:20260425T174838
CREATED:20161121T153138Z
LAST-MODIFIED:20161121T153211Z
UID:6818-1481846400-1481932799@gckib.iwanowice.pl
SUMMARY:Ostateczny termin składania prac w Gminnym Konkursie Plastycznym – ANIOŁY 2016
DESCRIPTION:
URL:https://gckib.iwanowice.pl/wydarzenie/ostateczny-termin-skladania-prac-w-gminnym-konkursie-plastycznym-anioly-2016/
ATTACH;FMTTYPE=image/jpeg:https://gckib.iwanowice.pl/wp-content/uploads/2016/11/konkurs-Anioly-2016.jpg
END:VEVENT
BEGIN:VEVENT
DTSTART;VALUE=DATE:20161216
DTEND;VALUE=DATE:20161219
DTSTAMP:20260425T174838
CREATED:20161205T152641Z
LAST-MODIFIED:20161205T152641Z
UID:7173-1481846400-1482105599@gckib.iwanowice.pl
SUMMARY:Wiedeń 16-17-18 – 12- 2016
DESCRIPTION:Gminne Centrum Kultury i Bibliotek w Iwanowicach oraz stowarzyszenia Kulturalno – Oświatowe im. św. Jana Bosko w Celinach zapraszają na wycieczkę do Wiednia na Targi  Bożonarodzeniowe. \nWyjazd w nocy z piątku na sobotę o godz 1.00 –  parking pod Gminą Iwanowice \nNocny przejazd przez Polskę\, Czechy\, \nOk . godz 5.30 – 6.00\, postój na granicy czesko-austriackiej. Z granicy mamy ok 60 km do stolicy Austrii . \nPrzyjazd na wzgórze Kahlenberg ok. godz 8.30.
URL:https://gckib.iwanowice.pl/wydarzenie/wieden-16-17-18-12-2016/
ATTACH;FMTTYPE=image/jpeg:https://gckib.iwanowice.pl/wp-content/uploads/2016/12/plakat.jpg
END:VEVENT
BEGIN:VEVENT
DTSTART;VALUE=DATE:20161219
DTEND;VALUE=DATE:20161220
DTSTAMP:20260425T174838
CREATED:20161121T153405Z
LAST-MODIFIED:20161121T153405Z
UID:6821-1482105600-1482191999@gckib.iwanowice.pl
SUMMARY:Ostateczny termin składania prac w Gminnym Rodzinnym Konkursie Plastycznym „BOMBKA BOŻONARODZENIOWA 2016”
DESCRIPTION:
URL:https://gckib.iwanowice.pl/wydarzenie/ostateczny-termin-skladania-prac-w-gminnym-rodzinnym-konkursie-plastycznym-bombka-bozonarodzeniowa-2016/
ATTACH;FMTTYPE=image/jpeg:https://gckib.iwanowice.pl/wp-content/uploads/2016/11/bombkq-bozonaodzeniowa.jpg
END:VEVENT
BEGIN:VEVENT
DTSTART;VALUE=DATE:20161219
DTEND;VALUE=DATE:20161220
DTSTAMP:20260425T174838
CREATED:20161121T153540Z
LAST-MODIFIED:20161121T153540Z
UID:6823-1482105600-1482191999@gckib.iwanowice.pl
SUMMARY:Ostateczny termin składania prac w Gminnym Rodzinnym Konkursie Plastycznym „KARTKA BOŻONARODZENIOWA 2016”
DESCRIPTION:
URL:https://gckib.iwanowice.pl/wydarzenie/ostateczny-termin-skladania-prac-w-gminnym-rodzinnym-konkursie-plastycznym-kartka-bozonarodzeniowa-2016/
ATTACH;FMTTYPE=image/jpeg:https://gckib.iwanowice.pl/wp-content/uploads/2016/11/kartka.jpg
END:VEVENT
END:VCALENDAR