BEGIN:VCALENDAR
VERSION:2.0
PRODID:-//GCKiB - ECPv6.15.20//NONSGML v1.0//EN
CALSCALE:GREGORIAN
METHOD:PUBLISH
X-ORIGINAL-URL:https://gckib.iwanowice.pl
X-WR-CALDESC:Wydarzenia dla GCKiB
REFRESH-INTERVAL;VALUE=DURATION:PT1H
X-Robots-Tag:noindex
X-PUBLISHED-TTL:PT1H
BEGIN:VTIMEZONE
TZID:Europe/Warsaw
BEGIN:DAYLIGHT
TZOFFSETFROM:+0100
TZOFFSETTO:+0200
TZNAME:CEST
DTSTART:20150329T010000
END:DAYLIGHT
BEGIN:STANDARD
TZOFFSETFROM:+0200
TZOFFSETTO:+0100
TZNAME:CET
DTSTART:20151025T010000
END:STANDARD
BEGIN:DAYLIGHT
TZOFFSETFROM:+0100
TZOFFSETTO:+0200
TZNAME:CEST
DTSTART:20160327T010000
END:DAYLIGHT
BEGIN:STANDARD
TZOFFSETFROM:+0200
TZOFFSETTO:+0100
TZNAME:CET
DTSTART:20161030T010000
END:STANDARD
BEGIN:DAYLIGHT
TZOFFSETFROM:+0100
TZOFFSETTO:+0200
TZNAME:CEST
DTSTART:20170326T010000
END:DAYLIGHT
BEGIN:STANDARD
TZOFFSETFROM:+0200
TZOFFSETTO:+0100
TZNAME:CET
DTSTART:20171029T010000
END:STANDARD
END:VTIMEZONE
BEGIN:VEVENT
DTSTART;TZID=Europe/Warsaw:20161103T140000
DTEND;TZID=Europe/Warsaw:20161103T163000
DTSTAMP:20260425T194314
CREATED:20160922T084808Z
LAST-MODIFIED:20160922T084808Z
UID:5711-1478181600-1478190600@gckib.iwanowice.pl
SUMMARY:Wyjazd na basen z projektu "Już pływam"
DESCRIPTION:godz.14.00 – uczniowie ze S.P. z Widomej oraz 15 osób ze S.P. z Sieciechowic
URL:https://gckib.iwanowice.pl/wydarzenie/wyjazd-na-basen-z-projektu-juz-plywam-13/
LOCATION:Miechów
ATTACH;FMTTYPE=image/jpeg:https://gckib.iwanowice.pl/wp-content/uploads/2016/09/aa-5.jpg
END:VEVENT
BEGIN:VEVENT
DTSTART;TZID=Europe/Warsaw:20161103T160000
DTEND;TZID=Europe/Warsaw:20161103T183000
DTSTAMP:20260425T194314
CREATED:20160922T085043Z
LAST-MODIFIED:20160922T085043Z
UID:5715-1478188800-1478197800@gckib.iwanowice.pl
SUMMARY:Wyjazd na basen z projektu "Już pływam"
DESCRIPTION:godz.16.00 – uczniowie ze S.P. z Celin oraz 15 osób ze S.P. z Sieciechowic
URL:https://gckib.iwanowice.pl/wydarzenie/wyjazd-na-basen-z-projektu-juz-plywam-14/
LOCATION:Miechów
ATTACH;FMTTYPE=image/jpeg:https://gckib.iwanowice.pl/wp-content/uploads/2016/09/aa-5.jpg
END:VEVENT
BEGIN:VEVENT
DTSTART;TZID=Europe/Warsaw:20161110T140000
DTEND;TZID=Europe/Warsaw:20161110T163000
DTSTAMP:20260425T194314
CREATED:20160922T085251Z
LAST-MODIFIED:20160922T085302Z
UID:5719-1478786400-1478795400@gckib.iwanowice.pl
SUMMARY:Wyjazd na basen z projektu "Już pływam"
DESCRIPTION:godz.14.00 – uczniowie ze S.P. z Widomej oraz 15 osób ze S.P. z Sieciechowic
URL:https://gckib.iwanowice.pl/wydarzenie/wyjazd-na-basen-z-projektu-juz-plywam-15/
LOCATION:Miechów
ATTACH;FMTTYPE=image/jpeg:https://gckib.iwanowice.pl/wp-content/uploads/2016/09/aa-5.jpg
END:VEVENT
BEGIN:VEVENT
DTSTART;TZID=Europe/Warsaw:20161110T160000
DTEND;TZID=Europe/Warsaw:20161110T183000
DTSTAMP:20260425T194314
CREATED:20160922T085713Z
LAST-MODIFIED:20160922T085713Z
UID:5724-1478793600-1478802600@gckib.iwanowice.pl
SUMMARY:Wyjazd na basen z projektu "Już pływam"
DESCRIPTION:godz.16.00 – uczniowie ze S.P. z Celin oraz 15 osób ze S.P. z Sieciechowic
URL:https://gckib.iwanowice.pl/wydarzenie/wyjazd-na-basen-z-projektu-juz-plywam-16/
LOCATION:Miechów
ATTACH;FMTTYPE=image/jpeg:https://gckib.iwanowice.pl/wp-content/uploads/2016/09/aa-5.jpg
END:VEVENT
BEGIN:VEVENT
DTSTART;TZID=Europe/Warsaw:20161111T140000
DTEND;TZID=Europe/Warsaw:20161111T180000
DTSTAMP:20260425T194315
CREATED:20160907T074742Z
LAST-MODIFIED:20161108T113513Z
UID:4713-1478872800-1478887200@gckib.iwanowice.pl
SUMMARY:Gminne Terenowe Biegi Niepodległości w Grzegorzowicach
DESCRIPTION:Dnia 11 listopada 2016 r. odbędą się Gminne Terenowe Biegi Niepodległości organizowane przez Gimnazjum im. Noblistów Polskich w Grzegorzowicach pod patronatem GCKiB w Iwanowicach.
URL:https://gckib.iwanowice.pl/wydarzenie/gminne-terenowe-biegi-niepodleglosci-w-grzegorzowicach/
ATTACH;FMTTYPE=image/jpeg:https://gckib.iwanowice.pl/wp-content/uploads/2016/11/biegi-niepodległościowe-800-x-450.jpg
END:VEVENT
BEGIN:VEVENT
DTSTART;TZID=Europe/Warsaw:20161111T180000
DTEND;TZID=Europe/Warsaw:20161111T200000
DTSTAMP:20260425T194315
CREATED:20160907T075011Z
LAST-MODIFIED:20161108T113119Z
UID:4716-1478887200-1478894400@gckib.iwanowice.pl
SUMMARY:"Legiony to żołnierska nuta" – Obchody Święta Odzyskania Niepodległości
DESCRIPTION:W dniu 11 listopada 2016 r. odbędą się Obchody Święta Odzyskania Niepodległości \,\,Legiony to żołnierska nuta”. \nWydarzenie uzyskało dofinansowanie ze środków Gminnego Centrum Kultury i Bibliotek w Iwanowicach w ramach DK+ 2016.
URL:https://gckib.iwanowice.pl/wydarzenie/legiony-to-zolnierska-nuta-obchody-swieta-odzyskania-niepodleglosci/
ATTACH;FMTTYPE=image/jpeg:https://gckib.iwanowice.pl/wp-content/uploads/2016/11/Obraz1.jpg
END:VEVENT
BEGIN:VEVENT
DTSTART;TZID=Europe/Warsaw:20161128T170000
DTEND;TZID=Europe/Warsaw:20161128T190000
DTSTAMP:20260425T194315
CREATED:20161121T152440Z
LAST-MODIFIED:20161121T152440Z
UID:6811-1480352400-1480359600@gckib.iwanowice.pl
SUMMARY:Spotkanie podsumowujące wyjazd na Litwę 2016
DESCRIPTION:
URL:https://gckib.iwanowice.pl/wydarzenie/spotkanie-podsumowujace-wyjazd-na-litwe-2016/
LOCATION:Sala Obrad Urzędu Gminy Iwanowice
END:VEVENT
END:VCALENDAR