BEGIN:VCALENDAR
VERSION:2.0
PRODID:-//GCKiB - ECPv6.15.20//NONSGML v1.0//EN
CALSCALE:GREGORIAN
METHOD:PUBLISH
X-WR-CALNAME:GCKiB
X-ORIGINAL-URL:https://gckib.iwanowice.pl
X-WR-CALDESC:Wydarzenia dla GCKiB
REFRESH-INTERVAL;VALUE=DURATION:PT1H
X-Robots-Tag:noindex
X-PUBLISHED-TTL:PT1H
BEGIN:VTIMEZONE
TZID:Europe/Warsaw
BEGIN:DAYLIGHT
TZOFFSETFROM:+0100
TZOFFSETTO:+0200
TZNAME:CEST
DTSTART:20150329T010000
END:DAYLIGHT
BEGIN:STANDARD
TZOFFSETFROM:+0200
TZOFFSETTO:+0100
TZNAME:CET
DTSTART:20151025T010000
END:STANDARD
BEGIN:DAYLIGHT
TZOFFSETFROM:+0100
TZOFFSETTO:+0200
TZNAME:CEST
DTSTART:20160327T010000
END:DAYLIGHT
BEGIN:STANDARD
TZOFFSETFROM:+0200
TZOFFSETTO:+0100
TZNAME:CET
DTSTART:20161030T010000
END:STANDARD
BEGIN:DAYLIGHT
TZOFFSETFROM:+0100
TZOFFSETTO:+0200
TZNAME:CEST
DTSTART:20170326T010000
END:DAYLIGHT
BEGIN:STANDARD
TZOFFSETFROM:+0200
TZOFFSETTO:+0100
TZNAME:CET
DTSTART:20171029T010000
END:STANDARD
END:VTIMEZONE
BEGIN:VEVENT
DTSTART;TZID=Europe/Warsaw:20160918T140000
DTEND;TZID=Europe/Warsaw:20160918T200000
DTSTAMP:20260425T233518
CREATED:20160830T091813Z
LAST-MODIFIED:20160908T093154Z
UID:4590-1474207200-1474228800@gckib.iwanowice.pl
SUMMARY:Poświęcenie samochodu strażackiego w Sieciechowicach
DESCRIPTION:W dniu 18 września 2016 r. (niedziela) odbędzie się poświęcenie samochodu strażackiego OSP Sieciechowice.
URL:https://gckib.iwanowice.pl/wydarzenie/poswiecenie-samochodu-strazackiego-w-sieciechowicach/
ATTACH;FMTTYPE=image/jpeg:https://gckib.iwanowice.pl/wp-content/uploads/2016/08/OSP-Sieciechowice-003.jpg
END:VEVENT
BEGIN:VEVENT
DTSTART;TZID=Europe/Warsaw:20160922T140000
DTEND;TZID=Europe/Warsaw:20160922T163000
DTSTAMP:20260425T233518
CREATED:20160922T074452Z
LAST-MODIFIED:20160922T082441Z
UID:5657-1474552800-1474561800@gckib.iwanowice.pl
SUMMARY:Wyjazd na basen z projektu "Już pływam"
DESCRIPTION:godz.14.00 – uczniowie ze S.P. z Widomej oraz 15 osób ze S.P. z Sieciechowic
URL:https://gckib.iwanowice.pl/wydarzenie/wyjazd-na-basen-z-projektu-juz-plywam/
LOCATION:Miechów
ATTACH;FMTTYPE=image/jpeg:https://gckib.iwanowice.pl/wp-content/uploads/2016/09/aa-5.jpg
END:VEVENT
BEGIN:VEVENT
DTSTART;TZID=Europe/Warsaw:20160922T160000
DTEND;TZID=Europe/Warsaw:20160922T183000
DTSTAMP:20260425T233518
CREATED:20160922T075317Z
LAST-MODIFIED:20160922T075317Z
UID:5671-1474560000-1474569000@gckib.iwanowice.pl
SUMMARY:Wyjazd na basen z projektu "Już pływam"
DESCRIPTION:godz.16.00 – uczniowie ze S.P. z Celin oraz 15 osób ze S.P. z Sieciechowic
URL:https://gckib.iwanowice.pl/wydarzenie/wyjazd-na-basen-z-projektu-juz-plywam-4/
LOCATION:Miechów
ATTACH;FMTTYPE=image/jpeg:https://gckib.iwanowice.pl/wp-content/uploads/2016/09/aa-5.jpg
END:VEVENT
BEGIN:VEVENT
DTSTART;VALUE=DATE:20160923
DTEND;VALUE=DATE:20160924
DTSTAMP:20260425T233518
CREATED:20160923T092731Z
LAST-MODIFIED:20160923T201237Z
UID:5732-1474588800-1474675199@gckib.iwanowice.pl
SUMMARY:Akcja "Pomóż Polskim Dzieciom na Litwie"
DESCRIPTION:Rozpoczęcie akcji
URL:https://gckib.iwanowice.pl/wydarzenie/akcja-pomoz-polskim-dzieciom-na-litwie/
ATTACH;FMTTYPE=image/jpeg:https://gckib.iwanowice.pl/wp-content/uploads/2016/09/plakat-litwa.jpg
END:VEVENT
BEGIN:VEVENT
DTSTART;TZID=Europe/Warsaw:20160929T140000
DTEND;TZID=Europe/Warsaw:20160929T163000
DTSTAMP:20260425T233518
CREATED:20160922T075010Z
LAST-MODIFIED:20160922T075456Z
UID:5666-1475157600-1475166600@gckib.iwanowice.pl
SUMMARY:Wyjazd na basen z projektu "Już pływam"
DESCRIPTION:godz.14.00 – uczniowie ze S.P. z Widomej oraz 15 osób ze S.P. z Sieciechowic
URL:https://gckib.iwanowice.pl/wydarzenie/wyjazd-na-basen-z-projektu-juz-plywam-3/
LOCATION:Miechów
ATTACH;FMTTYPE=image/jpeg:https://gckib.iwanowice.pl/wp-content/uploads/2016/09/aa-5.jpg
END:VEVENT
BEGIN:VEVENT
DTSTART;TZID=Europe/Warsaw:20160929T160000
DTEND;TZID=Europe/Warsaw:20160929T183000
DTSTAMP:20260425T233518
CREATED:20160922T082733Z
LAST-MODIFIED:20160922T082733Z
UID:5675-1475164800-1475173800@gckib.iwanowice.pl
SUMMARY:Wyjazd na basen z projektu "Już pływam"
DESCRIPTION:godz.16.00 – uczniowie ze S.P. z Celin oraz 15 osób ze S.P. z Sieciechowic
URL:https://gckib.iwanowice.pl/wydarzenie/wyjazd-na-basen-z-projektu-juz-plywam-2/
LOCATION:Miechów
ATTACH;FMTTYPE=image/jpeg:https://gckib.iwanowice.pl/wp-content/uploads/2016/09/aa-5.jpg
END:VEVENT
BEGIN:VEVENT
DTSTART;TZID=Europe/Warsaw:20160930T150000
DTEND;TZID=Europe/Warsaw:20160930T180000
DTSTAMP:20260425T233518
CREATED:20160927T211218Z
LAST-MODIFIED:20160927T211218Z
UID:5763-1475247600-1475258400@gckib.iwanowice.pl
SUMMARY:Turniej Piłki Nożnej dla dzieci
DESCRIPTION:
URL:https://gckib.iwanowice.pl/wydarzenie/turniej-pilki-noznej-dla-dzieci/
ATTACH;FMTTYPE=image/jpeg:https://gckib.iwanowice.pl/wp-content/uploads/2016/09/plakat.jpg
END:VEVENT
END:VCALENDAR