BEGIN:VCALENDAR
VERSION:2.0
PRODID:-//GCKiB - ECPv6.15.20//NONSGML v1.0//EN
CALSCALE:GREGORIAN
METHOD:PUBLISH
X-WR-CALNAME:GCKiB
X-ORIGINAL-URL:https://gckib.iwanowice.pl
X-WR-CALDESC:Wydarzenia dla GCKiB
REFRESH-INTERVAL;VALUE=DURATION:PT1H
X-Robots-Tag:noindex
X-PUBLISHED-TTL:PT1H
BEGIN:VTIMEZONE
TZID:Europe/Warsaw
BEGIN:DAYLIGHT
TZOFFSETFROM:+0100
TZOFFSETTO:+0200
TZNAME:CEST
DTSTART:20150329T010000
END:DAYLIGHT
BEGIN:STANDARD
TZOFFSETFROM:+0200
TZOFFSETTO:+0100
TZNAME:CET
DTSTART:20151025T010000
END:STANDARD
BEGIN:DAYLIGHT
TZOFFSETFROM:+0100
TZOFFSETTO:+0200
TZNAME:CEST
DTSTART:20160327T010000
END:DAYLIGHT
BEGIN:STANDARD
TZOFFSETFROM:+0200
TZOFFSETTO:+0100
TZNAME:CET
DTSTART:20161030T010000
END:STANDARD
BEGIN:DAYLIGHT
TZOFFSETFROM:+0100
TZOFFSETTO:+0200
TZNAME:CEST
DTSTART:20170326T010000
END:DAYLIGHT
BEGIN:STANDARD
TZOFFSETFROM:+0200
TZOFFSETTO:+0100
TZNAME:CET
DTSTART:20171029T010000
END:STANDARD
END:VTIMEZONE
BEGIN:VEVENT
DTSTART;TZID=Europe/Warsaw:20160815T093000
DTEND;TZID=Europe/Warsaw:20160815T120000
DTSTAMP:20260426T012232
CREATED:20160812T160441Z
LAST-MODIFIED:20160907T075359Z
UID:4446-1471253400-1471262400@gckib.iwanowice.pl
SUMMARY:Uroczystości Święta Wojska Polskiego
DESCRIPTION:Zapraszamy przedstawicieli jednostek Ochotniczych Straży Pożarnych\, szkół\, instytucji społecznych i samorządowych oraz mieszkańców Gminy Iwanowice na uroczystości z okazji Święta Wojska Polskiego. Jak co roku o godz. 9.30 sformujemy pochód\, który z Rynku w Iwanowicach przemaszeruje pod Pomnik Ofiar II Wojny Światowej gdzie zostaną złożone kwiaty a następnie zapraszamy na uroczystą mszę św. w Kościele św. Trójcy w Iwanowicach.
URL:https://gckib.iwanowice.pl/wydarzenie/uroczystosci-swieta-wojska-polskiego/
ATTACH;FMTTYPE=image/png:https://gckib.iwanowice.pl/wp-content/uploads/2016/08/plakat.png
END:VEVENT
BEGIN:VEVENT
DTSTART;VALUE=DATE:20160821
DTEND;VALUE=DATE:20160822
DTSTAMP:20260426T012232
CREATED:20160816T080232Z
LAST-MODIFIED:20160830T091316Z
UID:4448-1471737600-1471823999@gckib.iwanowice.pl
SUMMARY:Dożynki Gminy Iwanowice
DESCRIPTION:Wójt Gminy Iwanowice\, Przewodniczący Rady Gminy Iwanowice\, Dyrektor Gminnego Centrum Kultury i Bibliotek w Iwanowicach zapraszają na DOŻYNKI GMINY IWANOWICE WE WŁADYSŁAWIE.
URL:https://gckib.iwanowice.pl/wydarzenie/4448/
LOCATION:Władysław\, Władysław\, małopolskie\, Polska
ATTACH;FMTTYPE=image/png:https://gckib.iwanowice.pl/wp-content/uploads/2016/08/dozynki.png
END:VEVENT
BEGIN:VEVENT
DTSTART;VALUE=DATE:20160827
DTEND;VALUE=DATE:20160828
DTSTAMP:20260426T012232
CREATED:20160816T082539Z
LAST-MODIFIED:20160816T083134Z
UID:4454-1472256000-1472342399@gckib.iwanowice.pl
SUMMARY:Pożegnanie Lata
DESCRIPTION:Pożegnanie Lata 2016 organizowane przez Koło Gospodyń Wiejskich Zalesie oraz OSP Zalesie pod patronatem GCKiB w Iwanowicach.
URL:https://gckib.iwanowice.pl/wydarzenie/pozegnanie-lata/
ATTACH;FMTTYPE=image/png:https://gckib.iwanowice.pl/wp-content/uploads/2016/08/pozegnanie-lata.png
END:VEVENT
BEGIN:VEVENT
DTSTART;TZID=Europe/Warsaw:20160828T110000
DTEND;TZID=Europe/Warsaw:20160828T170000
DTSTAMP:20260426T012232
CREATED:20160816T083336Z
LAST-MODIFIED:20160907T073839Z
UID:4456-1472382000-1472403600@gckib.iwanowice.pl
SUMMARY:Piknik "Z wiewiórką pod chmurką”
DESCRIPTION:Piknik – Pożegnanie Lata \,\,Z wiewiórką pod chmurką”. Wydarzenie uzyskało dofinansowanie ze środków Gminnego Centrum Kultury i Bibliotek w Iwanowicach w ramach DK+ 2016.
URL:https://gckib.iwanowice.pl/wydarzenie/piknik-z-wiewiorka-pod-chmurka/
ATTACH;FMTTYPE=image/png:https://gckib.iwanowice.pl/wp-content/uploads/2016/08/piknik.png
END:VEVENT
END:VCALENDAR