BEGIN:VCALENDAR
VERSION:2.0
PRODID:-//GCKiB - ECPv6.15.20//NONSGML v1.0//EN
CALSCALE:GREGORIAN
METHOD:PUBLISH
X-ORIGINAL-URL:https://gckib.iwanowice.pl
X-WR-CALDESC:Wydarzenia dla GCKiB
REFRESH-INTERVAL;VALUE=DURATION:PT1H
X-Robots-Tag:noindex
X-PUBLISHED-TTL:PT1H
BEGIN:VTIMEZONE
TZID:Europe/Warsaw
BEGIN:DAYLIGHT
TZOFFSETFROM:+0100
TZOFFSETTO:+0200
TZNAME:CEST
DTSTART:20220327T010000
END:DAYLIGHT
BEGIN:STANDARD
TZOFFSETFROM:+0200
TZOFFSETTO:+0100
TZNAME:CET
DTSTART:20221030T010000
END:STANDARD
BEGIN:DAYLIGHT
TZOFFSETFROM:+0100
TZOFFSETTO:+0200
TZNAME:CEST
DTSTART:20230326T010000
END:DAYLIGHT
BEGIN:STANDARD
TZOFFSETFROM:+0200
TZOFFSETTO:+0100
TZNAME:CET
DTSTART:20231029T010000
END:STANDARD
BEGIN:DAYLIGHT
TZOFFSETFROM:+0100
TZOFFSETTO:+0200
TZNAME:CEST
DTSTART:20240331T010000
END:DAYLIGHT
BEGIN:STANDARD
TZOFFSETFROM:+0200
TZOFFSETTO:+0100
TZNAME:CET
DTSTART:20241027T010000
END:STANDARD
BEGIN:DAYLIGHT
TZOFFSETFROM:+0100
TZOFFSETTO:+0200
TZNAME:CEST
DTSTART:20250330T010000
END:DAYLIGHT
BEGIN:STANDARD
TZOFFSETFROM:+0200
TZOFFSETTO:+0100
TZNAME:CET
DTSTART:20251026T010000
END:STANDARD
END:VTIMEZONE
BEGIN:VEVENT
DTSTART;TZID=Europe/Warsaw:20240109T174500
DTEND;TZID=Europe/Warsaw:20240109T184000
DTSTAMP:20260424T234805
CREATED:20231102T114414Z
LAST-MODIFIED:20231102T114414Z
UID:45135-1704822300-1704825600@gckib.iwanowice.pl
SUMMARY:Zumba junior
DESCRIPTION:
URL:https://gckib.iwanowice.pl/wydarzenie/zumba-junior-11/
LOCATION:mała sala przy ZS – P w Iwanowicach Włościańskich
CATEGORIES:Zumba junior
END:VEVENT
BEGIN:VEVENT
DTSTART;TZID=Europe/Warsaw:20240109T170000
DTEND;TZID=Europe/Warsaw:20240109T174500
DTSTAMP:20260424T234805
CREATED:20231102T114303Z
LAST-MODIFIED:20231102T114303Z
UID:45133-1704819600-1704822300@gckib.iwanowice.pl
SUMMARY:Szachy
DESCRIPTION:
URL:https://gckib.iwanowice.pl/wydarzenie/szachy-22/
LOCATION:Gminne Centrum Kultury i Bibliotek w Iwanowicach\, Strażacka 5\, Iwanowice Włościańskie
CATEGORIES:Szachy
END:VEVENT
BEGIN:VEVENT
DTSTART;TZID=Europe/Warsaw:20240109T161500
DTEND;TZID=Europe/Warsaw:20240109T174500
DTSTAMP:20260424T234805
CREATED:20231102T113834Z
LAST-MODIFIED:20231102T113834Z
UID:45125-1704816900-1704822300@gckib.iwanowice.pl
SUMMARY:Warsztaty okazjonalne
DESCRIPTION:
URL:https://gckib.iwanowice.pl/wydarzenie/warsztaty-okazjonalne-12/
LOCATION:Gminne Centrum Kultury i Bibliotek w Iwanowicach\, Strażacka 5\, Iwanowice Włościańskie
CATEGORIES:Warsztaty okazjonalne
END:VEVENT
BEGIN:VEVENT
DTSTART;TZID=Europe/Warsaw:20240109T161500
DTEND;TZID=Europe/Warsaw:20240109T170000
DTSTAMP:20260424T234805
CREATED:20231102T114119Z
LAST-MODIFIED:20231102T114119Z
UID:45129-1704816900-1704819600@gckib.iwanowice.pl
SUMMARY:Szachy
DESCRIPTION:
URL:https://gckib.iwanowice.pl/wydarzenie/szachy-21/
LOCATION:Gminne Centrum Kultury i Bibliotek w Iwanowicach\, Strażacka 5\, Iwanowice Włościańskie
CATEGORIES:Szachy
END:VEVENT
BEGIN:VEVENT
DTSTART;TZID=Europe/Warsaw:20240109T160000
DTEND;TZID=Europe/Warsaw:20240109T170000
DTSTAMP:20260424T234805
CREATED:20231102T114528Z
LAST-MODIFIED:20231102T114528Z
UID:45137-1704816000-1704819600@gckib.iwanowice.pl
SUMMARY:Jump judo
DESCRIPTION:
URL:https://gckib.iwanowice.pl/wydarzenie/jump-judo-32/
LOCATION:mała sala przy ZS – P w Iwanowicach Włościańskich
END:VEVENT
BEGIN:VEVENT
DTSTART;TZID=Europe/Warsaw:20240109T143000
DTEND;TZID=Europe/Warsaw:20240109T150000
DTSTAMP:20260424T234805
CREATED:20231102T113611Z
LAST-MODIFIED:20231102T113611Z
UID:45121-1704810600-1704812400@gckib.iwanowice.pl
SUMMARY:Jump judo
DESCRIPTION:
URL:https://gckib.iwanowice.pl/wydarzenie/jump-judo-30/
LOCATION:mała sala przy ZS – P w Iwanowicach Włościańskich
END:VEVENT
BEGIN:VEVENT
DTSTART;TZID=Europe/Warsaw:20240108T183000
DTEND;TZID=Europe/Warsaw:20240108T193000
DTSTAMP:20260424T234805
CREATED:20231102T112444Z
LAST-MODIFIED:20231102T112444Z
UID:45119-1704738600-1704742200@gckib.iwanowice.pl
SUMMARY:Joga
DESCRIPTION:
URL:https://gckib.iwanowice.pl/wydarzenie/joga-11/
LOCATION:mała sala przy ZS – P w Iwanowicach Włościańskich
CATEGORIES:joga
END:VEVENT
BEGIN:VEVENT
DTSTART;TZID=Europe/Warsaw:20240108T160000
DTEND;TZID=Europe/Warsaw:20240108T170000
DTSTAMP:20260424T234805
CREATED:20231102T113707Z
LAST-MODIFIED:20231102T113707Z
UID:45123-1704729600-1704733200@gckib.iwanowice.pl
SUMMARY:Jump judo
DESCRIPTION:
URL:https://gckib.iwanowice.pl/wydarzenie/jump-judo-31/
LOCATION:mała sala przy ZS – P w Iwanowicach Włościańskich
END:VEVENT
BEGIN:VEVENT
DTSTART;TZID=Europe/Warsaw:20240105T160000
DTEND;TZID=Europe/Warsaw:20240105T170000
DTSTAMP:20260424T234805
CREATED:20231102T111654Z
LAST-MODIFIED:20231102T111654Z
UID:45109-1704470400-1704474000@gckib.iwanowice.pl
SUMMARY:Capoeira
DESCRIPTION:
URL:https://gckib.iwanowice.pl/wydarzenie/capoeira-22/
LOCATION:mała sala przy ZS – P w Iwanowicach Włościańskich
CATEGORIES:Capoeira
END:VEVENT
BEGIN:VEVENT
DTSTART;TZID=Europe/Warsaw:20240105T150000
DTEND;TZID=Europe/Warsaw:20240105T160000
DTSTAMP:20260424T234805
CREATED:20231102T111554Z
LAST-MODIFIED:20231102T111554Z
UID:45107-1704466800-1704470400@gckib.iwanowice.pl
SUMMARY:Capoeira
DESCRIPTION:
URL:https://gckib.iwanowice.pl/wydarzenie/capoeira-21/
LOCATION:mała sala przy ZS – P w Iwanowicach Włościańskich
CATEGORIES:Capoeira
END:VEVENT
BEGIN:VEVENT
DTSTART;TZID=Europe/Warsaw:20240104T193000
DTEND;TZID=Europe/Warsaw:20240104T203000
DTSTAMP:20260424T234805
CREATED:20231102T111345Z
LAST-MODIFIED:20231102T111345Z
UID:45103-1704396600-1704400200@gckib.iwanowice.pl
SUMMARY:Pilates
DESCRIPTION:
URL:https://gckib.iwanowice.pl/wydarzenie/pilates-11/
LOCATION:mała sala przy ZS – P w Iwanowicach Włościańskich
CATEGORIES:Pilates
END:VEVENT
BEGIN:VEVENT
DTSTART;TZID=Europe/Warsaw:20240104T170000
DTEND;TZID=Europe/Warsaw:20240104T190000
DTSTAMP:20260424T234805
CREATED:20231102T111245Z
LAST-MODIFIED:20231102T111245Z
UID:45101-1704387600-1704394800@gckib.iwanowice.pl
SUMMARY:Planszówki
DESCRIPTION:
URL:https://gckib.iwanowice.pl/wydarzenie/planszowki-11/
LOCATION:Gminne Centrum Kultury i Bibliotek w Iwanowicach\, Strażacka 5\, Iwanowice Włościańskie
CATEGORIES:Planszówki
END:VEVENT
BEGIN:VEVENT
DTSTART;TZID=Europe/Warsaw:20240104T160000
DTEND;TZID=Europe/Warsaw:20240104T170000
DTSTAMP:20260424T234805
CREATED:20231102T111049Z
LAST-MODIFIED:20231102T111049Z
UID:45099-1704384000-1704387600@gckib.iwanowice.pl
SUMMARY:Jump judo
DESCRIPTION:
URL:https://gckib.iwanowice.pl/wydarzenie/jump-judo-29/
LOCATION:mała sala przy ZS – P w Iwanowicach Włościańskich
END:VEVENT
BEGIN:VEVENT
DTSTART;TZID=Europe/Warsaw:20240104T120000
DTEND;TZID=Europe/Warsaw:20240104T180000
DTSTAMP:20260424T234805
CREATED:20231102T110950Z
LAST-MODIFIED:20231102T110950Z
UID:45097-1704369600-1704391200@gckib.iwanowice.pl
SUMMARY:Zajęcia wokalne
DESCRIPTION:
URL:https://gckib.iwanowice.pl/wydarzenie/zajecia-wokalne-11/
LOCATION:Gminne Centrum Kultury i Bibliotek w Iwanowicach\, Strażacka 5\, Iwanowice Włościańskie
CATEGORIES:wokal
END:VEVENT
BEGIN:VEVENT
DTSTART;TZID=Europe/Warsaw:20240103T190000
DTEND;TZID=Europe/Warsaw:20240103T195500
DTSTAMP:20260424T234805
CREATED:20231102T110838Z
LAST-MODIFIED:20231102T110838Z
UID:45095-1704308400-1704311700@gckib.iwanowice.pl
SUMMARY:Zumba fitness
DESCRIPTION:
URL:https://gckib.iwanowice.pl/wydarzenie/zumba-fitness-12/
LOCATION:mała sala przy ZS – P w Iwanowicach Włościańskich
CATEGORIES:Zumba fitness
END:VEVENT
BEGIN:VEVENT
DTSTART;TZID=Europe/Warsaw:20240103T180000
DTEND;TZID=Europe/Warsaw:20240103T185500
DTSTAMP:20260424T234805
CREATED:20231102T110738Z
LAST-MODIFIED:20231102T110738Z
UID:45093-1704304800-1704308100@gckib.iwanowice.pl
SUMMARY:Zumba gold
DESCRIPTION:
URL:https://gckib.iwanowice.pl/wydarzenie/zumba-gold-11/
LOCATION:mała sala przy ZS – P w Iwanowicach Włościańskich
CATEGORIES:Zumba gold
END:VEVENT
BEGIN:VEVENT
DTSTART;TZID=Europe/Warsaw:20240103T170000
DTEND;TZID=Europe/Warsaw:20240103T174500
DTSTAMP:20260424T234805
CREATED:20231102T110627Z
LAST-MODIFIED:20231102T110627Z
UID:45091-1704301200-1704303900@gckib.iwanowice.pl
SUMMARY:Czarodziejski kuferek
DESCRIPTION:
URL:https://gckib.iwanowice.pl/wydarzenie/czarodziejski-kuferek-11/
LOCATION:Gminne Centrum Kultury i Bibliotek w Iwanowicach\, Strażacka 5\, Iwanowice Włościańskie
CATEGORIES:Czarodziejski kuferek
END:VEVENT
BEGIN:VEVENT
DTSTART;TZID=Europe/Warsaw:20240102T174500
DTEND;TZID=Europe/Warsaw:20240102T184000
DTSTAMP:20260424T234805
CREATED:20231102T110252Z
LAST-MODIFIED:20231102T110252Z
UID:45086-1704217500-1704220800@gckib.iwanowice.pl
SUMMARY:Zumba junior
DESCRIPTION:
URL:https://gckib.iwanowice.pl/wydarzenie/zumba-junior-10/
LOCATION:mała sala przy ZS – P w Iwanowicach Włościańskich
CATEGORIES:Zumba junior
END:VEVENT
BEGIN:VEVENT
DTSTART;TZID=Europe/Warsaw:20240102T170000
DTEND;TZID=Europe/Warsaw:20240102T180000
DTSTAMP:20260424T234805
CREATED:20231102T110147Z
LAST-MODIFIED:20231102T110147Z
UID:45084-1704214800-1704218400@gckib.iwanowice.pl
SUMMARY:Szachy
DESCRIPTION:
URL:https://gckib.iwanowice.pl/wydarzenie/szachy-20/
LOCATION:Gminne Centrum Kultury i Bibliotek w Iwanowicach\, Strażacka 5\, Iwanowice Włościańskie
CATEGORIES:Szachy
END:VEVENT
BEGIN:VEVENT
DTSTART;TZID=Europe/Warsaw:20240102T161500
DTEND;TZID=Europe/Warsaw:20240102T174500
DTSTAMP:20260424T234805
CREATED:20231030T092453Z
LAST-MODIFIED:20231030T092453Z
UID:45044-1704212100-1704217500@gckib.iwanowice.pl
SUMMARY:Warsztaty okazjonalne
DESCRIPTION:
URL:https://gckib.iwanowice.pl/wydarzenie/warsztaty-okazjonalne-11/
LOCATION:Gminne Centrum Kultury i Bibliotek w Iwanowicach\, Strażacka 5\, Iwanowice Włościańskie
CATEGORIES:Warsztaty okazjonalne
END:VEVENT
BEGIN:VEVENT
DTSTART;TZID=Europe/Warsaw:20240102T161500
DTEND;TZID=Europe/Warsaw:20240102T170000
DTSTAMP:20260424T234805
CREATED:20231030T092950Z
LAST-MODIFIED:20231030T092950Z
UID:45048-1704212100-1704214800@gckib.iwanowice.pl
SUMMARY:Szachy
DESCRIPTION:
URL:https://gckib.iwanowice.pl/wydarzenie/szachy-19/
LOCATION:Gminne Centrum Kultury i Bibliotek w Iwanowicach\, Strażacka 5\, Iwanowice Włościańskie
CATEGORIES:Szachy
END:VEVENT
BEGIN:VEVENT
DTSTART;TZID=Europe/Warsaw:20240102T160000
DTEND;TZID=Europe/Warsaw:20240102T170000
DTSTAMP:20260424T234805
CREATED:20231030T092328Z
LAST-MODIFIED:20231030T092328Z
UID:45042-1704211200-1704214800@gckib.iwanowice.pl
SUMMARY:Jump judo
DESCRIPTION:
URL:https://gckib.iwanowice.pl/wydarzenie/jump-judo-28/
LOCATION:mała sala przy ZS – P w Iwanowicach Włościańskich
END:VEVENT
BEGIN:VEVENT
DTSTART;TZID=Europe/Warsaw:20240102T143000
DTEND;TZID=Europe/Warsaw:20240102T150000
DTSTAMP:20260424T234805
CREATED:20231030T092141Z
LAST-MODIFIED:20231030T092141Z
UID:45040-1704205800-1704207600@gckib.iwanowice.pl
SUMMARY:Jump judo
DESCRIPTION:
URL:https://gckib.iwanowice.pl/wydarzenie/jump-judo-27/
LOCATION:mała sala przy ZS – P w Iwanowicach Włościańskich
END:VEVENT
BEGIN:VEVENT
DTSTART;TZID=Europe/Warsaw:20240101T183000
DTEND;TZID=Europe/Warsaw:20240101T193000
DTSTAMP:20260424T234805
CREATED:20231030T092035Z
LAST-MODIFIED:20231030T092035Z
UID:45038-1704133800-1704137400@gckib.iwanowice.pl
SUMMARY:Joga
DESCRIPTION:
URL:https://gckib.iwanowice.pl/wydarzenie/joga-10/
LOCATION:mała sala przy ZS – P w Iwanowicach Włościańskich
CATEGORIES:joga
END:VEVENT
BEGIN:VEVENT
DTSTART;TZID=Europe/Warsaw:20231229T160000
DTEND;TZID=Europe/Warsaw:20231229T170000
DTSTAMP:20260424T234805
CREATED:20231030T091336Z
LAST-MODIFIED:20231030T091336Z
UID:45028-1703865600-1703869200@gckib.iwanowice.pl
SUMMARY:Capoeira
DESCRIPTION:
URL:https://gckib.iwanowice.pl/wydarzenie/capoeira-20/
LOCATION:mała sala przy ZS – P w Iwanowicach Włościańskich
CATEGORIES:Capoeira
END:VEVENT
BEGIN:VEVENT
DTSTART;TZID=Europe/Warsaw:20231229T150000
DTEND;TZID=Europe/Warsaw:20231229T160000
DTSTAMP:20260424T234805
CREATED:20231030T091224Z
LAST-MODIFIED:20231030T091224Z
UID:45026-1703862000-1703865600@gckib.iwanowice.pl
SUMMARY:Capoeira
DESCRIPTION:
URL:https://gckib.iwanowice.pl/wydarzenie/capoeira-19/
LOCATION:mała sala przy ZS – P w Iwanowicach Włościańskich
CATEGORIES:Capoeira
END:VEVENT
BEGIN:VEVENT
DTSTART;TZID=Europe/Warsaw:20231229T120000
DTEND;TZID=Europe/Warsaw:20231229T190000
DTSTAMP:20260424T234805
CREATED:20231030T091103Z
LAST-MODIFIED:20231030T091103Z
UID:45024-1703851200-1703876400@gckib.iwanowice.pl
SUMMARY:Pianino
DESCRIPTION:
URL:https://gckib.iwanowice.pl/wydarzenie/pianino-10/
LOCATION:Gminne Centrum Kultury i Bibliotek w Iwanowicach\, Strażacka 5\, Iwanowice Włościańskie
CATEGORIES:Pianino
END:VEVENT
BEGIN:VEVENT
DTSTART;TZID=Europe/Warsaw:20231228T193000
DTEND;TZID=Europe/Warsaw:20231228T203000
DTSTAMP:20260424T234805
CREATED:20231030T090948Z
LAST-MODIFIED:20231030T090948Z
UID:45022-1703791800-1703795400@gckib.iwanowice.pl
SUMMARY:Pilates
DESCRIPTION:
URL:https://gckib.iwanowice.pl/wydarzenie/pilates-10/
LOCATION:mała sala przy ZS – P w Iwanowicach Włościańskich
CATEGORIES:Pilates
END:VEVENT
BEGIN:VEVENT
DTSTART;TZID=Europe/Warsaw:20231228T170000
DTEND;TZID=Europe/Warsaw:20231228T190000
DTSTAMP:20260424T234805
CREATED:20231030T090831Z
LAST-MODIFIED:20231030T090831Z
UID:45020-1703782800-1703790000@gckib.iwanowice.pl
SUMMARY:Planszówki
DESCRIPTION:
URL:https://gckib.iwanowice.pl/wydarzenie/planszowki-10/
LOCATION:Gminne Centrum Kultury i Bibliotek w Iwanowicach\, Strażacka 5\, Iwanowice Włościańskie
CATEGORIES:Planszówki
END:VEVENT
BEGIN:VEVENT
DTSTART;TZID=Europe/Warsaw:20231228T160000
DTEND;TZID=Europe/Warsaw:20231228T170000
DTSTAMP:20260424T234805
CREATED:20231030T090717Z
LAST-MODIFIED:20231030T090717Z
UID:45018-1703779200-1703782800@gckib.iwanowice.pl
SUMMARY:Jump judo
DESCRIPTION:
URL:https://gckib.iwanowice.pl/wydarzenie/jump-judo-26/
LOCATION:mała sala przy ZS – P w Iwanowicach Włościańskich
END:VEVENT
END:VCALENDAR