BEGIN:VCALENDAR
VERSION:2.0
PRODID:-//GCKiB - ECPv6.15.20//NONSGML v1.0//EN
CALSCALE:GREGORIAN
METHOD:PUBLISH
X-ORIGINAL-URL:https://gckib.iwanowice.pl
X-WR-CALDESC:Wydarzenia dla GCKiB
REFRESH-INTERVAL;VALUE=DURATION:PT1H
X-Robots-Tag:noindex
X-PUBLISHED-TTL:PT1H
BEGIN:VTIMEZONE
TZID:Europe/Warsaw
BEGIN:DAYLIGHT
TZOFFSETFROM:+0100
TZOFFSETTO:+0200
TZNAME:CEST
DTSTART:20230326T010000
END:DAYLIGHT
BEGIN:STANDARD
TZOFFSETFROM:+0200
TZOFFSETTO:+0100
TZNAME:CET
DTSTART:20231029T010000
END:STANDARD
BEGIN:DAYLIGHT
TZOFFSETFROM:+0100
TZOFFSETTO:+0200
TZNAME:CEST
DTSTART:20240331T010000
END:DAYLIGHT
BEGIN:STANDARD
TZOFFSETFROM:+0200
TZOFFSETTO:+0100
TZNAME:CET
DTSTART:20241027T010000
END:STANDARD
BEGIN:DAYLIGHT
TZOFFSETFROM:+0100
TZOFFSETTO:+0200
TZNAME:CEST
DTSTART:20250330T010000
END:DAYLIGHT
BEGIN:STANDARD
TZOFFSETFROM:+0200
TZOFFSETTO:+0100
TZNAME:CET
DTSTART:20251026T010000
END:STANDARD
END:VTIMEZONE
BEGIN:VEVENT
DTSTART;TZID=Europe/Warsaw:20240205T183000
DTEND;TZID=Europe/Warsaw:20240205T193000
DTSTAMP:20260424T143509
CREATED:20231102T142555Z
LAST-MODIFIED:20231102T142555Z
UID:45316-1707157800-1707161400@gckib.iwanowice.pl
SUMMARY:Joga
DESCRIPTION:
URL:https://gckib.iwanowice.pl/wydarzenie/joga-15/
LOCATION:mała sala przy ZS – P w Iwanowicach Włościańskich
CATEGORIES:joga
END:VEVENT
BEGIN:VEVENT
DTSTART;TZID=Europe/Warsaw:20240202T160000
DTEND;TZID=Europe/Warsaw:20240202T170000
DTSTAMP:20260424T143509
CREATED:20231102T142105Z
LAST-MODIFIED:20231102T142105Z
UID:45306-1706889600-1706893200@gckib.iwanowice.pl
SUMMARY:Capoeira
DESCRIPTION:
URL:https://gckib.iwanowice.pl/wydarzenie/capoeira-30/
LOCATION:mała sala przy ZS – P w Iwanowicach Włościańskich
CATEGORIES:Capoeira
END:VEVENT
BEGIN:VEVENT
DTSTART;TZID=Europe/Warsaw:20240202T150000
DTEND;TZID=Europe/Warsaw:20240202T160000
DTSTAMP:20260424T143509
CREATED:20231102T142012Z
LAST-MODIFIED:20231102T142012Z
UID:45304-1706886000-1706889600@gckib.iwanowice.pl
SUMMARY:Capoeira
DESCRIPTION:
URL:https://gckib.iwanowice.pl/wydarzenie/capoeira-29/
LOCATION:mała sala przy ZS – P w Iwanowicach Włościańskich
CATEGORIES:Capoeira
END:VEVENT
BEGIN:VEVENT
DTSTART;TZID=Europe/Warsaw:20240201T193000
DTEND;TZID=Europe/Warsaw:20240201T203000
DTSTAMP:20260424T143509
CREATED:20231102T141830Z
LAST-MODIFIED:20231102T141830Z
UID:45300-1706815800-1706819400@gckib.iwanowice.pl
SUMMARY:Pilates
DESCRIPTION:
URL:https://gckib.iwanowice.pl/wydarzenie/pilates-15/
LOCATION:mała sala przy ZS – P w Iwanowicach Włościańskich
CATEGORIES:Pilates
END:VEVENT
BEGIN:VEVENT
DTSTART;TZID=Europe/Warsaw:20240201T170000
DTEND;TZID=Europe/Warsaw:20240201T190000
DTSTAMP:20260424T143509
CREATED:20231102T141628Z
LAST-MODIFIED:20231102T141628Z
UID:45298-1706806800-1706814000@gckib.iwanowice.pl
SUMMARY:Planszówki
DESCRIPTION:
URL:https://gckib.iwanowice.pl/wydarzenie/planszowki-15/
LOCATION:Gminne Centrum Kultury i Bibliotek w Iwanowicach\, Strażacka 5\, Iwanowice Włościańskie
CATEGORIES:Planszówki
END:VEVENT
BEGIN:VEVENT
DTSTART;TZID=Europe/Warsaw:20240201T120000
DTEND;TZID=Europe/Warsaw:20240201T180000
DTSTAMP:20260424T143509
CREATED:20231102T141439Z
LAST-MODIFIED:20231102T141439Z
UID:45294-1706788800-1706810400@gckib.iwanowice.pl
SUMMARY:Zajecia wokalne
DESCRIPTION:
URL:https://gckib.iwanowice.pl/wydarzenie/zajecia-wokalne-15/
LOCATION:Gminne Centrum Kultury i Bibliotek w Iwanowicach\, Strażacka 5\, Iwanowice Włościańskie
CATEGORIES:wokal
END:VEVENT
BEGIN:VEVENT
DTSTART;TZID=Europe/Warsaw:20240131T190000
DTEND;TZID=Europe/Warsaw:20240131T195500
DTSTAMP:20260424T143509
CREATED:20231102T141248Z
LAST-MODIFIED:20231102T141248Z
UID:45290-1706727600-1706730900@gckib.iwanowice.pl
SUMMARY:Zumba fitness
DESCRIPTION:
URL:https://gckib.iwanowice.pl/wydarzenie/zumba-fitness-16/
LOCATION:mała sala przy ZS – P w Iwanowicach Włościańskich
CATEGORIES:Zumba fitness
END:VEVENT
BEGIN:VEVENT
DTSTART;TZID=Europe/Warsaw:20240131T180000
DTEND;TZID=Europe/Warsaw:20240131T185500
DTSTAMP:20260424T143509
CREATED:20231102T141342Z
LAST-MODIFIED:20231102T141342Z
UID:45292-1706724000-1706727300@gckib.iwanowice.pl
SUMMARY:Zumba gold
DESCRIPTION:
URL:https://gckib.iwanowice.pl/wydarzenie/zumba-gold-16/
LOCATION:mała sala przy ZS – P w Iwanowicach Włościańskich
CATEGORIES:Zumba gold
END:VEVENT
BEGIN:VEVENT
DTSTART;TZID=Europe/Warsaw:20240131T170000
DTEND;TZID=Europe/Warsaw:20240131T174500
DTSTAMP:20260424T143509
CREATED:20231102T141105Z
LAST-MODIFIED:20231102T141105Z
UID:45286-1706720400-1706723100@gckib.iwanowice.pl
SUMMARY:Czarodziejski kuferek
DESCRIPTION:
URL:https://gckib.iwanowice.pl/wydarzenie/czarodziejski-kuferek-15/
LOCATION:Gminne Centrum Kultury i Bibliotek w Iwanowicach\, Strażacka 5\, Iwanowice Włościańskie
CATEGORIES:Czarodziejski kuferek
END:VEVENT
BEGIN:VEVENT
DTSTART;TZID=Europe/Warsaw:20240130T174500
DTEND;TZID=Europe/Warsaw:20240130T184000
DTSTAMP:20260424T143509
CREATED:20231102T140925Z
LAST-MODIFIED:20231102T140925Z
UID:45282-1706636700-1706640000@gckib.iwanowice.pl
SUMMARY:Zumba junior
DESCRIPTION:
URL:https://gckib.iwanowice.pl/wydarzenie/zumba-junior-14/
LOCATION:mała sala przy ZS – P w Iwanowicach Włościańskich
CATEGORIES:Zumba junior
END:VEVENT
BEGIN:VEVENT
DTSTART;TZID=Europe/Warsaw:20240130T170000
DTEND;TZID=Europe/Warsaw:20240130T174500
DTSTAMP:20260424T143509
CREATED:20231102T140818Z
LAST-MODIFIED:20231102T140818Z
UID:45280-1706634000-1706636700@gckib.iwanowice.pl
SUMMARY:Szachy
DESCRIPTION:
URL:https://gckib.iwanowice.pl/wydarzenie/szachy-28/
LOCATION:Gminne Centrum Kultury i Bibliotek w Iwanowicach\, Strażacka 5\, Iwanowice Włościańskie
CATEGORIES:Szachy
END:VEVENT
BEGIN:VEVENT
DTSTART;TZID=Europe/Warsaw:20240130T161500
DTEND;TZID=Europe/Warsaw:20240130T174500
DTSTAMP:20260424T143509
CREATED:20231102T140435Z
LAST-MODIFIED:20231102T140435Z
UID:45272-1706631300-1706636700@gckib.iwanowice.pl
SUMMARY:Warsztaty okazjonalne
DESCRIPTION:
URL:https://gckib.iwanowice.pl/wydarzenie/warsztaty-okazjonalne-15/
LOCATION:Gminne Centrum Kultury i Bibliotek w Iwanowicach\, Strażacka 5\, Iwanowice Włościańskie
CATEGORIES:Warsztaty okazjonalne
END:VEVENT
BEGIN:VEVENT
DTSTART;TZID=Europe/Warsaw:20240130T161500
DTEND;TZID=Europe/Warsaw:20240130T170000
DTSTAMP:20260424T143509
CREATED:20231102T140626Z
LAST-MODIFIED:20231102T140626Z
UID:45276-1706631300-1706634000@gckib.iwanowice.pl
SUMMARY:Szachy
DESCRIPTION:
URL:https://gckib.iwanowice.pl/wydarzenie/szachy-27/
LOCATION:Gminne Centrum Kultury i Bibliotek w Iwanowicach\, Strażacka 5\, Iwanowice Włościańskie
CATEGORIES:Szachy
END:VEVENT
BEGIN:VEVENT
DTSTART;TZID=Europe/Warsaw:20240129T183000
DTEND;TZID=Europe/Warsaw:20240129T193000
DTSTAMP:20260424T143509
CREATED:20231102T140006Z
LAST-MODIFIED:20231102T140006Z
UID:45266-1706553000-1706556600@gckib.iwanowice.pl
SUMMARY:Joga
DESCRIPTION:
URL:https://gckib.iwanowice.pl/wydarzenie/joga-14/
LOCATION:mała sala przy ZS – P w Iwanowicach Włościańskich
CATEGORIES:joga
END:VEVENT
BEGIN:VEVENT
DTSTART;TZID=Europe/Warsaw:20240126T160000
DTEND;TZID=Europe/Warsaw:20240126T170000
DTSTAMP:20260424T143509
CREATED:20231102T132645Z
LAST-MODIFIED:20231102T132645Z
UID:45256-1706284800-1706288400@gckib.iwanowice.pl
SUMMARY:Capoeira
DESCRIPTION:
URL:https://gckib.iwanowice.pl/wydarzenie/capoeira-28/
LOCATION:mała sala przy ZS – P w Iwanowicach Włościańskich
CATEGORIES:Capoeira
END:VEVENT
BEGIN:VEVENT
DTSTART;TZID=Europe/Warsaw:20240126T150000
DTEND;TZID=Europe/Warsaw:20240126T160000
DTSTAMP:20260424T143509
CREATED:20231102T132529Z
LAST-MODIFIED:20231102T132529Z
UID:45254-1706281200-1706284800@gckib.iwanowice.pl
SUMMARY:Capoeira
DESCRIPTION:
URL:https://gckib.iwanowice.pl/wydarzenie/capoeira-27/
LOCATION:mała sala przy ZS – P w Iwanowicach Włościańskich
CATEGORIES:Capoeira
END:VEVENT
BEGIN:VEVENT
DTSTART;TZID=Europe/Warsaw:20240125T193000
DTEND;TZID=Europe/Warsaw:20240125T203000
DTSTAMP:20260424T143509
CREATED:20231102T132346Z
LAST-MODIFIED:20231102T132346Z
UID:45250-1706211000-1706214600@gckib.iwanowice.pl
SUMMARY:Pilates
DESCRIPTION:
URL:https://gckib.iwanowice.pl/wydarzenie/pilates-14/
LOCATION:mała sala przy ZS – P w Iwanowicach Włościańskich
CATEGORIES:Pilates
END:VEVENT
BEGIN:VEVENT
DTSTART;TZID=Europe/Warsaw:20240125T170000
DTEND;TZID=Europe/Warsaw:20240125T190000
DTSTAMP:20260424T143509
CREATED:20231102T132255Z
LAST-MODIFIED:20231102T132255Z
UID:45248-1706202000-1706209200@gckib.iwanowice.pl
SUMMARY:Planszówki
DESCRIPTION:
URL:https://gckib.iwanowice.pl/wydarzenie/planszowki-14/
LOCATION:Gminne Centrum Kultury i Bibliotek w Iwanowicach\, Strażacka 5\, Iwanowice Włościańskie
CATEGORIES:Planszówki
END:VEVENT
BEGIN:VEVENT
DTSTART;TZID=Europe/Warsaw:20240125T120000
DTEND;TZID=Europe/Warsaw:20240125T180000
DTSTAMP:20260424T143509
CREATED:20231102T132105Z
LAST-MODIFIED:20231102T132105Z
UID:45244-1706184000-1706205600@gckib.iwanowice.pl
SUMMARY:Zajęcia wokalne
DESCRIPTION:
URL:https://gckib.iwanowice.pl/wydarzenie/zajecia-wokalne-14/
LOCATION:Gminne Centrum Kultury i Bibliotek w Iwanowicach\, Strażacka 5\, Iwanowice Włościańskie
CATEGORIES:wokal
END:VEVENT
BEGIN:VEVENT
DTSTART;TZID=Europe/Warsaw:20240124T190000
DTEND;TZID=Europe/Warsaw:20240124T195500
DTSTAMP:20260424T143509
CREATED:20231102T131948Z
LAST-MODIFIED:20231102T131948Z
UID:45242-1706122800-1706126100@gckib.iwanowice.pl
SUMMARY:Zumba fitness
DESCRIPTION:
URL:https://gckib.iwanowice.pl/wydarzenie/zumba-fitness-15/
LOCATION:mała sala przy ZS – P w Iwanowicach Włościańskich
CATEGORIES:Zumba fitness
END:VEVENT
BEGIN:VEVENT
DTSTART;TZID=Europe/Warsaw:20240124T180000
DTEND;TZID=Europe/Warsaw:20240124T185500
DTSTAMP:20260424T143509
CREATED:20231102T131847Z
LAST-MODIFIED:20231102T131847Z
UID:45240-1706119200-1706122500@gckib.iwanowice.pl
SUMMARY:Zumba gold
DESCRIPTION:
URL:https://gckib.iwanowice.pl/wydarzenie/zumba-gold-14/
LOCATION:mała sala przy ZS – P w Iwanowicach Włościańskich
CATEGORIES:Zumba gold
END:VEVENT
BEGIN:VEVENT
DTSTART;TZID=Europe/Warsaw:20240124T170000
DTEND;TZID=Europe/Warsaw:20240124T174500
DTSTAMP:20260424T143509
CREATED:20231102T131738Z
LAST-MODIFIED:20231102T131738Z
UID:45238-1706115600-1706118300@gckib.iwanowice.pl
SUMMARY:Czarodziejski kuferek
DESCRIPTION:
URL:https://gckib.iwanowice.pl/wydarzenie/czarodziejski-kuferek-14/
LOCATION:Gminne Centrum Kultury i Bibliotek w Iwanowicach\, Strażacka 5\, Iwanowice Włościańskie
CATEGORIES:Czarodziejski kuferek
END:VEVENT
BEGIN:VEVENT
DTSTART;TZID=Europe/Warsaw:20240123T174500
DTEND;TZID=Europe/Warsaw:20240123T184000
DTSTAMP:20260424T143509
CREATED:20231102T131545Z
LAST-MODIFIED:20231102T131545Z
UID:45234-1706031900-1706035200@gckib.iwanowice.pl
SUMMARY:Zumba junior
DESCRIPTION:
URL:https://gckib.iwanowice.pl/wydarzenie/zumba-junior-13/
LOCATION:mała sala przy ZS – P w Iwanowicach Włościańskich
CATEGORIES:Zumba junior
END:VEVENT
BEGIN:VEVENT
DTSTART;TZID=Europe/Warsaw:20240123T170000
DTEND;TZID=Europe/Warsaw:20240123T174500
DTSTAMP:20260424T143509
CREATED:20231102T131449Z
LAST-MODIFIED:20231102T131449Z
UID:45232-1706029200-1706031900@gckib.iwanowice.pl
SUMMARY:Szachy
DESCRIPTION:
URL:https://gckib.iwanowice.pl/wydarzenie/szachy-26/
LOCATION:Gminne Centrum Kultury i Bibliotek w Iwanowicach\, Strażacka 5\, Iwanowice Włościańskie
CATEGORIES:Szachy
END:VEVENT
BEGIN:VEVENT
DTSTART;TZID=Europe/Warsaw:20240123T161500
DTEND;TZID=Europe/Warsaw:20240123T174500
DTSTAMP:20260424T143509
CREATED:20231102T130017Z
LAST-MODIFIED:20231102T130017Z
UID:45224-1706026500-1706031900@gckib.iwanowice.pl
SUMMARY:Warsztaty okazjonalne
DESCRIPTION:
URL:https://gckib.iwanowice.pl/wydarzenie/warsztaty-okazjonalne-14/
LOCATION:mała sala przy ZS – P w Iwanowicach Włościańskich
CATEGORIES:Warsztaty okazjonalne
END:VEVENT
BEGIN:VEVENT
DTSTART;TZID=Europe/Warsaw:20240123T161500
DTEND;TZID=Europe/Warsaw:20240123T170000
DTSTAMP:20260424T143509
CREATED:20231102T131253Z
LAST-MODIFIED:20231102T131253Z
UID:45228-1706026500-1706029200@gckib.iwanowice.pl
SUMMARY:Szachy
DESCRIPTION:
URL:https://gckib.iwanowice.pl/wydarzenie/szachy-25/
LOCATION:Gminne Centrum Kultury i Bibliotek w Iwanowicach\, Strażacka 5\, Iwanowice Włościańskie
CATEGORIES:Szachy
END:VEVENT
BEGIN:VEVENT
DTSTART;TZID=Europe/Warsaw:20240122T183000
DTEND;TZID=Europe/Warsaw:20240122T193000
DTSTAMP:20260424T143509
CREATED:20231102T125642Z
LAST-MODIFIED:20231102T125642Z
UID:45218-1705948200-1705951800@gckib.iwanowice.pl
SUMMARY:Joga
DESCRIPTION:
URL:https://gckib.iwanowice.pl/wydarzenie/joga-13/
LOCATION:mała sala przy ZS – P w Iwanowicach Włościańskich
CATEGORIES:joga
END:VEVENT
BEGIN:VEVENT
DTSTART;TZID=Europe/Warsaw:20240119T160000
DTEND;TZID=Europe/Warsaw:20240119T170000
DTSTAMP:20260424T143509
CREATED:20231102T124320Z
LAST-MODIFIED:20231102T124320Z
UID:45208-1705680000-1705683600@gckib.iwanowice.pl
SUMMARY:Capoeira
DESCRIPTION:
URL:https://gckib.iwanowice.pl/wydarzenie/capoeira-26/
LOCATION:mała sala przy ZS – P w Iwanowicach Włościańskich
CATEGORIES:Capoeira
END:VEVENT
BEGIN:VEVENT
DTSTART;TZID=Europe/Warsaw:20240119T150000
DTEND;TZID=Europe/Warsaw:20240119T160000
DTSTAMP:20260424T143509
CREATED:20231102T124219Z
LAST-MODIFIED:20231102T124219Z
UID:45206-1705676400-1705680000@gckib.iwanowice.pl
SUMMARY:Capoeira
DESCRIPTION:
URL:https://gckib.iwanowice.pl/wydarzenie/capoeira-25/
LOCATION:mała sala przy ZS – P w Iwanowicach Włościańskich
CATEGORIES:Capoeira
END:VEVENT
BEGIN:VEVENT
DTSTART;TZID=Europe/Warsaw:20240118T193000
DTEND;TZID=Europe/Warsaw:20240118T203000
DTSTAMP:20260424T143509
CREATED:20231102T123122Z
LAST-MODIFIED:20231102T123122Z
UID:45202-1705606200-1705609800@gckib.iwanowice.pl
SUMMARY:Pilates
DESCRIPTION:
URL:https://gckib.iwanowice.pl/wydarzenie/pilates-13/
LOCATION:mała sala przy ZS – P w Iwanowicach Włościańskich
CATEGORIES:Pilates
END:VEVENT
END:VCALENDAR