BEGIN:VCALENDAR
VERSION:2.0
PRODID:-//GCKiB - ECPv6.15.20//NONSGML v1.0//EN
CALSCALE:GREGORIAN
METHOD:PUBLISH
X-WR-CALNAME:GCKiB
X-ORIGINAL-URL:https://gckib.iwanowice.pl
X-WR-CALDESC:Wydarzenia dla GCKiB
REFRESH-INTERVAL;VALUE=DURATION:PT1H
X-Robots-Tag:noindex
X-PUBLISHED-TTL:PT1H
BEGIN:VTIMEZONE
TZID:Europe/Warsaw
BEGIN:DAYLIGHT
TZOFFSETFROM:+0100
TZOFFSETTO:+0200
TZNAME:CEST
DTSTART:20230326T010000
END:DAYLIGHT
BEGIN:STANDARD
TZOFFSETFROM:+0200
TZOFFSETTO:+0100
TZNAME:CET
DTSTART:20231029T010000
END:STANDARD
BEGIN:DAYLIGHT
TZOFFSETFROM:+0100
TZOFFSETTO:+0200
TZNAME:CEST
DTSTART:20240331T010000
END:DAYLIGHT
BEGIN:STANDARD
TZOFFSETFROM:+0200
TZOFFSETTO:+0100
TZNAME:CET
DTSTART:20241027T010000
END:STANDARD
BEGIN:DAYLIGHT
TZOFFSETFROM:+0100
TZOFFSETTO:+0200
TZNAME:CEST
DTSTART:20250330T010000
END:DAYLIGHT
BEGIN:STANDARD
TZOFFSETFROM:+0200
TZOFFSETTO:+0100
TZNAME:CET
DTSTART:20251026T010000
END:STANDARD
END:VTIMEZONE
BEGIN:VEVENT
DTSTART;TZID=Europe/Warsaw:20240221T190000
DTEND;TZID=Europe/Warsaw:20240221T195500
DTSTAMP:20260424T064804
CREATED:20231103T130110Z
LAST-MODIFIED:20231103T130110Z
UID:45447-1708542000-1708545300@gckib.iwanowice.pl
SUMMARY:Zumba fitness
DESCRIPTION:
URL:https://gckib.iwanowice.pl/wydarzenie/zumba-fitness-19/
LOCATION:mała sala przy ZS – P w Iwanowicach Włościańskich
CATEGORIES:Zumba fitness
END:VEVENT
BEGIN:VEVENT
DTSTART;TZID=Europe/Warsaw:20240221T180000
DTEND;TZID=Europe/Warsaw:20240221T185500
DTSTAMP:20260424T064804
CREATED:20231103T130007Z
LAST-MODIFIED:20231103T130007Z
UID:45445-1708538400-1708541700@gckib.iwanowice.pl
SUMMARY:Zumba gold
DESCRIPTION:
URL:https://gckib.iwanowice.pl/wydarzenie/zumba-gold-19/
LOCATION:mała sala przy ZS – P w Iwanowicach Włościańskich
CATEGORIES:Zumba gold
END:VEVENT
BEGIN:VEVENT
DTSTART;TZID=Europe/Warsaw:20240221T170000
DTEND;TZID=Europe/Warsaw:20240221T174500
DTSTAMP:20260424T064804
CREATED:20231103T125906Z
LAST-MODIFIED:20231103T125906Z
UID:45443-1708534800-1708537500@gckib.iwanowice.pl
SUMMARY:Czarodziejski kuferek
DESCRIPTION:
URL:https://gckib.iwanowice.pl/wydarzenie/czarodziejski-kuferek-18/
LOCATION:Gminne Centrum Kultury i Bibliotek w Iwanowicach\, Strażacka 5\, Iwanowice Włościańskie
CATEGORIES:Czarodziejski kuferek
END:VEVENT
BEGIN:VEVENT
DTSTART;TZID=Europe/Warsaw:20240220T170000
DTEND;TZID=Europe/Warsaw:20240220T174500
DTSTAMP:20260424T064804
CREATED:20231103T125540Z
LAST-MODIFIED:20231103T125540Z
UID:45437-1708448400-1708451100@gckib.iwanowice.pl
SUMMARY:Szachy
DESCRIPTION:
URL:https://gckib.iwanowice.pl/wydarzenie/szachy-34/
LOCATION:Gminne Centrum Kultury i Bibliotek w Iwanowicach\, Strażacka 5\, Iwanowice Włościańskie
CATEGORIES:Szachy
END:VEVENT
BEGIN:VEVENT
DTSTART;TZID=Europe/Warsaw:20240220T161500
DTEND;TZID=Europe/Warsaw:20240220T170000
DTSTAMP:20260424T064804
CREATED:20231103T125307Z
LAST-MODIFIED:20231103T125307Z
UID:45433-1708445700-1708448400@gckib.iwanowice.pl
SUMMARY:Szachy
DESCRIPTION:
URL:https://gckib.iwanowice.pl/wydarzenie/szachy-33/
LOCATION:Gminne Centrum Kultury i Bibliotek w Iwanowicach\, Strażacka 5\, Iwanowice Włościańskie
CATEGORIES:Szachy
END:VEVENT
BEGIN:VEVENT
DTSTART;TZID=Europe/Warsaw:20240220T161500
DTEND;TZID=Europe/Warsaw:20240220T170000
DTSTAMP:20260424T064804
CREATED:20231103T125109Z
LAST-MODIFIED:20231103T125109Z
UID:45429-1708445700-1708448400@gckib.iwanowice.pl
SUMMARY:Warsztaty okazjonalne
DESCRIPTION:
URL:https://gckib.iwanowice.pl/wydarzenie/warsztaty-okazjonalne-18/
LOCATION:Gminne Centrum Kultury i Bibliotek w Iwanowicach\, Strażacka 5\, Iwanowice Włościańskie
CATEGORIES:Warsztaty okazjonalne
END:VEVENT
BEGIN:VEVENT
DTSTART;TZID=Europe/Warsaw:20240216T160000
DTEND;TZID=Europe/Warsaw:20240216T170000
DTSTAMP:20260424T064804
CREATED:20231103T121357Z
LAST-MODIFIED:20231103T121357Z
UID:45410-1708099200-1708102800@gckib.iwanowice.pl
SUMMARY:Capoeira
DESCRIPTION:
URL:https://gckib.iwanowice.pl/wydarzenie/capoeira-34/
LOCATION:mała sala przy ZS – P w Iwanowicach Włościańskich
CATEGORIES:Capoeira
END:VEVENT
BEGIN:VEVENT
DTSTART;TZID=Europe/Warsaw:20240216T150000
DTEND;TZID=Europe/Warsaw:20240216T160000
DTSTAMP:20260424T064804
CREATED:20231103T120427Z
LAST-MODIFIED:20231103T120427Z
UID:45408-1708095600-1708099200@gckib.iwanowice.pl
SUMMARY:Capoeira
DESCRIPTION:
URL:https://gckib.iwanowice.pl/wydarzenie/capoeira-33/
LOCATION:mała sala przy ZS – P w Iwanowicach Włościańskich
CATEGORIES:Capoeira
END:VEVENT
BEGIN:VEVENT
DTSTART;TZID=Europe/Warsaw:20240215T193000
DTEND;TZID=Europe/Warsaw:20240215T203000
DTSTAMP:20260424T064804
CREATED:20231103T120156Z
LAST-MODIFIED:20231103T120156Z
UID:45404-1708025400-1708029000@gckib.iwanowice.pl
SUMMARY:Pilates
DESCRIPTION:
URL:https://gckib.iwanowice.pl/wydarzenie/pilates-17/
LOCATION:mała sala przy ZS – P w Iwanowicach Włościańskich
CATEGORIES:Pilates
END:VEVENT
BEGIN:VEVENT
DTSTART;TZID=Europe/Warsaw:20240215T170000
DTEND;TZID=Europe/Warsaw:20240215T190000
DTSTAMP:20260424T064804
CREATED:20231103T120043Z
LAST-MODIFIED:20231103T120043Z
UID:45402-1708016400-1708023600@gckib.iwanowice.pl
SUMMARY:Planszowki
DESCRIPTION:
URL:https://gckib.iwanowice.pl/wydarzenie/planszowki-17/
LOCATION:Gminne Centrum Kultury i Bibliotek w Iwanowicach\, Strażacka 5\, Iwanowice Włościańskie
CATEGORIES:Planszówki
END:VEVENT
BEGIN:VEVENT
DTSTART;TZID=Europe/Warsaw:20240215T120000
DTEND;TZID=Europe/Warsaw:20240215T180000
DTSTAMP:20260424T064804
CREATED:20231103T115825Z
LAST-MODIFIED:20231103T115825Z
UID:45398-1707998400-1708020000@gckib.iwanowice.pl
SUMMARY:Zajęcia wokalne
DESCRIPTION:
URL:https://gckib.iwanowice.pl/wydarzenie/zajecia-wokalne-17/
LOCATION:Gminne Centrum Kultury i Bibliotek w Iwanowicach\, Strażacka 5\, Iwanowice Włościańskie
CATEGORIES:wokal
END:VEVENT
BEGIN:VEVENT
DTSTART;TZID=Europe/Warsaw:20240214T190000
DTEND;TZID=Europe/Warsaw:20240214T195500
DTSTAMP:20260424T064804
CREATED:20231103T115630Z
LAST-MODIFIED:20231103T115630Z
UID:45396-1707937200-1707940500@gckib.iwanowice.pl
SUMMARY:Zumba fitness
DESCRIPTION:
URL:https://gckib.iwanowice.pl/wydarzenie/zumba-fitness-18/
LOCATION:mała sala przy ZS – P w Iwanowicach Włościańskich
CATEGORIES:Zumba fitness
END:VEVENT
BEGIN:VEVENT
DTSTART;TZID=Europe/Warsaw:20240214T180000
DTEND;TZID=Europe/Warsaw:20240214T185500
DTSTAMP:20260424T064804
CREATED:20231103T115523Z
LAST-MODIFIED:20231103T115523Z
UID:45394-1707933600-1707936900@gckib.iwanowice.pl
SUMMARY:Zumba gold
DESCRIPTION:
URL:https://gckib.iwanowice.pl/wydarzenie/zumba-gold-18/
LOCATION:mała sala przy ZS – P w Iwanowicach Włościańskich
CATEGORIES:Zumba gold
END:VEVENT
BEGIN:VEVENT
DTSTART;TZID=Europe/Warsaw:20240214T170000
DTEND;TZID=Europe/Warsaw:20240214T174500
DTSTAMP:20260424T064804
CREATED:20231103T115428Z
LAST-MODIFIED:20231103T115428Z
UID:45392-1707930000-1707932700@gckib.iwanowice.pl
SUMMARY:Czarodziejski kuferek
DESCRIPTION:
URL:https://gckib.iwanowice.pl/wydarzenie/czarodziejski-kuferek-17/
LOCATION:Gminne Centrum Kultury i Bibliotek w Iwanowicach\, Strażacka 5\, Iwanowice Włościańskie
CATEGORIES:Czarodziejski kuferek
END:VEVENT
BEGIN:VEVENT
DTSTART;TZID=Europe/Warsaw:20240213T170000
DTEND;TZID=Europe/Warsaw:20240213T174500
DTSTAMP:20260424T064804
CREATED:20231103T115042Z
LAST-MODIFIED:20231103T115042Z
UID:45388-1707843600-1707846300@gckib.iwanowice.pl
SUMMARY:Szachy
DESCRIPTION:
URL:https://gckib.iwanowice.pl/wydarzenie/szachy-32/
LOCATION:Gminne Centrum Kultury i Bibliotek w Iwanowicach\, Strażacka 5\, Iwanowice Włościańskie
CATEGORIES:Szachy
END:VEVENT
BEGIN:VEVENT
DTSTART;TZID=Europe/Warsaw:20240213T161500
DTEND;TZID=Europe/Warsaw:20240213T170000
DTSTAMP:20260424T064804
CREATED:20231103T114032Z
LAST-MODIFIED:20231103T114032Z
UID:45380-1707840900-1707843600@gckib.iwanowice.pl
SUMMARY:Szachy
DESCRIPTION:
URL:https://gckib.iwanowice.pl/wydarzenie/szachy-31/
LOCATION:Gminne Centrum Kultury i Bibliotek w Iwanowicach\, Strażacka 5\, Iwanowice Włościańskie
CATEGORIES:Szachy
END:VEVENT
BEGIN:VEVENT
DTSTART;TZID=Europe/Warsaw:20240213T161500
DTEND;TZID=Europe/Warsaw:20240213T170000
DTSTAMP:20260424T064804
CREATED:20231103T113838Z
LAST-MODIFIED:20231103T113838Z
UID:45376-1707840900-1707843600@gckib.iwanowice.pl
SUMMARY:Warsztaty okazjonalne
DESCRIPTION:
URL:https://gckib.iwanowice.pl/wydarzenie/warsztaty-okazjonalne-17/
LOCATION:Gminne Centrum Kultury i Bibliotek w Iwanowicach\, Strażacka 5\, Iwanowice Włościańskie
CATEGORIES:Warsztaty okazjonalne
END:VEVENT
BEGIN:VEVENT
DTSTART;TZID=Europe/Warsaw:20240212T183000
DTEND;TZID=Europe/Warsaw:20240212T193000
DTSTAMP:20260424T064804
CREATED:20231102T145459Z
LAST-MODIFIED:20231102T145459Z
UID:45367-1707762600-1707766200@gckib.iwanowice.pl
SUMMARY:Joga
DESCRIPTION:
URL:https://gckib.iwanowice.pl/wydarzenie/joga-16/
LOCATION:mała sala przy ZS – P w Iwanowicach Włościańskich
CATEGORIES:joga
END:VEVENT
BEGIN:VEVENT
DTSTART;TZID=Europe/Warsaw:20240209T160000
DTEND;TZID=Europe/Warsaw:20240209T170000
DTSTAMP:20260424T064804
CREATED:20231102T144721Z
LAST-MODIFIED:20231102T144721Z
UID:45357-1707494400-1707498000@gckib.iwanowice.pl
SUMMARY:Capoeira
DESCRIPTION:
URL:https://gckib.iwanowice.pl/wydarzenie/capoeira-32/
LOCATION:mała sala przy ZS – P w Iwanowicach Włościańskich
CATEGORIES:Capoeira
END:VEVENT
BEGIN:VEVENT
DTSTART;TZID=Europe/Warsaw:20240209T150000
DTEND;TZID=Europe/Warsaw:20240209T160000
DTSTAMP:20260424T064804
CREATED:20231102T144616Z
LAST-MODIFIED:20231102T144616Z
UID:45355-1707490800-1707494400@gckib.iwanowice.pl
SUMMARY:Capoeira
DESCRIPTION:
URL:https://gckib.iwanowice.pl/wydarzenie/capoeira-31/
LOCATION:mała sala przy ZS – P w Iwanowicach Włościańskich
CATEGORIES:Capoeira
END:VEVENT
BEGIN:VEVENT
DTSTART;TZID=Europe/Warsaw:20240208T193000
DTEND;TZID=Europe/Warsaw:20240208T203000
DTSTAMP:20260424T064804
CREATED:20231102T144430Z
LAST-MODIFIED:20231102T144430Z
UID:45351-1707420600-1707424200@gckib.iwanowice.pl
SUMMARY:Pilates
DESCRIPTION:
URL:https://gckib.iwanowice.pl/wydarzenie/pilates-16/
LOCATION:mała sala przy ZS – P w Iwanowicach Włościańskich
CATEGORIES:Pilates
END:VEVENT
BEGIN:VEVENT
DTSTART;TZID=Europe/Warsaw:20240208T170000
DTEND;TZID=Europe/Warsaw:20240208T190000
DTSTAMP:20260424T064804
CREATED:20231102T144253Z
LAST-MODIFIED:20231102T144253Z
UID:45348-1707411600-1707418800@gckib.iwanowice.pl
SUMMARY:Planszówki
DESCRIPTION:
URL:https://gckib.iwanowice.pl/wydarzenie/planszowki-16/
LOCATION:Gminne Centrum Kultury i Bibliotek w Iwanowicach\, Strażacka 5\, Iwanowice Włościańskie
CATEGORIES:Planszówki
END:VEVENT
BEGIN:VEVENT
DTSTART;TZID=Europe/Warsaw:20240208T120000
DTEND;TZID=Europe/Warsaw:20240208T180000
DTSTAMP:20260424T064804
CREATED:20231102T144018Z
LAST-MODIFIED:20231102T144018Z
UID:45344-1707393600-1707415200@gckib.iwanowice.pl
SUMMARY:Zajęcia wokalne
DESCRIPTION:
URL:https://gckib.iwanowice.pl/wydarzenie/zajecia-wokalne-16/
LOCATION:Gminne Centrum Kultury i Bibliotek w Iwanowicach\, Strażacka 5\, Iwanowice Włościańskie
CATEGORIES:wokal
END:VEVENT
BEGIN:VEVENT
DTSTART;TZID=Europe/Warsaw:20240207T190000
DTEND;TZID=Europe/Warsaw:20240207T195500
DTSTAMP:20260424T064804
CREATED:20231102T143841Z
LAST-MODIFIED:20231102T143841Z
UID:45342-1707332400-1707335700@gckib.iwanowice.pl
SUMMARY:Zumba fitness
DESCRIPTION:
URL:https://gckib.iwanowice.pl/wydarzenie/zumba-fitness-17/
LOCATION:mała sala przy ZS – P w Iwanowicach Włościańskich
CATEGORIES:Zumba fitness
END:VEVENT
BEGIN:VEVENT
DTSTART;TZID=Europe/Warsaw:20240207T180000
DTEND;TZID=Europe/Warsaw:20240207T185500
DTSTAMP:20260424T064804
CREATED:20231102T143731Z
LAST-MODIFIED:20231102T143731Z
UID:45340-1707328800-1707332100@gckib.iwanowice.pl
SUMMARY:Zumba gold
DESCRIPTION:
URL:https://gckib.iwanowice.pl/wydarzenie/zumba-gold-17/
LOCATION:mała sala przy ZS – P w Iwanowicach Włościańskich
CATEGORIES:Zumba gold
END:VEVENT
BEGIN:VEVENT
DTSTART;TZID=Europe/Warsaw:20240207T170000
DTEND;TZID=Europe/Warsaw:20240207T174500
DTSTAMP:20260424T064804
CREATED:20231102T143628Z
LAST-MODIFIED:20231102T143628Z
UID:45338-1707325200-1707327900@gckib.iwanowice.pl
SUMMARY:Czarodziejski kuferek
DESCRIPTION:
URL:https://gckib.iwanowice.pl/wydarzenie/czarodziejski-kuferek-16/
LOCATION:Gminne Centrum Kultury i Bibliotek w Iwanowicach\, Strażacka 5\, Iwanowice Włościańskie
CATEGORIES:Czarodziejski kuferek
END:VEVENT
BEGIN:VEVENT
DTSTART;TZID=Europe/Warsaw:20240206T174500
DTEND;TZID=Europe/Warsaw:20240206T184000
DTSTAMP:20260424T064804
CREATED:20231102T143424Z
LAST-MODIFIED:20231102T143424Z
UID:45334-1707241500-1707244800@gckib.iwanowice.pl
SUMMARY:Zumba junior
DESCRIPTION:
URL:https://gckib.iwanowice.pl/wydarzenie/zumba-junior-15/
LOCATION:mała sala przy ZS – P w Iwanowicach Włościańskich
CATEGORIES:Zumba junior
END:VEVENT
BEGIN:VEVENT
DTSTART;TZID=Europe/Warsaw:20240206T170000
DTEND;TZID=Europe/Warsaw:20240206T174500
DTSTAMP:20260424T064804
CREATED:20231102T143326Z
LAST-MODIFIED:20231102T143326Z
UID:45332-1707238800-1707241500@gckib.iwanowice.pl
SUMMARY:Szachy
DESCRIPTION:
URL:https://gckib.iwanowice.pl/wydarzenie/szachy-30/
LOCATION:Gminne Centrum Kultury i Bibliotek w Iwanowicach\, Strażacka 5\, Iwanowice Włościańskie
CATEGORIES:Szachy
END:VEVENT
BEGIN:VEVENT
DTSTART;TZID=Europe/Warsaw:20240206T161500
DTEND;TZID=Europe/Warsaw:20240206T174500
DTSTAMP:20260424T064804
CREATED:20231102T142920Z
LAST-MODIFIED:20231102T142920Z
UID:45322-1707236100-1707241500@gckib.iwanowice.pl
SUMMARY:Warsztaty okazjonalne
DESCRIPTION:
URL:https://gckib.iwanowice.pl/wydarzenie/warsztaty-okazjonalne-16/
LOCATION:Gminne Centrum Kultury i Bibliotek w Iwanowicach\, Strażacka 5\, Iwanowice Włościańskie
CATEGORIES:Warsztaty okazjonalne
END:VEVENT
BEGIN:VEVENT
DTSTART;TZID=Europe/Warsaw:20240206T161500
DTEND;TZID=Europe/Warsaw:20240206T170000
DTSTAMP:20260424T064804
CREATED:20231102T143136Z
LAST-MODIFIED:20231102T143136Z
UID:45328-1707236100-1707238800@gckib.iwanowice.pl
SUMMARY:Szachy
DESCRIPTION:
URL:https://gckib.iwanowice.pl/wydarzenie/szachy-29/
LOCATION:Gminne Centrum Kultury i Bibliotek w Iwanowicach\, Strażacka 5\, Iwanowice Włościańskie
CATEGORIES:Szachy
END:VEVENT
END:VCALENDAR