BEGIN:VCALENDAR
VERSION:2.0
PRODID:-//GCKiB - ECPv6.15.20//NONSGML v1.0//EN
CALSCALE:GREGORIAN
METHOD:PUBLISH
X-ORIGINAL-URL:https://gckib.iwanowice.pl
X-WR-CALDESC:Wydarzenia dla GCKiB
REFRESH-INTERVAL;VALUE=DURATION:PT1H
X-Robots-Tag:noindex
X-PUBLISHED-TTL:PT1H
BEGIN:VTIMEZONE
TZID:Europe/Warsaw
BEGIN:DAYLIGHT
TZOFFSETFROM:+0100
TZOFFSETTO:+0200
TZNAME:CEST
DTSTART:20230326T010000
END:DAYLIGHT
BEGIN:STANDARD
TZOFFSETFROM:+0200
TZOFFSETTO:+0100
TZNAME:CET
DTSTART:20231029T010000
END:STANDARD
BEGIN:DAYLIGHT
TZOFFSETFROM:+0100
TZOFFSETTO:+0200
TZNAME:CEST
DTSTART:20240331T010000
END:DAYLIGHT
BEGIN:STANDARD
TZOFFSETFROM:+0200
TZOFFSETTO:+0100
TZNAME:CET
DTSTART:20241027T010000
END:STANDARD
BEGIN:DAYLIGHT
TZOFFSETFROM:+0100
TZOFFSETTO:+0200
TZNAME:CEST
DTSTART:20250330T010000
END:DAYLIGHT
BEGIN:STANDARD
TZOFFSETFROM:+0200
TZOFFSETTO:+0100
TZNAME:CET
DTSTART:20251026T010000
END:STANDARD
END:VTIMEZONE
BEGIN:VEVENT
DTSTART;TZID=Europe/Warsaw:20240315T150000
DTEND;TZID=Europe/Warsaw:20240315T160000
DTSTAMP:20260423T234147
CREATED:20231106T101315Z
LAST-MODIFIED:20231106T101315Z
UID:45603-1710514800-1710518400@gckib.iwanowice.pl
SUMMARY:Capoeira
DESCRIPTION:
URL:https://gckib.iwanowice.pl/wydarzenie/capoeira-41/
LOCATION:mała sala przy ZS – P w Iwanowicach Włościańskich
CATEGORIES:Capoeira
END:VEVENT
BEGIN:VEVENT
DTSTART;TZID=Europe/Warsaw:20240314T193000
DTEND;TZID=Europe/Warsaw:20240314T203000
DTSTAMP:20260423T234147
CREATED:20231106T101112Z
LAST-MODIFIED:20231106T101724Z
UID:45599-1710444600-1710448200@gckib.iwanowice.pl
SUMMARY:Pilates
DESCRIPTION:
URL:https://gckib.iwanowice.pl/wydarzenie/pilates-21/
LOCATION:mała sala przy ZS – P w Iwanowicach Włościańskich
CATEGORIES:Pilates
END:VEVENT
BEGIN:VEVENT
DTSTART;TZID=Europe/Warsaw:20240314T170000
DTEND;TZID=Europe/Warsaw:20240314T190000
DTSTAMP:20260423T234147
CREATED:20231106T101013Z
LAST-MODIFIED:20231106T101013Z
UID:45597-1710435600-1710442800@gckib.iwanowice.pl
SUMMARY:Planszówki
DESCRIPTION:
URL:https://gckib.iwanowice.pl/wydarzenie/planszowki-21/
LOCATION:Gminne Centrum Kultury i Bibliotek w Iwanowicach\, Strażacka 5\, Iwanowice Włościańskie
CATEGORIES:Planszówki
END:VEVENT
BEGIN:VEVENT
DTSTART;TZID=Europe/Warsaw:20240313T190000
DTEND;TZID=Europe/Warsaw:20240313T195500
DTSTAMP:20260423T234147
CREATED:20231106T100726Z
LAST-MODIFIED:20231106T100726Z
UID:45591-1710356400-1710359700@gckib.iwanowice.pl
SUMMARY:Zumba fitness
DESCRIPTION:
URL:https://gckib.iwanowice.pl/wydarzenie/zumba-fitness-22/
LOCATION:mała sala przy ZS – P w Iwanowicach Włościańskich
CATEGORIES:Zumba fitness
END:VEVENT
BEGIN:VEVENT
DTSTART;TZID=Europe/Warsaw:20240313T180000
DTEND;TZID=Europe/Warsaw:20240313T185500
DTSTAMP:20260423T234147
CREATED:20231106T100624Z
LAST-MODIFIED:20231106T100624Z
UID:45589-1710352800-1710356100@gckib.iwanowice.pl
SUMMARY:Zumba gold
DESCRIPTION:
URL:https://gckib.iwanowice.pl/wydarzenie/zumba-gold-22/
LOCATION:mała sala przy ZS – P w Iwanowicach Włościańskich
CATEGORIES:Zumba gold
END:VEVENT
BEGIN:VEVENT
DTSTART;TZID=Europe/Warsaw:20240313T170000
DTEND;TZID=Europe/Warsaw:20240313T174500
DTSTAMP:20260423T234147
CREATED:20231106T100508Z
LAST-MODIFIED:20231106T100508Z
UID:45587-1710349200-1710351900@gckib.iwanowice.pl
SUMMARY:Czarodziejski kuferek
DESCRIPTION:
URL:https://gckib.iwanowice.pl/wydarzenie/czarodziejski-kuferek-21/
LOCATION:mała sala przy ZS – P w Iwanowicach Włościańskich
CATEGORIES:Czarodziejski kuferek
END:VEVENT
BEGIN:VEVENT
DTSTART;TZID=Europe/Warsaw:20240313T131500
DTEND;TZID=Europe/Warsaw:20240313T180000
DTSTAMP:20260423T234147
CREATED:20231106T100831Z
LAST-MODIFIED:20240523T112459Z
UID:45593-1710335700-1710352800@gckib.iwanowice.pl
SUMMARY:Zajęcia wokalne
DESCRIPTION:
URL:https://gckib.iwanowice.pl/wydarzenie/zajecia-wokalne-21/
LOCATION:Gminne Centrum Kultury i Bibliotek w Iwanowicach\, Strażacka 5\, Iwanowice Włościańskie
CATEGORIES:wokal
END:VEVENT
BEGIN:VEVENT
DTSTART;TZID=Europe/Warsaw:20240312T170000
DTEND;TZID=Europe/Warsaw:20240312T174500
DTSTAMP:20260423T234147
CREATED:20231106T095847Z
LAST-MODIFIED:20231106T095847Z
UID:45581-1710262800-1710265500@gckib.iwanowice.pl
SUMMARY:Szachy
DESCRIPTION:
URL:https://gckib.iwanowice.pl/wydarzenie/szachy-40/
LOCATION:Gminne Centrum Kultury i Bibliotek w Iwanowicach\, Strażacka 5\, Iwanowice Włościańskie
CATEGORIES:Szachy
END:VEVENT
BEGIN:VEVENT
DTSTART;TZID=Europe/Warsaw:20240312T161500
DTEND;TZID=Europe/Warsaw:20240312T174500
DTSTAMP:20260423T234147
CREATED:20231106T095449Z
LAST-MODIFIED:20231106T095449Z
UID:45573-1710260100-1710265500@gckib.iwanowice.pl
SUMMARY:Warsztaty okazjonalne
DESCRIPTION:
URL:https://gckib.iwanowice.pl/wydarzenie/warsztaty-okazjonalne-21/
LOCATION:Gminne Centrum Kultury i Bibliotek w Iwanowicach\, Strażacka 5\, Iwanowice Włościańskie
CATEGORIES:Warsztaty okazjonalne
END:VEVENT
BEGIN:VEVENT
DTSTART;TZID=Europe/Warsaw:20240312T161500
DTEND;TZID=Europe/Warsaw:20240312T170000
DTSTAMP:20260423T234147
CREATED:20231106T095649Z
LAST-MODIFIED:20231106T095649Z
UID:45577-1710260100-1710262800@gckib.iwanowice.pl
SUMMARY:Szachy
DESCRIPTION:
URL:https://gckib.iwanowice.pl/wydarzenie/szachy-39/
LOCATION:Gminne Centrum Kultury i Bibliotek w Iwanowicach\, Strażacka 5\, Iwanowice Włościańskie
CATEGORIES:Szachy
END:VEVENT
BEGIN:VEVENT
DTSTART;TZID=Europe/Warsaw:20240311T183000
DTEND;TZID=Europe/Warsaw:20240311T193000
DTSTAMP:20260423T234147
CREATED:20231106T094729Z
LAST-MODIFIED:20231106T094729Z
UID:45567-1710181800-1710185400@gckib.iwanowice.pl
SUMMARY:Joga
DESCRIPTION:
URL:https://gckib.iwanowice.pl/wydarzenie/joga-19/
LOCATION:mała sala przy ZS – P w Iwanowicach Włościańskich
CATEGORIES:joga
END:VEVENT
BEGIN:VEVENT
DTSTART;TZID=Europe/Warsaw:20240308T160000
DTEND;TZID=Europe/Warsaw:20240308T170000
DTSTAMP:20260423T234147
CREATED:20231106T094109Z
LAST-MODIFIED:20231106T094109Z
UID:45557-1709913600-1709917200@gckib.iwanowice.pl
SUMMARY:Capoeira
DESCRIPTION:
URL:https://gckib.iwanowice.pl/wydarzenie/capoeira-40/
LOCATION:mała sala przy ZS – P w Iwanowicach Włościańskich
CATEGORIES:Capoeira
END:VEVENT
BEGIN:VEVENT
DTSTART;TZID=Europe/Warsaw:20240308T150000
DTEND;TZID=Europe/Warsaw:20240308T160000
DTSTAMP:20260423T234147
CREATED:20231106T094013Z
LAST-MODIFIED:20231106T094013Z
UID:45555-1709910000-1709913600@gckib.iwanowice.pl
SUMMARY:Capoeira
DESCRIPTION:
URL:https://gckib.iwanowice.pl/wydarzenie/capoeira-39/
LOCATION:mała sala przy ZS – P w Iwanowicach Włościańskich
CATEGORIES:Capoeira
END:VEVENT
BEGIN:VEVENT
DTSTART;TZID=Europe/Warsaw:20240307T193000
DTEND;TZID=Europe/Warsaw:20240307T203000
DTSTAMP:20260423T234147
CREATED:20231106T093833Z
LAST-MODIFIED:20231106T093833Z
UID:45551-1709839800-1709843400@gckib.iwanowice.pl
SUMMARY:Pilates
DESCRIPTION:
URL:https://gckib.iwanowice.pl/wydarzenie/pilates-20/
LOCATION:mała sala przy ZS – P w Iwanowicach Włościańskich
CATEGORIES:Pilates
END:VEVENT
BEGIN:VEVENT
DTSTART;TZID=Europe/Warsaw:20240307T170000
DTEND;TZID=Europe/Warsaw:20240307T190000
DTSTAMP:20260423T234147
CREATED:20231106T093739Z
LAST-MODIFIED:20231106T093739Z
UID:45549-1709830800-1709838000@gckib.iwanowice.pl
SUMMARY:Planszówki
DESCRIPTION:
URL:https://gckib.iwanowice.pl/wydarzenie/planszowki-20/
LOCATION:Gminne Centrum Kultury i Bibliotek w Iwanowicach\, Strażacka 5\, Iwanowice Włościańskie
CATEGORIES:Planszówki
END:VEVENT
BEGIN:VEVENT
DTSTART;TZID=Europe/Warsaw:20240306T190000
DTEND;TZID=Europe/Warsaw:20240306T195500
DTSTAMP:20260423T234147
CREATED:20231106T092744Z
LAST-MODIFIED:20231106T093235Z
UID:45543-1709751600-1709754900@gckib.iwanowice.pl
SUMMARY:Zumba fitness
DESCRIPTION:
URL:https://gckib.iwanowice.pl/wydarzenie/zumba-fitness-21/
LOCATION:mała sala przy ZS – P w Iwanowicach Włościańskich
CATEGORIES:Zumba fitness
END:VEVENT
BEGIN:VEVENT
DTSTART;TZID=Europe/Warsaw:20240306T180000
DTEND;TZID=Europe/Warsaw:20240306T185500
DTSTAMP:20260423T234147
CREATED:20231106T092646Z
LAST-MODIFIED:20231106T093304Z
UID:45541-1709748000-1709751300@gckib.iwanowice.pl
SUMMARY:Zumba gold
DESCRIPTION:
URL:https://gckib.iwanowice.pl/wydarzenie/zumba-gold-21/
LOCATION:mała sala przy ZS – P w Iwanowicach Włościańskich
CATEGORIES:Zumba gold
END:VEVENT
BEGIN:VEVENT
DTSTART;TZID=Europe/Warsaw:20240306T170000
DTEND;TZID=Europe/Warsaw:20240306T174500
DTSTAMP:20260423T234147
CREATED:20231106T092520Z
LAST-MODIFIED:20231106T093154Z
UID:45539-1709744400-1709747100@gckib.iwanowice.pl
SUMMARY:Czarodziejski kuferek
DESCRIPTION:
URL:https://gckib.iwanowice.pl/wydarzenie/czarodziejski-kuferek-20/
LOCATION:mała sala przy ZS – P w Iwanowicach Włościańskich
CATEGORIES:Czarodziejski kuferek
END:VEVENT
BEGIN:VEVENT
DTSTART;TZID=Europe/Warsaw:20240306T131500
DTEND;TZID=Europe/Warsaw:20240306T180000
DTSTAMP:20260423T234147
CREATED:20231106T093426Z
LAST-MODIFIED:20240523T112617Z
UID:45545-1709730900-1709748000@gckib.iwanowice.pl
SUMMARY:Zajęcia wokalne
DESCRIPTION:
URL:https://gckib.iwanowice.pl/wydarzenie/zajecia-wokalne-20/
LOCATION:Gminne Centrum Kultury i Bibliotek w Iwanowicach\, Strażacka 5\, Iwanowice Włościańskie
CATEGORIES:wokal
END:VEVENT
BEGIN:VEVENT
DTSTART;TZID=Europe/Warsaw:20240305T170000
DTEND;TZID=Europe/Warsaw:20240305T174500
DTSTAMP:20260423T234147
CREATED:20231106T091021Z
LAST-MODIFIED:20231106T091254Z
UID:45533-1709658000-1709660700@gckib.iwanowice.pl
SUMMARY:Szachy
DESCRIPTION:
URL:https://gckib.iwanowice.pl/wydarzenie/szachy-38/
LOCATION:Gminne Centrum Kultury i Bibliotek w Iwanowicach\, Strażacka 5\, Iwanowice Włościańskie
CATEGORIES:Szachy
END:VEVENT
BEGIN:VEVENT
DTSTART;TZID=Europe/Warsaw:20240305T161500
DTEND;TZID=Europe/Warsaw:20240305T174500
DTSTAMP:20260423T234147
CREATED:20231106T090553Z
LAST-MODIFIED:20231106T091513Z
UID:45525-1709655300-1709660700@gckib.iwanowice.pl
SUMMARY:Warsztaty okazjonalne
DESCRIPTION:
URL:https://gckib.iwanowice.pl/wydarzenie/warsztaty-okazjonalne-20/
LOCATION:Gminne Centrum Kultury i Bibliotek w Iwanowicach\, Strażacka 5\, Iwanowice Włościańskie
CATEGORIES:Warsztaty okazjonalne
END:VEVENT
BEGIN:VEVENT
DTSTART;TZID=Europe/Warsaw:20240305T161500
DTEND;TZID=Europe/Warsaw:20240305T170000
DTSTAMP:20260423T234147
CREATED:20231106T090806Z
LAST-MODIFIED:20231106T091344Z
UID:45529-1709655300-1709658000@gckib.iwanowice.pl
SUMMARY:Szachy
DESCRIPTION:
URL:https://gckib.iwanowice.pl/wydarzenie/szachy-37/
LOCATION:Gminne Centrum Kultury i Bibliotek w Iwanowicach\, Strażacka 5\, Iwanowice Włościańskie
CATEGORIES:Szachy
END:VEVENT
BEGIN:VEVENT
DTSTART;TZID=Europe/Warsaw:20240304T183000
DTEND;TZID=Europe/Warsaw:20240304T193000
DTSTAMP:20260423T234147
CREATED:20231106T090304Z
LAST-MODIFIED:20231106T090304Z
UID:45519-1709577000-1709580600@gckib.iwanowice.pl
SUMMARY:Joga
DESCRIPTION:
URL:https://gckib.iwanowice.pl/wydarzenie/joga-18/
LOCATION:mała sala przy ZS – P w Iwanowicach Włościańskich
CATEGORIES:joga
END:VEVENT
BEGIN:VEVENT
DTSTART;TZID=Europe/Warsaw:20240301T160000
DTEND;TZID=Europe/Warsaw:20240301T170000
DTSTAMP:20260423T234147
CREATED:20231106T074612Z
LAST-MODIFIED:20231106T074612Z
UID:45509-1709308800-1709312400@gckib.iwanowice.pl
SUMMARY:Capoeira
DESCRIPTION:
URL:https://gckib.iwanowice.pl/wydarzenie/capoeira-38/
LOCATION:mała sala przy ZS – P w Iwanowicach Włościańskich
CATEGORIES:Capoeira
END:VEVENT
BEGIN:VEVENT
DTSTART;TZID=Europe/Warsaw:20240301T150000
DTEND;TZID=Europe/Warsaw:20240301T160000
DTSTAMP:20260423T234147
CREATED:20231106T074510Z
LAST-MODIFIED:20231106T074510Z
UID:45507-1709305200-1709308800@gckib.iwanowice.pl
SUMMARY:Capoeira
DESCRIPTION:
URL:https://gckib.iwanowice.pl/wydarzenie/capoeira-37/
LOCATION:mała sala przy ZS – P w Iwanowicach Włościańskich
CATEGORIES:Capoeira
END:VEVENT
BEGIN:VEVENT
DTSTART;TZID=Europe/Warsaw:20240229T193000
DTEND;TZID=Europe/Warsaw:20240229T203000
DTSTAMP:20260423T234147
CREATED:20231106T074306Z
LAST-MODIFIED:20231106T074306Z
UID:45503-1709235000-1709238600@gckib.iwanowice.pl
SUMMARY:Pilates
DESCRIPTION:
URL:https://gckib.iwanowice.pl/wydarzenie/pilates-19/
LOCATION:mała sala przy ZS – P w Iwanowicach Włościańskich
CATEGORIES:Pilates
END:VEVENT
BEGIN:VEVENT
DTSTART;TZID=Europe/Warsaw:20240229T170000
DTEND;TZID=Europe/Warsaw:20240229T190000
DTSTAMP:20260423T234147
CREATED:20231106T074215Z
LAST-MODIFIED:20231106T074215Z
UID:45501-1709226000-1709233200@gckib.iwanowice.pl
SUMMARY:Planszówki
DESCRIPTION:
URL:https://gckib.iwanowice.pl/wydarzenie/planszowki-19/
LOCATION:Gminne Centrum Kultury i Bibliotek w Iwanowicach\, Strażacka 5\, Iwanowice Włościańskie
CATEGORIES:Planszówki
END:VEVENT
BEGIN:VEVENT
DTSTART;TZID=Europe/Warsaw:20240229T120000
DTEND;TZID=Europe/Warsaw:20240229T180000
DTSTAMP:20260423T234147
CREATED:20231103T135439Z
LAST-MODIFIED:20231103T135439Z
UID:45497-1709208000-1709229600@gckib.iwanowice.pl
SUMMARY:Zajęcia wokalne
DESCRIPTION:
URL:https://gckib.iwanowice.pl/wydarzenie/zajecia-wokalne-19/
LOCATION:Gminne Centrum Kultury i Bibliotek w Iwanowicach\, Strażacka 5\, Iwanowice Włościańskie
CATEGORIES:wokal
END:VEVENT
BEGIN:VEVENT
DTSTART;TZID=Europe/Warsaw:20240228T190000
DTEND;TZID=Europe/Warsaw:20240228T195500
DTSTAMP:20260423T234147
CREATED:20231103T135322Z
LAST-MODIFIED:20231103T135322Z
UID:45495-1709146800-1709150100@gckib.iwanowice.pl
SUMMARY:Zumba fitness
DESCRIPTION:
URL:https://gckib.iwanowice.pl/wydarzenie/zumba-fitness-20/
LOCATION:mała sala przy ZS – P w Iwanowicach Włościańskich
CATEGORIES:Zumba fitness
END:VEVENT
BEGIN:VEVENT
DTSTART;TZID=Europe/Warsaw:20240228T180000
DTEND;TZID=Europe/Warsaw:20240228T185500
DTSTAMP:20260423T234147
CREATED:20231103T135226Z
LAST-MODIFIED:20231103T135226Z
UID:45493-1709143200-1709146500@gckib.iwanowice.pl
SUMMARY:Zumba gold
DESCRIPTION:
URL:https://gckib.iwanowice.pl/wydarzenie/zumba-gold-20/
LOCATION:mała sala przy ZS – P w Iwanowicach Włościańskich
CATEGORIES:Zumba gold
END:VEVENT
END:VCALENDAR