BEGIN:VCALENDAR
VERSION:2.0
PRODID:-//GCKiB - ECPv6.15.20//NONSGML v1.0//EN
CALSCALE:GREGORIAN
METHOD:PUBLISH
X-ORIGINAL-URL:https://gckib.iwanowice.pl
X-WR-CALDESC:Wydarzenia dla GCKiB
REFRESH-INTERVAL;VALUE=DURATION:PT1H
X-Robots-Tag:noindex
X-PUBLISHED-TTL:PT1H
BEGIN:VTIMEZONE
TZID:Europe/Warsaw
BEGIN:DAYLIGHT
TZOFFSETFROM:+0100
TZOFFSETTO:+0200
TZNAME:CEST
DTSTART:20230326T010000
END:DAYLIGHT
BEGIN:STANDARD
TZOFFSETFROM:+0200
TZOFFSETTO:+0100
TZNAME:CET
DTSTART:20231029T010000
END:STANDARD
BEGIN:DAYLIGHT
TZOFFSETFROM:+0100
TZOFFSETTO:+0200
TZNAME:CEST
DTSTART:20240331T010000
END:DAYLIGHT
BEGIN:STANDARD
TZOFFSETFROM:+0200
TZOFFSETTO:+0100
TZNAME:CET
DTSTART:20241027T010000
END:STANDARD
BEGIN:DAYLIGHT
TZOFFSETFROM:+0100
TZOFFSETTO:+0200
TZNAME:CEST
DTSTART:20250330T010000
END:DAYLIGHT
BEGIN:STANDARD
TZOFFSETFROM:+0200
TZOFFSETTO:+0100
TZNAME:CET
DTSTART:20251026T010000
END:STANDARD
END:VTIMEZONE
BEGIN:VEVENT
DTSTART;TZID=Europe/Warsaw:20240327T180000
DTEND;TZID=Europe/Warsaw:20240327T185500
DTSTAMP:20260423T205342
CREATED:20231106T123705Z
LAST-MODIFIED:20231106T123705Z
UID:45685-1711562400-1711565700@gckib.iwanowice.pl
SUMMARY:Zumba gold
DESCRIPTION:
URL:https://gckib.iwanowice.pl/wydarzenie/zumba-gold-24/
LOCATION:mała sala przy ZS – P w Iwanowicach Włościańskich
CATEGORIES:Zumba gold
END:VEVENT
BEGIN:VEVENT
DTSTART;TZID=Europe/Warsaw:20240327T170000
DTEND;TZID=Europe/Warsaw:20240327T174500
DTSTAMP:20260423T205342
CREATED:20231106T123554Z
LAST-MODIFIED:20231106T123554Z
UID:45683-1711558800-1711561500@gckib.iwanowice.pl
SUMMARY:Czarodziejski kuferek
DESCRIPTION:
URL:https://gckib.iwanowice.pl/wydarzenie/czarodziejski-kuferek-23/
LOCATION:Gminne Centrum Kultury i Bibliotek w Iwanowicach\, Strażacka 5\, Iwanowice Włościańskie
CATEGORIES:Czarodziejski kuferek
END:VEVENT
BEGIN:VEVENT
DTSTART;TZID=Europe/Warsaw:20240327T131500
DTEND;TZID=Europe/Warsaw:20240327T180000
DTSTAMP:20260423T205342
CREATED:20231106T124257Z
LAST-MODIFIED:20240523T112317Z
UID:45689-1711545300-1711562400@gckib.iwanowice.pl
SUMMARY:Zajęcia wokalne
DESCRIPTION:
URL:https://gckib.iwanowice.pl/wydarzenie/zajecia-wokalne-23/
LOCATION:Gminne Centrum Kultury i Bibliotek w Iwanowicach\, Strażacka 5\, Iwanowice Włościańskie
CATEGORIES:wokal
END:VEVENT
BEGIN:VEVENT
DTSTART;TZID=Europe/Warsaw:20240326T170000
DTEND;TZID=Europe/Warsaw:20240326T174500
DTSTAMP:20260423T205342
CREATED:20231106T122843Z
LAST-MODIFIED:20231106T122843Z
UID:45677-1711472400-1711475100@gckib.iwanowice.pl
SUMMARY:Szachy
DESCRIPTION:
URL:https://gckib.iwanowice.pl/wydarzenie/szachy-44/
LOCATION:Gminne Centrum Kultury i Bibliotek w Iwanowicach\, Strażacka 5\, Iwanowice Włościańskie
CATEGORIES:Szachy
END:VEVENT
BEGIN:VEVENT
DTSTART;TZID=Europe/Warsaw:20240326T161500
DTEND;TZID=Europe/Warsaw:20240326T174500
DTSTAMP:20260423T205342
CREATED:20231106T121622Z
LAST-MODIFIED:20231106T121622Z
UID:45669-1711469700-1711475100@gckib.iwanowice.pl
SUMMARY:Warsztaty okazjonalne
DESCRIPTION:
URL:https://gckib.iwanowice.pl/wydarzenie/warsztaty-okazjonalne-23/
LOCATION:Gminne Centrum Kultury i Bibliotek w Iwanowicach\, Strażacka 5\, Iwanowice Włościańskie
CATEGORIES:Warsztaty okazjonalne
END:VEVENT
BEGIN:VEVENT
DTSTART;TZID=Europe/Warsaw:20240326T161500
DTEND;TZID=Europe/Warsaw:20240326T170000
DTSTAMP:20260423T205342
CREATED:20231106T122634Z
LAST-MODIFIED:20231106T122634Z
UID:45673-1711469700-1711472400@gckib.iwanowice.pl
SUMMARY:Szachy
DESCRIPTION:
URL:https://gckib.iwanowice.pl/wydarzenie/szachy-43/
LOCATION:Gminne Centrum Kultury i Bibliotek w Iwanowicach\, Strażacka 5\, Iwanowice Włościańskie
CATEGORIES:Szachy
END:VEVENT
BEGIN:VEVENT
DTSTART;TZID=Europe/Warsaw:20240325T183000
DTEND;TZID=Europe/Warsaw:20240325T193000
DTSTAMP:20260423T205342
CREATED:20231106T120738Z
LAST-MODIFIED:20231106T120738Z
UID:45663-1711391400-1711395000@gckib.iwanowice.pl
SUMMARY:Joga
DESCRIPTION:
URL:https://gckib.iwanowice.pl/wydarzenie/joga-21/
LOCATION:mała sala przy ZS – P w Iwanowicach Włościańskich
CATEGORIES:joga
END:VEVENT
BEGIN:VEVENT
DTSTART;TZID=Europe/Warsaw:20240322T160000
DTEND;TZID=Europe/Warsaw:20240322T170000
DTSTAMP:20260423T205342
CREATED:20231106T120332Z
LAST-MODIFIED:20231106T120332Z
UID:45655-1711123200-1711126800@gckib.iwanowice.pl
SUMMARY:Capoeira
DESCRIPTION:
URL:https://gckib.iwanowice.pl/wydarzenie/capoeira-44/
LOCATION:mała sala przy ZS – P w Iwanowicach Włościańskich
CATEGORIES:Capoeira
END:VEVENT
BEGIN:VEVENT
DTSTART;TZID=Europe/Warsaw:20240322T150000
DTEND;TZID=Europe/Warsaw:20240322T160000
DTSTAMP:20260423T205342
CREATED:20231106T120136Z
LAST-MODIFIED:20231106T120136Z
UID:45651-1711119600-1711123200@gckib.iwanowice.pl
SUMMARY:Capoeira
DESCRIPTION:
URL:https://gckib.iwanowice.pl/wydarzenie/capoeira-43/
LOCATION:mała sala przy ZS – P w Iwanowicach Włościańskich
CATEGORIES:Capoeira
END:VEVENT
BEGIN:VEVENT
DTSTART;TZID=Europe/Warsaw:20240321T193000
DTEND;TZID=Europe/Warsaw:20240321T203000
DTSTAMP:20260423T205342
CREATED:20231106T115717Z
LAST-MODIFIED:20231106T115717Z
UID:45647-1711049400-1711053000@gckib.iwanowice.pl
SUMMARY:Pilates
DESCRIPTION:
URL:https://gckib.iwanowice.pl/wydarzenie/pilates-22/
LOCATION:mała sala przy ZS – P w Iwanowicach Włościańskich
CATEGORIES:Pilates
END:VEVENT
BEGIN:VEVENT
DTSTART;TZID=Europe/Warsaw:20240321T170000
DTEND;TZID=Europe/Warsaw:20240321T190000
DTSTAMP:20260423T205342
CREATED:20231106T115521Z
LAST-MODIFIED:20231106T115521Z
UID:45645-1711040400-1711047600@gckib.iwanowice.pl
SUMMARY:Planszówki
DESCRIPTION:
URL:https://gckib.iwanowice.pl/wydarzenie/planszowki-22/
LOCATION:Gminne Centrum Kultury i Bibliotek w Iwanowicach\, Strażacka 5\, Iwanowice Włościańskie
CATEGORIES:Planszówki
END:VEVENT
BEGIN:VEVENT
DTSTART;TZID=Europe/Warsaw:20240320T190000
DTEND;TZID=Europe/Warsaw:20240320T195500
DTSTAMP:20260423T205342
CREATED:20231106T115155Z
LAST-MODIFIED:20231106T115155Z
UID:45639-1710961200-1710964500@gckib.iwanowice.pl
SUMMARY:Zumba fitness
DESCRIPTION:
URL:https://gckib.iwanowice.pl/wydarzenie/zumba-fitness-23/
LOCATION:mała sala przy ZS – P w Iwanowicach Włościańskich
CATEGORIES:Zumba fitness
END:VEVENT
BEGIN:VEVENT
DTSTART;TZID=Europe/Warsaw:20240320T180000
DTEND;TZID=Europe/Warsaw:20240320T185500
DTSTAMP:20260423T205342
CREATED:20231106T114955Z
LAST-MODIFIED:20231106T114955Z
UID:45637-1710957600-1710960900@gckib.iwanowice.pl
SUMMARY:Zumba gold
DESCRIPTION:
URL:https://gckib.iwanowice.pl/wydarzenie/zumba-gold-23/
LOCATION:mała sala przy ZS – P w Iwanowicach Włościańskich
CATEGORIES:Zumba gold
END:VEVENT
BEGIN:VEVENT
DTSTART;TZID=Europe/Warsaw:20240320T170000
DTEND;TZID=Europe/Warsaw:20240320T174500
DTSTAMP:20260423T205342
CREATED:20231106T114554Z
LAST-MODIFIED:20231106T114554Z
UID:45635-1710954000-1710956700@gckib.iwanowice.pl
SUMMARY:Czarodziejski kuferek
DESCRIPTION:
URL:https://gckib.iwanowice.pl/wydarzenie/czarodziejski-kuferek-22/
LOCATION:Gminne Centrum Kultury i Bibliotek w Iwanowicach\, Strażacka 5\, Iwanowice Włościańskie
CATEGORIES:Czarodziejski kuferek
END:VEVENT
BEGIN:VEVENT
DTSTART;TZID=Europe/Warsaw:20240320T131500
DTEND;TZID=Europe/Warsaw:20240320T180000
DTSTAMP:20260423T205342
CREATED:20231106T115255Z
LAST-MODIFIED:20240523T112412Z
UID:45641-1710940500-1710957600@gckib.iwanowice.pl
SUMMARY:Zajęcia wokalne
DESCRIPTION:
URL:https://gckib.iwanowice.pl/wydarzenie/zajecia-wokalne-22/
LOCATION:Gminne Centrum Kultury i Bibliotek w Iwanowicach\, Strażacka 5\, Iwanowice Włościańskie
CATEGORIES:wokal
END:VEVENT
BEGIN:VEVENT
DTSTART;TZID=Europe/Warsaw:20240319T170000
DTEND;TZID=Europe/Warsaw:20240319T174500
DTSTAMP:20260423T205342
CREATED:20231106T113053Z
LAST-MODIFIED:20231106T113053Z
UID:45629-1710867600-1710870300@gckib.iwanowice.pl
SUMMARY:Szachy
DESCRIPTION:
URL:https://gckib.iwanowice.pl/wydarzenie/szachy-42/
LOCATION:Gminne Centrum Kultury i Bibliotek w Iwanowicach\, Strażacka 5\, Iwanowice Włościańskie
CATEGORIES:Szachy
END:VEVENT
BEGIN:VEVENT
DTSTART;TZID=Europe/Warsaw:20240319T161500
DTEND;TZID=Europe/Warsaw:20240319T174500
DTSTAMP:20260423T205342
CREATED:20231106T112553Z
LAST-MODIFIED:20231106T112553Z
UID:45621-1710864900-1710870300@gckib.iwanowice.pl
SUMMARY:Warsztaty okazjonalne
DESCRIPTION:
URL:https://gckib.iwanowice.pl/wydarzenie/warsztaty-okazjonalne-22/
LOCATION:Gminne Centrum Kultury i Bibliotek w Iwanowicach\, Strażacka 5\, Iwanowice Włościańskie
CATEGORIES:Warsztaty okazjonalne
END:VEVENT
BEGIN:VEVENT
DTSTART;TZID=Europe/Warsaw:20240319T161500
DTEND;TZID=Europe/Warsaw:20240319T170000
DTSTAMP:20260423T205342
CREATED:20231106T112823Z
LAST-MODIFIED:20231106T112823Z
UID:45625-1710864900-1710867600@gckib.iwanowice.pl
SUMMARY:Szachy
DESCRIPTION:
URL:https://gckib.iwanowice.pl/wydarzenie/szachy-41/
LOCATION:Gminne Centrum Kultury i Bibliotek w Iwanowicach\, Strażacka 5\, Iwanowice Włościańskie
CATEGORIES:Szachy
END:VEVENT
BEGIN:VEVENT
DTSTART;TZID=Europe/Warsaw:20240318T183000
DTEND;TZID=Europe/Warsaw:20240318T193000
DTSTAMP:20260423T205342
CREATED:20231106T112226Z
LAST-MODIFIED:20231106T112226Z
UID:45615-1710786600-1710790200@gckib.iwanowice.pl
SUMMARY:Joga
DESCRIPTION:
URL:https://gckib.iwanowice.pl/wydarzenie/joga-20/
LOCATION:mała sala przy ZS – P w Iwanowicach Włościańskich
CATEGORIES:joga
END:VEVENT
BEGIN:VEVENT
DTSTART;TZID=Europe/Warsaw:20240315T160000
DTEND;TZID=Europe/Warsaw:20240315T170000
DTSTAMP:20260423T205342
CREATED:20231106T101404Z
LAST-MODIFIED:20231106T101404Z
UID:45605-1710518400-1710522000@gckib.iwanowice.pl
SUMMARY:Capoeira
DESCRIPTION:
URL:https://gckib.iwanowice.pl/wydarzenie/capoeira-42/
LOCATION:mała sala przy ZS – P w Iwanowicach Włościańskich
CATEGORIES:Capoeira
END:VEVENT
BEGIN:VEVENT
DTSTART;TZID=Europe/Warsaw:20240315T150000
DTEND;TZID=Europe/Warsaw:20240315T160000
DTSTAMP:20260423T205342
CREATED:20231106T101315Z
LAST-MODIFIED:20231106T101315Z
UID:45603-1710514800-1710518400@gckib.iwanowice.pl
SUMMARY:Capoeira
DESCRIPTION:
URL:https://gckib.iwanowice.pl/wydarzenie/capoeira-41/
LOCATION:mała sala przy ZS – P w Iwanowicach Włościańskich
CATEGORIES:Capoeira
END:VEVENT
BEGIN:VEVENT
DTSTART;TZID=Europe/Warsaw:20240314T193000
DTEND;TZID=Europe/Warsaw:20240314T203000
DTSTAMP:20260423T205342
CREATED:20231106T101112Z
LAST-MODIFIED:20231106T101724Z
UID:45599-1710444600-1710448200@gckib.iwanowice.pl
SUMMARY:Pilates
DESCRIPTION:
URL:https://gckib.iwanowice.pl/wydarzenie/pilates-21/
LOCATION:mała sala przy ZS – P w Iwanowicach Włościańskich
CATEGORIES:Pilates
END:VEVENT
BEGIN:VEVENT
DTSTART;TZID=Europe/Warsaw:20240314T170000
DTEND;TZID=Europe/Warsaw:20240314T190000
DTSTAMP:20260423T205342
CREATED:20231106T101013Z
LAST-MODIFIED:20231106T101013Z
UID:45597-1710435600-1710442800@gckib.iwanowice.pl
SUMMARY:Planszówki
DESCRIPTION:
URL:https://gckib.iwanowice.pl/wydarzenie/planszowki-21/
LOCATION:Gminne Centrum Kultury i Bibliotek w Iwanowicach\, Strażacka 5\, Iwanowice Włościańskie
CATEGORIES:Planszówki
END:VEVENT
BEGIN:VEVENT
DTSTART;TZID=Europe/Warsaw:20240313T190000
DTEND;TZID=Europe/Warsaw:20240313T195500
DTSTAMP:20260423T205342
CREATED:20231106T100726Z
LAST-MODIFIED:20231106T100726Z
UID:45591-1710356400-1710359700@gckib.iwanowice.pl
SUMMARY:Zumba fitness
DESCRIPTION:
URL:https://gckib.iwanowice.pl/wydarzenie/zumba-fitness-22/
LOCATION:mała sala przy ZS – P w Iwanowicach Włościańskich
CATEGORIES:Zumba fitness
END:VEVENT
BEGIN:VEVENT
DTSTART;TZID=Europe/Warsaw:20240313T180000
DTEND;TZID=Europe/Warsaw:20240313T185500
DTSTAMP:20260423T205342
CREATED:20231106T100624Z
LAST-MODIFIED:20231106T100624Z
UID:45589-1710352800-1710356100@gckib.iwanowice.pl
SUMMARY:Zumba gold
DESCRIPTION:
URL:https://gckib.iwanowice.pl/wydarzenie/zumba-gold-22/
LOCATION:mała sala przy ZS – P w Iwanowicach Włościańskich
CATEGORIES:Zumba gold
END:VEVENT
BEGIN:VEVENT
DTSTART;TZID=Europe/Warsaw:20240313T170000
DTEND;TZID=Europe/Warsaw:20240313T174500
DTSTAMP:20260423T205342
CREATED:20231106T100508Z
LAST-MODIFIED:20231106T100508Z
UID:45587-1710349200-1710351900@gckib.iwanowice.pl
SUMMARY:Czarodziejski kuferek
DESCRIPTION:
URL:https://gckib.iwanowice.pl/wydarzenie/czarodziejski-kuferek-21/
LOCATION:mała sala przy ZS – P w Iwanowicach Włościańskich
CATEGORIES:Czarodziejski kuferek
END:VEVENT
BEGIN:VEVENT
DTSTART;TZID=Europe/Warsaw:20240313T131500
DTEND;TZID=Europe/Warsaw:20240313T180000
DTSTAMP:20260423T205342
CREATED:20231106T100831Z
LAST-MODIFIED:20240523T112459Z
UID:45593-1710335700-1710352800@gckib.iwanowice.pl
SUMMARY:Zajęcia wokalne
DESCRIPTION:
URL:https://gckib.iwanowice.pl/wydarzenie/zajecia-wokalne-21/
LOCATION:Gminne Centrum Kultury i Bibliotek w Iwanowicach\, Strażacka 5\, Iwanowice Włościańskie
CATEGORIES:wokal
END:VEVENT
BEGIN:VEVENT
DTSTART;TZID=Europe/Warsaw:20240312T170000
DTEND;TZID=Europe/Warsaw:20240312T174500
DTSTAMP:20260423T205342
CREATED:20231106T095847Z
LAST-MODIFIED:20231106T095847Z
UID:45581-1710262800-1710265500@gckib.iwanowice.pl
SUMMARY:Szachy
DESCRIPTION:
URL:https://gckib.iwanowice.pl/wydarzenie/szachy-40/
LOCATION:Gminne Centrum Kultury i Bibliotek w Iwanowicach\, Strażacka 5\, Iwanowice Włościańskie
CATEGORIES:Szachy
END:VEVENT
BEGIN:VEVENT
DTSTART;TZID=Europe/Warsaw:20240312T161500
DTEND;TZID=Europe/Warsaw:20240312T174500
DTSTAMP:20260423T205342
CREATED:20231106T095449Z
LAST-MODIFIED:20231106T095449Z
UID:45573-1710260100-1710265500@gckib.iwanowice.pl
SUMMARY:Warsztaty okazjonalne
DESCRIPTION:
URL:https://gckib.iwanowice.pl/wydarzenie/warsztaty-okazjonalne-21/
LOCATION:Gminne Centrum Kultury i Bibliotek w Iwanowicach\, Strażacka 5\, Iwanowice Włościańskie
CATEGORIES:Warsztaty okazjonalne
END:VEVENT
BEGIN:VEVENT
DTSTART;TZID=Europe/Warsaw:20240312T161500
DTEND;TZID=Europe/Warsaw:20240312T170000
DTSTAMP:20260423T205342
CREATED:20231106T095649Z
LAST-MODIFIED:20231106T095649Z
UID:45577-1710260100-1710262800@gckib.iwanowice.pl
SUMMARY:Szachy
DESCRIPTION:
URL:https://gckib.iwanowice.pl/wydarzenie/szachy-39/
LOCATION:Gminne Centrum Kultury i Bibliotek w Iwanowicach\, Strażacka 5\, Iwanowice Włościańskie
CATEGORIES:Szachy
END:VEVENT
END:VCALENDAR