BEGIN:VCALENDAR
VERSION:2.0
PRODID:-//GCKiB - ECPv6.15.20//NONSGML v1.0//EN
CALSCALE:GREGORIAN
METHOD:PUBLISH
X-WR-CALNAME:GCKiB
X-ORIGINAL-URL:https://gckib.iwanowice.pl
X-WR-CALDESC:Wydarzenia dla GCKiB
REFRESH-INTERVAL;VALUE=DURATION:PT1H
X-Robots-Tag:noindex
X-PUBLISHED-TTL:PT1H
BEGIN:VTIMEZONE
TZID:Europe/Warsaw
BEGIN:DAYLIGHT
TZOFFSETFROM:+0100
TZOFFSETTO:+0200
TZNAME:CEST
DTSTART:20230326T010000
END:DAYLIGHT
BEGIN:STANDARD
TZOFFSETFROM:+0200
TZOFFSETTO:+0100
TZNAME:CET
DTSTART:20231029T010000
END:STANDARD
BEGIN:DAYLIGHT
TZOFFSETFROM:+0100
TZOFFSETTO:+0200
TZNAME:CEST
DTSTART:20240331T010000
END:DAYLIGHT
BEGIN:STANDARD
TZOFFSETFROM:+0200
TZOFFSETTO:+0100
TZNAME:CET
DTSTART:20241027T010000
END:STANDARD
BEGIN:DAYLIGHT
TZOFFSETFROM:+0100
TZOFFSETTO:+0200
TZNAME:CEST
DTSTART:20250330T010000
END:DAYLIGHT
BEGIN:STANDARD
TZOFFSETFROM:+0200
TZOFFSETTO:+0100
TZNAME:CET
DTSTART:20251026T010000
END:STANDARD
END:VTIMEZONE
BEGIN:VEVENT
DTSTART;TZID=Europe/Warsaw:20240417T190000
DTEND;TZID=Europe/Warsaw:20240417T195500
DTSTAMP:20260423T132544
CREATED:20231106T154029Z
LAST-MODIFIED:20231106T154029Z
UID:45831-1713380400-1713383700@gckib.iwanowice.pl
SUMMARY:Zumba fitness
DESCRIPTION:
URL:https://gckib.iwanowice.pl/wydarzenie/zumba-fitness-27/
LOCATION:mała sala przy ZS – P w Iwanowicach Włościańskich
CATEGORIES:Zumba fitness
END:VEVENT
BEGIN:VEVENT
DTSTART;TZID=Europe/Warsaw:20240417T180000
DTEND;TZID=Europe/Warsaw:20240417T185500
DTSTAMP:20260423T132544
CREATED:20231106T153936Z
LAST-MODIFIED:20231106T153936Z
UID:45829-1713376800-1713380100@gckib.iwanowice.pl
SUMMARY:Zumba gold
DESCRIPTION:
URL:https://gckib.iwanowice.pl/wydarzenie/zumba-gold-27/
LOCATION:mała sala przy ZS – P w Iwanowicach Włościańskich
CATEGORIES:Zumba gold
END:VEVENT
BEGIN:VEVENT
DTSTART;TZID=Europe/Warsaw:20240417T170000
DTEND;TZID=Europe/Warsaw:20240417T174500
DTSTAMP:20260423T132544
CREATED:20231106T153725Z
LAST-MODIFIED:20231106T153831Z
UID:45827-1713373200-1713375900@gckib.iwanowice.pl
SUMMARY:Czarodziejski kuferek
DESCRIPTION:
URL:https://gckib.iwanowice.pl/wydarzenie/czarodziejski-kuferek-26/
LOCATION:mała sala przy ZS – P w Iwanowicach Włościańskich
CATEGORIES:Czarodziejski kuferek
END:VEVENT
BEGIN:VEVENT
DTSTART;TZID=Europe/Warsaw:20240417T131500
DTEND;TZID=Europe/Warsaw:20240417T180000
DTSTAMP:20260423T132544
CREATED:20231106T154124Z
LAST-MODIFIED:20240523T112036Z
UID:45833-1713359700-1713376800@gckib.iwanowice.pl
SUMMARY:Zajęcia wokalne
DESCRIPTION:
URL:https://gckib.iwanowice.pl/wydarzenie/zajecia-wokalne-26/
LOCATION:Gminne Centrum Kultury i Bibliotek w Iwanowicach\, Strażacka 5\, Iwanowice Włościańskie
CATEGORIES:wokal
END:VEVENT
BEGIN:VEVENT
DTSTART;TZID=Europe/Warsaw:20240416T170000
DTEND;TZID=Europe/Warsaw:20240416T174500
DTSTAMP:20260423T132544
CREATED:20231106T153448Z
LAST-MODIFIED:20231106T153448Z
UID:45821-1713286800-1713289500@gckib.iwanowice.pl
SUMMARY:Szachy
DESCRIPTION:
URL:https://gckib.iwanowice.pl/wydarzenie/szachy-50/
LOCATION:Gminne Centrum Kultury i Bibliotek w Iwanowicach\, Strażacka 5\, Iwanowice Włościańskie
CATEGORIES:Szachy
END:VEVENT
BEGIN:VEVENT
DTSTART;TZID=Europe/Warsaw:20240416T161500
DTEND;TZID=Europe/Warsaw:20240416T174500
DTSTAMP:20260423T132544
CREATED:20231106T153108Z
LAST-MODIFIED:20231106T153108Z
UID:45813-1713284100-1713289500@gckib.iwanowice.pl
SUMMARY:Warsztaty okazjonalne
DESCRIPTION:
URL:https://gckib.iwanowice.pl/wydarzenie/warsztaty-okazjonalne-26/
LOCATION:Gminne Centrum Kultury i Bibliotek w Iwanowicach\, Strażacka 5\, Iwanowice Włościańskie
CATEGORIES:Warsztaty okazjonalne
END:VEVENT
BEGIN:VEVENT
DTSTART;TZID=Europe/Warsaw:20240416T161500
DTEND;TZID=Europe/Warsaw:20240416T170000
DTSTAMP:20260423T132544
CREATED:20231106T153309Z
LAST-MODIFIED:20231106T153309Z
UID:45817-1713284100-1713286800@gckib.iwanowice.pl
SUMMARY:Szachy
DESCRIPTION:
URL:https://gckib.iwanowice.pl/wydarzenie/szachy-49/
LOCATION:Gminne Centrum Kultury i Bibliotek w Iwanowicach\, Strażacka 5\, Iwanowice Włościańskie
CATEGORIES:Szachy
END:VEVENT
BEGIN:VEVENT
DTSTART;TZID=Europe/Warsaw:20240415T183000
DTEND;TZID=Europe/Warsaw:20240415T193000
DTSTAMP:20260423T132544
CREATED:20231106T152751Z
LAST-MODIFIED:20231106T152751Z
UID:45807-1713205800-1713209400@gckib.iwanowice.pl
SUMMARY:Joga
DESCRIPTION:
URL:https://gckib.iwanowice.pl/wydarzenie/joga-24/
LOCATION:mała sala przy ZS – P w Iwanowicach Włościańskich
CATEGORIES:joga
END:VEVENT
BEGIN:VEVENT
DTSTART;TZID=Europe/Warsaw:20240412T160000
DTEND;TZID=Europe/Warsaw:20240412T170000
DTSTAMP:20260423T132544
CREATED:20231106T152047Z
LAST-MODIFIED:20231106T152047Z
UID:45797-1712937600-1712941200@gckib.iwanowice.pl
SUMMARY:Capoeira
DESCRIPTION:
URL:https://gckib.iwanowice.pl/wydarzenie/capoeira-50/
LOCATION:mała sala przy ZS – P w Iwanowicach Włościańskich
CATEGORIES:Capoeira
END:VEVENT
BEGIN:VEVENT
DTSTART;TZID=Europe/Warsaw:20240412T150000
DTEND;TZID=Europe/Warsaw:20240412T160000
DTSTAMP:20260423T132544
CREATED:20231106T151959Z
LAST-MODIFIED:20231106T151959Z
UID:45795-1712934000-1712937600@gckib.iwanowice.pl
SUMMARY:Capoeira
DESCRIPTION:
URL:https://gckib.iwanowice.pl/wydarzenie/capoeira-49/
LOCATION:mała sala przy ZS – P w Iwanowicach Włościańskich
CATEGORIES:Capoeira
END:VEVENT
BEGIN:VEVENT
DTSTART;TZID=Europe/Warsaw:20240411T193000
DTEND;TZID=Europe/Warsaw:20240411T203000
DTSTAMP:20260423T132544
CREATED:20231106T151824Z
LAST-MODIFIED:20231106T151824Z
UID:45791-1712863800-1712867400@gckib.iwanowice.pl
SUMMARY:Pilates
DESCRIPTION:
URL:https://gckib.iwanowice.pl/wydarzenie/pilates-25/
LOCATION:mała sala przy ZS – P w Iwanowicach Włościańskich
CATEGORIES:Pilates
END:VEVENT
BEGIN:VEVENT
DTSTART;TZID=Europe/Warsaw:20240411T170000
DTEND;TZID=Europe/Warsaw:20240411T190000
DTSTAMP:20260423T132544
CREATED:20231106T151741Z
LAST-MODIFIED:20231106T151741Z
UID:45789-1712854800-1712862000@gckib.iwanowice.pl
SUMMARY:Planszówki
DESCRIPTION:
URL:https://gckib.iwanowice.pl/wydarzenie/planszowki-25/
LOCATION:Gminne Centrum Kultury i Bibliotek w Iwanowicach\, Strażacka 5\, Iwanowice Włościańskie
CATEGORIES:Planszówki
END:VEVENT
BEGIN:VEVENT
DTSTART;TZID=Europe/Warsaw:20240410T190000
DTEND;TZID=Europe/Warsaw:20240410T195500
DTSTAMP:20260423T132544
CREATED:20231106T151454Z
LAST-MODIFIED:20231106T151454Z
UID:45783-1712775600-1712778900@gckib.iwanowice.pl
SUMMARY:Zumba fitness
DESCRIPTION:
URL:https://gckib.iwanowice.pl/wydarzenie/zumba-fitness-26/
LOCATION:mała sala przy ZS – P w Iwanowicach Włościańskich
CATEGORIES:Zumba fitness
END:VEVENT
BEGIN:VEVENT
DTSTART;TZID=Europe/Warsaw:20240410T180000
DTEND;TZID=Europe/Warsaw:20240410T185500
DTSTAMP:20260423T132544
CREATED:20231106T151404Z
LAST-MODIFIED:20231106T151404Z
UID:45781-1712772000-1712775300@gckib.iwanowice.pl
SUMMARY:Zumba gold
DESCRIPTION:
URL:https://gckib.iwanowice.pl/wydarzenie/zumba-gold-26/
LOCATION:mała sala przy ZS – P w Iwanowicach Włościańskich
CATEGORIES:Zumba gold
END:VEVENT
BEGIN:VEVENT
DTSTART;TZID=Europe/Warsaw:20240410T170000
DTEND;TZID=Europe/Warsaw:20240410T174500
DTSTAMP:20260423T132544
CREATED:20231106T151312Z
LAST-MODIFIED:20231106T151312Z
UID:45779-1712768400-1712771100@gckib.iwanowice.pl
SUMMARY:Czarodziejski kuferek
DESCRIPTION:
URL:https://gckib.iwanowice.pl/wydarzenie/czarodziejski-kuferek-25/
LOCATION:Gminne Centrum Kultury i Bibliotek w Iwanowicach\, Strażacka 5\, Iwanowice Włościańskie
CATEGORIES:Czarodziejski kuferek
END:VEVENT
BEGIN:VEVENT
DTSTART;TZID=Europe/Warsaw:20240410T131500
DTEND;TZID=Europe/Warsaw:20240410T180000
DTSTAMP:20260423T132544
CREATED:20231106T151612Z
LAST-MODIFIED:20240523T112136Z
UID:45785-1712754900-1712772000@gckib.iwanowice.pl
SUMMARY:Zajęcia wokalne
DESCRIPTION:
URL:https://gckib.iwanowice.pl/wydarzenie/zajecia-wokalne-25/
LOCATION:Gminne Centrum Kultury i Bibliotek w Iwanowicach\, Strażacka 5\, Iwanowice Włościańskie
CATEGORIES:wokal
END:VEVENT
BEGIN:VEVENT
DTSTART;TZID=Europe/Warsaw:20240409T170000
DTEND;TZID=Europe/Warsaw:20240409T174500
DTSTAMP:20260423T132544
CREATED:20231106T151033Z
LAST-MODIFIED:20231106T151033Z
UID:45773-1712682000-1712684700@gckib.iwanowice.pl
SUMMARY:Szachy
DESCRIPTION:
URL:https://gckib.iwanowice.pl/wydarzenie/szachy-48/
LOCATION:Gminne Centrum Kultury i Bibliotek w Iwanowicach\, Strażacka 5\, Iwanowice Włościańskie
CATEGORIES:Szachy
END:VEVENT
BEGIN:VEVENT
DTSTART;TZID=Europe/Warsaw:20240409T161500
DTEND;TZID=Europe/Warsaw:20240409T174500
DTSTAMP:20260423T132544
CREATED:20231106T150526Z
LAST-MODIFIED:20231106T150526Z
UID:45765-1712679300-1712684700@gckib.iwanowice.pl
SUMMARY:Warsztaty okazjonalne
DESCRIPTION:
URL:https://gckib.iwanowice.pl/wydarzenie/warsztaty-okazjonalne-25/
LOCATION:Gminne Centrum Kultury i Bibliotek w Iwanowicach\, Strażacka 5\, Iwanowice Włościańskie
CATEGORIES:Warsztaty okazjonalne
END:VEVENT
BEGIN:VEVENT
DTSTART;TZID=Europe/Warsaw:20240409T161500
DTEND;TZID=Europe/Warsaw:20240409T170000
DTSTAMP:20260423T132544
CREATED:20231106T150721Z
LAST-MODIFIED:20231106T150721Z
UID:45769-1712679300-1712682000@gckib.iwanowice.pl
SUMMARY:Szachy
DESCRIPTION:
URL:https://gckib.iwanowice.pl/wydarzenie/szachy-47/
LOCATION:Gminne Centrum Kultury i Bibliotek w Iwanowicach\, Strażacka 5\, Iwanowice Włościańskie
CATEGORIES:Szachy
END:VEVENT
BEGIN:VEVENT
DTSTART;TZID=Europe/Warsaw:20240408T183000
DTEND;TZID=Europe/Warsaw:20240408T193000
DTSTAMP:20260423T132544
CREATED:20231106T150256Z
LAST-MODIFIED:20231106T150256Z
UID:45759-1712601000-1712604600@gckib.iwanowice.pl
SUMMARY:Joga
DESCRIPTION:
URL:https://gckib.iwanowice.pl/wydarzenie/joga-23/
LOCATION:mała sala przy ZS – P w Iwanowicach Włościańskich
CATEGORIES:joga
END:VEVENT
BEGIN:VEVENT
DTSTART;TZID=Europe/Warsaw:20240405T160000
DTEND;TZID=Europe/Warsaw:20240405T170000
DTSTAMP:20260423T132544
CREATED:20231106T145801Z
LAST-MODIFIED:20231106T145801Z
UID:45749-1712332800-1712336400@gckib.iwanowice.pl
SUMMARY:Capoeira
DESCRIPTION:
URL:https://gckib.iwanowice.pl/wydarzenie/capoeira-48/
LOCATION:mała sala przy ZS – P w Iwanowicach Włościańskich
CATEGORIES:Capoeira
END:VEVENT
BEGIN:VEVENT
DTSTART;TZID=Europe/Warsaw:20240405T150000
DTEND;TZID=Europe/Warsaw:20240405T160000
DTSTAMP:20260423T132544
CREATED:20231106T145704Z
LAST-MODIFIED:20231106T145704Z
UID:45747-1712329200-1712332800@gckib.iwanowice.pl
SUMMARY:Capoeira
DESCRIPTION:
URL:https://gckib.iwanowice.pl/wydarzenie/capoeira-47/
LOCATION:mała sala przy ZS – P w Iwanowicach Włościańskich
CATEGORIES:Capoeira
END:VEVENT
BEGIN:VEVENT
DTSTART;TZID=Europe/Warsaw:20240404T193000
DTEND;TZID=Europe/Warsaw:20240404T203000
DTSTAMP:20260423T132544
CREATED:20231106T142220Z
LAST-MODIFIED:20231106T142220Z
UID:45743-1712259000-1712262600@gckib.iwanowice.pl
SUMMARY:Pilates
DESCRIPTION:
URL:https://gckib.iwanowice.pl/wydarzenie/pilates-24/
LOCATION:mała sala przy ZS – P w Iwanowicach Włościańskich
CATEGORIES:Pilates
END:VEVENT
BEGIN:VEVENT
DTSTART;TZID=Europe/Warsaw:20240404T170000
DTEND;TZID=Europe/Warsaw:20240404T190000
DTSTAMP:20260423T132544
CREATED:20231106T142132Z
LAST-MODIFIED:20231106T142132Z
UID:45741-1712250000-1712257200@gckib.iwanowice.pl
SUMMARY:Planszówki
DESCRIPTION:
URL:https://gckib.iwanowice.pl/wydarzenie/planszowki-24/
LOCATION:Gminne Centrum Kultury i Bibliotek w Iwanowicach\, Strażacka 5\, Iwanowice Włościańskie
CATEGORIES:Planszówki
END:VEVENT
BEGIN:VEVENT
DTSTART;TZID=Europe/Warsaw:20240403T190000
DTEND;TZID=Europe/Warsaw:20240403T195500
DTSTAMP:20260423T132544
CREATED:20231106T132404Z
LAST-MODIFIED:20231106T132614Z
UID:45735-1712170800-1712174100@gckib.iwanowice.pl
SUMMARY:Zumba fitness
DESCRIPTION:
URL:https://gckib.iwanowice.pl/wydarzenie/zumba-fitness-25/
LOCATION:mała sala przy ZS – P w Iwanowicach Włościańskich
CATEGORIES:Zumba fitness
END:VEVENT
BEGIN:VEVENT
DTSTART;TZID=Europe/Warsaw:20240403T180000
DTEND;TZID=Europe/Warsaw:20240403T185500
DTSTAMP:20260423T132544
CREATED:20231106T132316Z
LAST-MODIFIED:20231106T132645Z
UID:45733-1712167200-1712170500@gckib.iwanowice.pl
SUMMARY:Zumba gold
DESCRIPTION:
URL:https://gckib.iwanowice.pl/wydarzenie/zumba-gold-25/
LOCATION:mała sala przy ZS – P w Iwanowicach Włościańskich
CATEGORIES:Zumba gold
END:VEVENT
BEGIN:VEVENT
DTSTART;TZID=Europe/Warsaw:20240403T170000
DTEND;TZID=Europe/Warsaw:20240403T174500
DTSTAMP:20260423T132544
CREATED:20231106T132230Z
LAST-MODIFIED:20231106T132516Z
UID:45731-1712163600-1712166300@gckib.iwanowice.pl
SUMMARY:Czarodziejski kuferek
DESCRIPTION:
URL:https://gckib.iwanowice.pl/wydarzenie/czarodziejski-kuferek-24/
LOCATION:Gminne Centrum Kultury i Bibliotek w Iwanowicach\, Strażacka 5\, Iwanowice Włościańskie
CATEGORIES:Czarodziejski kuferek
END:VEVENT
BEGIN:VEVENT
DTSTART;TZID=Europe/Warsaw:20240403T131500
DTEND;TZID=Europe/Warsaw:20240403T180000
DTSTAMP:20260423T132544
CREATED:20231106T140145Z
LAST-MODIFIED:20240523T112227Z
UID:45737-1712150100-1712167200@gckib.iwanowice.pl
SUMMARY:Zajęcia wokalne
DESCRIPTION:
URL:https://gckib.iwanowice.pl/wydarzenie/zajecia-wokalne-24/
LOCATION:Gminne Centrum Kultury i Bibliotek w Iwanowicach\, Strażacka 5\, Iwanowice Włościańskie
CATEGORIES:wokal
END:VEVENT
BEGIN:VEVENT
DTSTART;TZID=Europe/Warsaw:20240402T170000
DTEND;TZID=Europe/Warsaw:20240402T174500
DTSTAMP:20260423T132544
CREATED:20231106T131941Z
LAST-MODIFIED:20231106T131941Z
UID:45725-1712077200-1712079900@gckib.iwanowice.pl
SUMMARY:Szachy
DESCRIPTION:
URL:https://gckib.iwanowice.pl/wydarzenie/szachy-46/
LOCATION:Gminne Centrum Kultury i Bibliotek w Iwanowicach\, Strażacka 5\, Iwanowice Włościańskie
CATEGORIES:Szachy
END:VEVENT
BEGIN:VEVENT
DTSTART;TZID=Europe/Warsaw:20240402T161500
DTEND;TZID=Europe/Warsaw:20240402T174500
DTSTAMP:20260423T132544
CREATED:20231106T131350Z
LAST-MODIFIED:20231106T131350Z
UID:45717-1712074500-1712079900@gckib.iwanowice.pl
SUMMARY:Warsztaty okazjonalne
DESCRIPTION:
URL:https://gckib.iwanowice.pl/wydarzenie/warsztaty-okazjonalne-24/
LOCATION:Gminne Centrum Kultury i Bibliotek w Iwanowicach\, Strażacka 5\, Iwanowice Włościańskie
CATEGORIES:Warsztaty okazjonalne
END:VEVENT
END:VCALENDAR