BEGIN:VCALENDAR
VERSION:2.0
PRODID:-//GCKiB - ECPv6.15.20//NONSGML v1.0//EN
CALSCALE:GREGORIAN
METHOD:PUBLISH
X-WR-CALNAME:GCKiB
X-ORIGINAL-URL:https://gckib.iwanowice.pl
X-WR-CALDESC:Wydarzenia dla GCKiB
REFRESH-INTERVAL;VALUE=DURATION:PT1H
X-Robots-Tag:noindex
X-PUBLISHED-TTL:PT1H
BEGIN:VTIMEZONE
TZID:Europe/Warsaw
BEGIN:DAYLIGHT
TZOFFSETFROM:+0100
TZOFFSETTO:+0200
TZNAME:CEST
DTSTART:20230326T010000
END:DAYLIGHT
BEGIN:STANDARD
TZOFFSETFROM:+0200
TZOFFSETTO:+0100
TZNAME:CET
DTSTART:20231029T010000
END:STANDARD
BEGIN:DAYLIGHT
TZOFFSETFROM:+0100
TZOFFSETTO:+0200
TZNAME:CEST
DTSTART:20240331T010000
END:DAYLIGHT
BEGIN:STANDARD
TZOFFSETFROM:+0200
TZOFFSETTO:+0100
TZNAME:CET
DTSTART:20241027T010000
END:STANDARD
BEGIN:DAYLIGHT
TZOFFSETFROM:+0100
TZOFFSETTO:+0200
TZNAME:CEST
DTSTART:20250330T010000
END:DAYLIGHT
BEGIN:STANDARD
TZOFFSETFROM:+0200
TZOFFSETTO:+0100
TZNAME:CET
DTSTART:20251026T010000
END:STANDARD
END:VTIMEZONE
BEGIN:VEVENT
DTSTART;TZID=Europe/Warsaw:20240507T161500
DTEND;TZID=Europe/Warsaw:20240507T170000
DTSTAMP:20260423T080249
CREATED:20231107T110539Z
LAST-MODIFIED:20231107T110539Z
UID:45964-1715098500-1715101200@gckib.iwanowice.pl
SUMMARY:Szachy
DESCRIPTION:
URL:https://gckib.iwanowice.pl/wydarzenie/szachy-55/
LOCATION:Gminne Centrum Kultury i Bibliotek w Iwanowicach\, Strażacka 5\, Iwanowice Włościańskie
CATEGORIES:Szachy
END:VEVENT
BEGIN:VEVENT
DTSTART;TZID=Europe/Warsaw:20240506T183000
DTEND;TZID=Europe/Warsaw:20240506T193000
DTSTAMP:20260423T080249
CREATED:20231107T105542Z
LAST-MODIFIED:20231107T105542Z
UID:45954-1715020200-1715023800@gckib.iwanowice.pl
SUMMARY:Joga
DESCRIPTION:
URL:https://gckib.iwanowice.pl/wydarzenie/joga-27/
LOCATION:mała sala przy ZS – P w Iwanowicach Włościańskich
CATEGORIES:joga
END:VEVENT
BEGIN:VEVENT
DTSTART;TZID=Europe/Warsaw:20240503T160000
DTEND;TZID=Europe/Warsaw:20240503T170000
DTSTAMP:20260423T080249
CREATED:20231107T104526Z
LAST-MODIFIED:20231107T104526Z
UID:45944-1714752000-1714755600@gckib.iwanowice.pl
SUMMARY:Capoeira
DESCRIPTION:
URL:https://gckib.iwanowice.pl/wydarzenie/capoeira-56/
LOCATION:mała sala przy ZS – P w Iwanowicach Włościańskich
CATEGORIES:Capoeira
END:VEVENT
BEGIN:VEVENT
DTSTART;TZID=Europe/Warsaw:20240503T150000
DTEND;TZID=Europe/Warsaw:20240503T160000
DTSTAMP:20260423T080249
CREATED:20231107T104441Z
LAST-MODIFIED:20231107T104441Z
UID:45942-1714748400-1714752000@gckib.iwanowice.pl
SUMMARY:Capoeira
DESCRIPTION:
URL:https://gckib.iwanowice.pl/wydarzenie/capoeira-55/
LOCATION:mała sala przy ZS – P w Iwanowicach Włościańskich
CATEGORIES:Capoeira
END:VEVENT
BEGIN:VEVENT
DTSTART;TZID=Europe/Warsaw:20240502T193000
DTEND;TZID=Europe/Warsaw:20240502T203000
DTSTAMP:20260423T080249
CREATED:20231107T104129Z
LAST-MODIFIED:20231107T104129Z
UID:45938-1714678200-1714681800@gckib.iwanowice.pl
SUMMARY:Pilates
DESCRIPTION:
URL:https://gckib.iwanowice.pl/wydarzenie/pilates-28/
LOCATION:mała sala przy ZS – P w Iwanowicach Włościańskich
CATEGORIES:Pilates
END:VEVENT
BEGIN:VEVENT
DTSTART;TZID=Europe/Warsaw:20240502T170000
DTEND;TZID=Europe/Warsaw:20240502T190000
DTSTAMP:20260423T080249
CREATED:20231107T104010Z
LAST-MODIFIED:20231107T104010Z
UID:45936-1714669200-1714676400@gckib.iwanowice.pl
SUMMARY:Planszówki
DESCRIPTION:
URL:https://gckib.iwanowice.pl/wydarzenie/planszowki-28/
LOCATION:Gminne Centrum Kultury i Bibliotek w Iwanowicach\, Strażacka 5\, Iwanowice Włościańskie
CATEGORIES:Planszówki
END:VEVENT
BEGIN:VEVENT
DTSTART;TZID=Europe/Warsaw:20240501T190000
DTEND;TZID=Europe/Warsaw:20240501T195500
DTSTAMP:20260423T080249
CREATED:20231107T102856Z
LAST-MODIFIED:20231107T102856Z
UID:45930-1714590000-1714593300@gckib.iwanowice.pl
SUMMARY:Zumba fitness
DESCRIPTION:
URL:https://gckib.iwanowice.pl/wydarzenie/zumba-fitness-29/
LOCATION:mała sala przy ZS – P w Iwanowicach Włościańskich
CATEGORIES:Zumba fitness
END:VEVENT
BEGIN:VEVENT
DTSTART;TZID=Europe/Warsaw:20240501T180000
DTEND;TZID=Europe/Warsaw:20240501T185500
DTSTAMP:20260423T080249
CREATED:20231107T102809Z
LAST-MODIFIED:20231107T102809Z
UID:45928-1714586400-1714589700@gckib.iwanowice.pl
SUMMARY:Zumba gold
DESCRIPTION:
URL:https://gckib.iwanowice.pl/wydarzenie/zumba-gold-29/
LOCATION:mała sala przy ZS – P w Iwanowicach Włościańskich
CATEGORIES:Zumba gold
END:VEVENT
BEGIN:VEVENT
DTSTART;TZID=Europe/Warsaw:20240501T170000
DTEND;TZID=Europe/Warsaw:20240501T174500
DTSTAMP:20260423T080249
CREATED:20231107T102715Z
LAST-MODIFIED:20231107T102715Z
UID:45926-1714582800-1714585500@gckib.iwanowice.pl
SUMMARY:Czarodziejski kuferek
DESCRIPTION:
URL:https://gckib.iwanowice.pl/wydarzenie/czarodziejski-kuferek-28/
LOCATION:Gminne Centrum Kultury i Bibliotek w Iwanowicach\, Strażacka 5\, Iwanowice Włościańskie
CATEGORIES:Czarodziejski kuferek
END:VEVENT
BEGIN:VEVENT
DTSTART;TZID=Europe/Warsaw:20240501T131500
DTEND;TZID=Europe/Warsaw:20240501T180000
DTSTAMP:20260423T080249
CREATED:20231107T102955Z
LAST-MODIFIED:20240523T111819Z
UID:45932-1714569300-1714586400@gckib.iwanowice.pl
SUMMARY:Zajęcia wokalne
DESCRIPTION:
URL:https://gckib.iwanowice.pl/wydarzenie/zajecia-wokalne-28/
LOCATION:Gminne Centrum Kultury i Bibliotek w Iwanowicach\, Strażacka 5\, Iwanowice Włościańskie
CATEGORIES:wokal
END:VEVENT
BEGIN:VEVENT
DTSTART;TZID=Europe/Warsaw:20240430T170000
DTEND;TZID=Europe/Warsaw:20240430T174500
DTSTAMP:20260423T080249
CREATED:20231107T102427Z
LAST-MODIFIED:20231107T102427Z
UID:45920-1714496400-1714499100@gckib.iwanowice.pl
SUMMARY:Szachy
DESCRIPTION:
URL:https://gckib.iwanowice.pl/wydarzenie/szachy-54/
LOCATION:Gminne Centrum Kultury i Bibliotek w Iwanowicach\, Strażacka 5\, Iwanowice Włościańskie
CATEGORIES:Szachy
END:VEVENT
BEGIN:VEVENT
DTSTART;TZID=Europe/Warsaw:20240430T161500
DTEND;TZID=Europe/Warsaw:20240430T174500
DTSTAMP:20260423T080249
CREATED:20231107T101319Z
LAST-MODIFIED:20231107T101319Z
UID:45912-1714493700-1714499100@gckib.iwanowice.pl
SUMMARY:Warsztaty okazjonalne
DESCRIPTION:
URL:https://gckib.iwanowice.pl/wydarzenie/warsztaty-okazjonalne-28/
LOCATION:Gminne Centrum Kultury i Bibliotek w Iwanowicach\, Strażacka 5\, Iwanowice Włościańskie
CATEGORIES:Warsztaty okazjonalne
END:VEVENT
BEGIN:VEVENT
DTSTART;TZID=Europe/Warsaw:20240430T161500
DTEND;TZID=Europe/Warsaw:20240430T170000
DTSTAMP:20260423T080249
CREATED:20231107T102214Z
LAST-MODIFIED:20231107T102214Z
UID:45916-1714493700-1714496400@gckib.iwanowice.pl
SUMMARY:Szachy
DESCRIPTION:
URL:https://gckib.iwanowice.pl/wydarzenie/szachy-53/
LOCATION:Gminne Centrum Kultury i Bibliotek w Iwanowicach\, Strażacka 5\, Iwanowice Włościańskie
CATEGORIES:Szachy
END:VEVENT
BEGIN:VEVENT
DTSTART;TZID=Europe/Warsaw:20240429T183000
DTEND;TZID=Europe/Warsaw:20240429T193000
DTSTAMP:20260423T080249
CREATED:20231107T100443Z
LAST-MODIFIED:20231107T100443Z
UID:45906-1714415400-1714419000@gckib.iwanowice.pl
SUMMARY:Joga
DESCRIPTION:
URL:https://gckib.iwanowice.pl/wydarzenie/joga-26/
LOCATION:mała sala przy ZS – P w Iwanowicach Włościańskich
CATEGORIES:joga
END:VEVENT
BEGIN:VEVENT
DTSTART;TZID=Europe/Warsaw:20240426T160000
DTEND;TZID=Europe/Warsaw:20240426T170000
DTSTAMP:20260423T080249
CREATED:20231107T100006Z
LAST-MODIFIED:20231107T100006Z
UID:45896-1714147200-1714150800@gckib.iwanowice.pl
SUMMARY:Capoeira
DESCRIPTION:
URL:https://gckib.iwanowice.pl/wydarzenie/capoeira-54/
LOCATION:mała sala przy ZS – P w Iwanowicach Włościańskich
CATEGORIES:Capoeira
END:VEVENT
BEGIN:VEVENT
DTSTART;TZID=Europe/Warsaw:20240426T150000
DTEND;TZID=Europe/Warsaw:20240426T160000
DTSTAMP:20260423T080249
CREATED:20231107T095916Z
LAST-MODIFIED:20231107T095916Z
UID:45894-1714143600-1714147200@gckib.iwanowice.pl
SUMMARY:Capoeira
DESCRIPTION:
URL:https://gckib.iwanowice.pl/wydarzenie/capoeira-53/
LOCATION:mała sala przy ZS – P w Iwanowicach Włościańskich
CATEGORIES:Capoeira
END:VEVENT
BEGIN:VEVENT
DTSTART;TZID=Europe/Warsaw:20240425T193000
DTEND;TZID=Europe/Warsaw:20240425T203000
DTSTAMP:20260423T080249
CREATED:20231107T094807Z
LAST-MODIFIED:20231107T094807Z
UID:45890-1714073400-1714077000@gckib.iwanowice.pl
SUMMARY:Pilates
DESCRIPTION:
URL:https://gckib.iwanowice.pl/wydarzenie/pilates-27/
LOCATION:mała sala przy ZS – P w Iwanowicach Włościańskich
CATEGORIES:Pilates
END:VEVENT
BEGIN:VEVENT
DTSTART;TZID=Europe/Warsaw:20240425T170000
DTEND;TZID=Europe/Warsaw:20240425T190000
DTSTAMP:20260423T080249
CREATED:20231107T094620Z
LAST-MODIFIED:20231107T095037Z
UID:45888-1714064400-1714071600@gckib.iwanowice.pl
SUMMARY:Planszówki
DESCRIPTION:
URL:https://gckib.iwanowice.pl/wydarzenie/planszowki-27/
LOCATION:Gminne Centrum Kultury i Bibliotek w Iwanowicach\, Strażacka 5\, Iwanowice Włościańskie
CATEGORIES:Planszówki
END:VEVENT
BEGIN:VEVENT
DTSTART;TZID=Europe/Warsaw:20240424T190000
DTEND;TZID=Europe/Warsaw:20240424T195500
DTSTAMP:20260423T080249
CREATED:20231107T094236Z
LAST-MODIFIED:20231107T094236Z
UID:45882-1713985200-1713988500@gckib.iwanowice.pl
SUMMARY:Zumba fitness
DESCRIPTION:
URL:https://gckib.iwanowice.pl/wydarzenie/zumba-fitness-28/
LOCATION:mała sala przy ZS – P w Iwanowicach Włościańskich
CATEGORIES:Zumba fitness
END:VEVENT
BEGIN:VEVENT
DTSTART;TZID=Europe/Warsaw:20240424T180000
DTEND;TZID=Europe/Warsaw:20240424T185500
DTSTAMP:20260423T080249
CREATED:20231107T094030Z
LAST-MODIFIED:20231107T094030Z
UID:45880-1713981600-1713984900@gckib.iwanowice.pl
SUMMARY:Zumba gold
DESCRIPTION:
URL:https://gckib.iwanowice.pl/wydarzenie/zumba-gold-28/
LOCATION:mała sala przy ZS – P w Iwanowicach Włościańskich
CATEGORIES:Zumba gold
END:VEVENT
BEGIN:VEVENT
DTSTART;TZID=Europe/Warsaw:20240424T170000
DTEND;TZID=Europe/Warsaw:20240424T174500
DTSTAMP:20260423T080249
CREATED:20231107T093940Z
LAST-MODIFIED:20231107T093940Z
UID:45878-1713978000-1713980700@gckib.iwanowice.pl
SUMMARY:Czarodziejski kuferek
DESCRIPTION:
URL:https://gckib.iwanowice.pl/wydarzenie/czarodziejski-kuferek-27/
LOCATION:Gminne Centrum Kultury i Bibliotek w Iwanowicach\, Strażacka 5\, Iwanowice Włościańskie
CATEGORIES:Czarodziejski kuferek
END:VEVENT
BEGIN:VEVENT
DTSTART;TZID=Europe/Warsaw:20240424T131500
DTEND;TZID=Europe/Warsaw:20240424T180000
DTSTAMP:20260423T080249
CREATED:20231107T094414Z
LAST-MODIFIED:20240523T111907Z
UID:45884-1713964500-1713981600@gckib.iwanowice.pl
SUMMARY:Zajęcia wokalne
DESCRIPTION:
URL:https://gckib.iwanowice.pl/wydarzenie/zajecia-wokalne-27/
LOCATION:Gminne Centrum Kultury i Bibliotek w Iwanowicach\, Strażacka 5\, Iwanowice Włościańskie
CATEGORIES:wokal
END:VEVENT
BEGIN:VEVENT
DTSTART;TZID=Europe/Warsaw:20240423T170000
DTEND;TZID=Europe/Warsaw:20240423T174500
DTSTAMP:20260423T080249
CREATED:20231107T093613Z
LAST-MODIFIED:20231107T093613Z
UID:45872-1713891600-1713894300@gckib.iwanowice.pl
SUMMARY:Szachy
DESCRIPTION:
URL:https://gckib.iwanowice.pl/wydarzenie/szachy-52/
LOCATION:Gminne Centrum Kultury i Bibliotek w Iwanowicach\, Strażacka 5\, Iwanowice Włościańskie
CATEGORIES:Szachy
END:VEVENT
BEGIN:VEVENT
DTSTART;TZID=Europe/Warsaw:20240423T161500
DTEND;TZID=Europe/Warsaw:20240423T174500
DTSTAMP:20260423T080249
CREATED:20231107T093035Z
LAST-MODIFIED:20231107T093035Z
UID:45862-1713888900-1713894300@gckib.iwanowice.pl
SUMMARY:Warsztaty okazjonalne
DESCRIPTION:
URL:https://gckib.iwanowice.pl/wydarzenie/warsztaty-okazjonalne-27/
LOCATION:Gminne Centrum Kultury i Bibliotek w Iwanowicach\, Strażacka 5\, Iwanowice Włościańskie
CATEGORIES:Warsztaty okazjonalne
END:VEVENT
BEGIN:VEVENT
DTSTART;TZID=Europe/Warsaw:20240423T161500
DTEND;TZID=Europe/Warsaw:20240423T170000
DTSTAMP:20260423T080249
CREATED:20231107T093359Z
LAST-MODIFIED:20231107T093359Z
UID:45866-1713888900-1713891600@gckib.iwanowice.pl
SUMMARY:Szachy
DESCRIPTION:
URL:https://gckib.iwanowice.pl/wydarzenie/szachy-51/
LOCATION:Gminne Centrum Kultury i Bibliotek w Iwanowicach\, Strażacka 5\, Iwanowice Włościańskie
CATEGORIES:Szachy
END:VEVENT
BEGIN:VEVENT
DTSTART;TZID=Europe/Warsaw:20240422T183000
DTEND;TZID=Europe/Warsaw:20240422T193000
DTSTAMP:20260423T080249
CREATED:20231106T155411Z
LAST-MODIFIED:20231106T155411Z
UID:45855-1713810600-1713814200@gckib.iwanowice.pl
SUMMARY:Joga
DESCRIPTION:
URL:https://gckib.iwanowice.pl/wydarzenie/joga-25/
LOCATION:mała sala przy ZS – P w Iwanowicach Włościańskich
CATEGORIES:joga
END:VEVENT
BEGIN:VEVENT
DTSTART;TZID=Europe/Warsaw:20240419T160000
DTEND;TZID=Europe/Warsaw:20240419T170000
DTSTAMP:20260423T080249
CREATED:20231106T154915Z
LAST-MODIFIED:20231106T154915Z
UID:45845-1713542400-1713546000@gckib.iwanowice.pl
SUMMARY:Capoeira
DESCRIPTION:
URL:https://gckib.iwanowice.pl/wydarzenie/capoeira-52/
LOCATION:mała sala przy ZS – P w Iwanowicach Włościańskich
CATEGORIES:Capoeira
END:VEVENT
BEGIN:VEVENT
DTSTART;TZID=Europe/Warsaw:20240419T150000
DTEND;TZID=Europe/Warsaw:20240419T160000
DTSTAMP:20260423T080249
CREATED:20231106T154822Z
LAST-MODIFIED:20231106T154822Z
UID:45843-1713538800-1713542400@gckib.iwanowice.pl
SUMMARY:Capoeira
DESCRIPTION:
URL:https://gckib.iwanowice.pl/wydarzenie/capoeira-51/
LOCATION:mała sala przy ZS – P w Iwanowicach Włościańskich
CATEGORIES:Capoeira
END:VEVENT
BEGIN:VEVENT
DTSTART;TZID=Europe/Warsaw:20240418T193000
DTEND;TZID=Europe/Warsaw:20240418T203000
DTSTAMP:20260423T080249
CREATED:20231106T154356Z
LAST-MODIFIED:20231106T154356Z
UID:45839-1713468600-1713472200@gckib.iwanowice.pl
SUMMARY:Pilates
DESCRIPTION:
URL:https://gckib.iwanowice.pl/wydarzenie/pilates-26/
LOCATION:mała sala przy ZS – P w Iwanowicach Włościańskich
CATEGORIES:Pilates
END:VEVENT
BEGIN:VEVENT
DTSTART;TZID=Europe/Warsaw:20240418T170000
DTEND;TZID=Europe/Warsaw:20240418T190000
DTSTAMP:20260423T080249
CREATED:20231106T154310Z
LAST-MODIFIED:20231106T154310Z
UID:45837-1713459600-1713466800@gckib.iwanowice.pl
SUMMARY:Planszówki
DESCRIPTION:
URL:https://gckib.iwanowice.pl/wydarzenie/planszowki-26/
LOCATION:Gminne Centrum Kultury i Bibliotek w Iwanowicach\, Strażacka 5\, Iwanowice Włościańskie
CATEGORIES:Planszówki
END:VEVENT
END:VCALENDAR