BEGIN:VCALENDAR
VERSION:2.0
PRODID:-//GCKiB - ECPv6.15.20//NONSGML v1.0//EN
CALSCALE:GREGORIAN
METHOD:PUBLISH
X-ORIGINAL-URL:https://gckib.iwanowice.pl
X-WR-CALDESC:Wydarzenia dla GCKiB
REFRESH-INTERVAL;VALUE=DURATION:PT1H
X-Robots-Tag:noindex
X-PUBLISHED-TTL:PT1H
BEGIN:VTIMEZONE
TZID:Europe/Warsaw
BEGIN:DAYLIGHT
TZOFFSETFROM:+0100
TZOFFSETTO:+0200
TZNAME:CEST
DTSTART:20230326T010000
END:DAYLIGHT
BEGIN:STANDARD
TZOFFSETFROM:+0200
TZOFFSETTO:+0100
TZNAME:CET
DTSTART:20231029T010000
END:STANDARD
BEGIN:DAYLIGHT
TZOFFSETFROM:+0100
TZOFFSETTO:+0200
TZNAME:CEST
DTSTART:20240331T010000
END:DAYLIGHT
BEGIN:STANDARD
TZOFFSETFROM:+0200
TZOFFSETTO:+0100
TZNAME:CET
DTSTART:20241027T010000
END:STANDARD
BEGIN:DAYLIGHT
TZOFFSETFROM:+0100
TZOFFSETTO:+0200
TZNAME:CEST
DTSTART:20250330T010000
END:DAYLIGHT
BEGIN:STANDARD
TZOFFSETFROM:+0200
TZOFFSETTO:+0100
TZNAME:CET
DTSTART:20251026T010000
END:STANDARD
END:VTIMEZONE
BEGIN:VEVENT
DTSTART;TZID=Europe/Warsaw:20240531T150000
DTEND;TZID=Europe/Warsaw:20240531T160000
DTSTAMP:20260423T010435
CREATED:20231107T133231Z
LAST-MODIFIED:20231107T133231Z
UID:46136-1717167600-1717171200@gckib.iwanowice.pl
SUMMARY:Capoeira
DESCRIPTION:
URL:https://gckib.iwanowice.pl/wydarzenie/capoeira-63/
LOCATION:mała sala przy ZS – P w Iwanowicach Włościańskich
CATEGORIES:Capoeira
END:VEVENT
BEGIN:VEVENT
DTSTART;TZID=Europe/Warsaw:20240530T193000
DTEND;TZID=Europe/Warsaw:20240530T203000
DTSTAMP:20260423T010435
CREATED:20231107T133052Z
LAST-MODIFIED:20231107T133052Z
UID:46132-1717097400-1717101000@gckib.iwanowice.pl
SUMMARY:Pilates
DESCRIPTION:
URL:https://gckib.iwanowice.pl/wydarzenie/pilates-32/
LOCATION:mała sala przy ZS – P w Iwanowicach Włościańskich
CATEGORIES:Pilates
END:VEVENT
BEGIN:VEVENT
DTSTART;TZID=Europe/Warsaw:20240529T190000
DTEND;TZID=Europe/Warsaw:20240529T195500
DTSTAMP:20260423T010435
CREATED:20231107T132539Z
LAST-MODIFIED:20231107T132539Z
UID:46122-1717009200-1717012500@gckib.iwanowice.pl
SUMMARY:Zumba fitness
DESCRIPTION:
URL:https://gckib.iwanowice.pl/wydarzenie/zumba-fitness-32/
LOCATION:mała sala przy ZS – P w Iwanowicach Włościańskich
CATEGORIES:Zumba fitness
END:VEVENT
BEGIN:VEVENT
DTSTART;TZID=Europe/Warsaw:20240529T180000
DTEND;TZID=Europe/Warsaw:20240529T185500
DTSTAMP:20260423T010435
CREATED:20231107T132442Z
LAST-MODIFIED:20231107T132442Z
UID:46120-1717005600-1717008900@gckib.iwanowice.pl
SUMMARY:Zumba gold
DESCRIPTION:
URL:https://gckib.iwanowice.pl/wydarzenie/zumba-gold-33/
LOCATION:mała sala przy ZS – P w Iwanowicach Włościańskich
CATEGORIES:Zumba gold
END:VEVENT
BEGIN:VEVENT
DTSTART;TZID=Europe/Warsaw:20240529T170000
DTEND;TZID=Europe/Warsaw:20240529T174500
DTSTAMP:20260423T010435
CREATED:20231107T132331Z
LAST-MODIFIED:20231107T132331Z
UID:46118-1717002000-1717004700@gckib.iwanowice.pl
SUMMARY:Czarodziejski kuferek
DESCRIPTION:
URL:https://gckib.iwanowice.pl/wydarzenie/czarodziejski-kuferek-32/
LOCATION:Gminne Centrum Kultury i Bibliotek w Iwanowicach\, Strażacka 5\, Iwanowice Włościańskie
CATEGORIES:Czarodziejski kuferek
END:VEVENT
BEGIN:VEVENT
DTSTART;TZID=Europe/Warsaw:20240529T133000
DTEND;TZID=Europe/Warsaw:20240529T180000
DTSTAMP:20260423T010435
CREATED:20231107T132811Z
LAST-MODIFIED:20240523T111709Z
UID:46126-1716989400-1717005600@gckib.iwanowice.pl
SUMMARY:Zajęcia wokalne
DESCRIPTION:
URL:https://gckib.iwanowice.pl/wydarzenie/zajecia-wokalne-32/
LOCATION:Gminne Centrum Kultury i Bibliotek w Iwanowicach\, Strażacka 5\, Iwanowice Włościańskie
CATEGORIES:wokal
END:VEVENT
BEGIN:VEVENT
DTSTART;TZID=Europe/Warsaw:20240528T170000
DTEND;TZID=Europe/Warsaw:20240528T174500
DTSTAMP:20260423T010435
CREATED:20231107T131856Z
LAST-MODIFIED:20231107T131856Z
UID:46112-1716915600-1716918300@gckib.iwanowice.pl
SUMMARY:Szachy
DESCRIPTION:
URL:https://gckib.iwanowice.pl/wydarzenie/szachy-62/
LOCATION:Gminne Centrum Kultury i Bibliotek w Iwanowicach\, Strażacka 5\, Iwanowice Włościańskie
CATEGORIES:Szachy
END:VEVENT
BEGIN:VEVENT
DTSTART;TZID=Europe/Warsaw:20240528T161500
DTEND;TZID=Europe/Warsaw:20240528T174500
DTSTAMP:20260423T010435
CREATED:20231107T131431Z
LAST-MODIFIED:20231107T131431Z
UID:46104-1716912900-1716918300@gckib.iwanowice.pl
SUMMARY:Warsztaty okazjonalne
DESCRIPTION:
URL:https://gckib.iwanowice.pl/wydarzenie/warsztaty-okazjonalne-32/
LOCATION:Gminne Centrum Kultury i Bibliotek w Iwanowicach\, Strażacka 5\, Iwanowice Włościańskie
CATEGORIES:Warsztaty okazjonalne
END:VEVENT
BEGIN:VEVENT
DTSTART;TZID=Europe/Warsaw:20240528T161500
DTEND;TZID=Europe/Warsaw:20240528T170000
DTSTAMP:20260423T010435
CREATED:20231107T131619Z
LAST-MODIFIED:20231107T131619Z
UID:46108-1716912900-1716915600@gckib.iwanowice.pl
SUMMARY:Szachy
DESCRIPTION:
URL:https://gckib.iwanowice.pl/wydarzenie/szachy-61/
LOCATION:Gminne Centrum Kultury i Bibliotek w Iwanowicach\, Strażacka 5\, Iwanowice Włościańskie
CATEGORIES:Szachy
END:VEVENT
BEGIN:VEVENT
DTSTART;TZID=Europe/Warsaw:20240527T183000
DTEND;TZID=Europe/Warsaw:20240527T193000
DTSTAMP:20260423T010435
CREATED:20231107T125904Z
LAST-MODIFIED:20231107T125904Z
UID:46098-1716834600-1716838200@gckib.iwanowice.pl
SUMMARY:Joga
DESCRIPTION:
URL:https://gckib.iwanowice.pl/wydarzenie/joga-30/
LOCATION:mała sala przy ZS – P w Iwanowicach Włościańskich
CATEGORIES:joga
END:VEVENT
BEGIN:VEVENT
DTSTART;TZID=Europe/Warsaw:20240524T160000
DTEND;TZID=Europe/Warsaw:20240524T170000
DTSTAMP:20260423T010435
CREATED:20231107T125109Z
LAST-MODIFIED:20231107T125109Z
UID:46088-1716566400-1716570000@gckib.iwanowice.pl
SUMMARY:Capoeira
DESCRIPTION:
URL:https://gckib.iwanowice.pl/wydarzenie/capoeira-62/
LOCATION:mała sala przy ZS – P w Iwanowicach Włościańskich
CATEGORIES:Capoeira
END:VEVENT
BEGIN:VEVENT
DTSTART;TZID=Europe/Warsaw:20240524T150000
DTEND;TZID=Europe/Warsaw:20240524T160000
DTSTAMP:20260423T010435
CREATED:20231107T125018Z
LAST-MODIFIED:20231107T125018Z
UID:46086-1716562800-1716566400@gckib.iwanowice.pl
SUMMARY:Capoeira
DESCRIPTION:
URL:https://gckib.iwanowice.pl/wydarzenie/capoeira-61/
LOCATION:mała sala przy ZS – P w Iwanowicach Włościańskich
CATEGORIES:Capoeira
END:VEVENT
BEGIN:VEVENT
DTSTART;TZID=Europe/Warsaw:20240523T193000
DTEND;TZID=Europe/Warsaw:20240523T203000
DTSTAMP:20260423T010435
CREATED:20231107T124812Z
LAST-MODIFIED:20231107T124812Z
UID:46082-1716492600-1716496200@gckib.iwanowice.pl
SUMMARY:Pilates
DESCRIPTION:
URL:https://gckib.iwanowice.pl/wydarzenie/pilates-31/
LOCATION:mała sala przy ZS – P w Iwanowicach Włościańskich
CATEGORIES:Pilates
END:VEVENT
BEGIN:VEVENT
DTSTART;TZID=Europe/Warsaw:20240522T180000
DTEND;TZID=Europe/Warsaw:20240522T185500
DTSTAMP:20260423T010435
CREATED:20231107T124202Z
LAST-MODIFIED:20231107T124202Z
UID:46072-1716400800-1716404100@gckib.iwanowice.pl
SUMMARY:Zumba gold
DESCRIPTION:
URL:https://gckib.iwanowice.pl/wydarzenie/zumba-gold-32/
LOCATION:mała sala przy ZS – P w Iwanowicach Włościańskich
CATEGORIES:Zumba gold
END:VEVENT
BEGIN:VEVENT
DTSTART;TZID=Europe/Warsaw:20240522T170000
DTEND;TZID=Europe/Warsaw:20240522T174500
DTSTAMP:20260423T010435
CREATED:20231107T123733Z
LAST-MODIFIED:20231107T123733Z
UID:46070-1716397200-1716399900@gckib.iwanowice.pl
SUMMARY:Czarodziejski kuferek
DESCRIPTION:
URL:https://gckib.iwanowice.pl/wydarzenie/czarodziejski-kuferek-31/
LOCATION:Gminne Centrum Kultury i Bibliotek w Iwanowicach\, Strażacka 5\, Iwanowice Włościańskie
CATEGORIES:Czarodziejski kuferek
END:VEVENT
BEGIN:VEVENT
DTSTART;TZID=Europe/Warsaw:20240522T131500
DTEND;TZID=Europe/Warsaw:20240522T180000
DTSTAMP:20260423T010435
CREATED:20231107T124534Z
LAST-MODIFIED:20240523T111543Z
UID:46076-1716383700-1716400800@gckib.iwanowice.pl
SUMMARY:Zajęcia wokalne
DESCRIPTION:
URL:https://gckib.iwanowice.pl/wydarzenie/zajecia-wokalne-31/
LOCATION:Gminne Centrum Kultury i Bibliotek w Iwanowicach\, Strażacka 5\, Iwanowice Włościańskie
CATEGORIES:wokal
END:VEVENT
BEGIN:VEVENT
DTSTART;TZID=Europe/Warsaw:20240521T170000
DTEND;TZID=Europe/Warsaw:20240521T174500
DTSTAMP:20260423T010435
CREATED:20231107T123539Z
LAST-MODIFIED:20231107T123539Z
UID:46066-1716310800-1716313500@gckib.iwanowice.pl
SUMMARY:Szachy
DESCRIPTION:
URL:https://gckib.iwanowice.pl/wydarzenie/szachy-60/
LOCATION:Gminne Centrum Kultury i Bibliotek w Iwanowicach\, Strażacka 5\, Iwanowice Włościańskie
CATEGORIES:Szachy
END:VEVENT
BEGIN:VEVENT
DTSTART;TZID=Europe/Warsaw:20240521T161500
DTEND;TZID=Europe/Warsaw:20240521T170000
DTSTAMP:20260423T010435
CREATED:20231107T123352Z
LAST-MODIFIED:20231107T123352Z
UID:46062-1716308100-1716310800@gckib.iwanowice.pl
SUMMARY:Szachy
DESCRIPTION:
URL:https://gckib.iwanowice.pl/wydarzenie/szachy-59/
LOCATION:Gminne Centrum Kultury i Bibliotek w Iwanowicach\, Strażacka 5\, Iwanowice Włościańskie
CATEGORIES:Szachy
END:VEVENT
BEGIN:VEVENT
DTSTART;TZID=Europe/Warsaw:20240520T183000
DTEND;TZID=Europe/Warsaw:20240520T193000
DTSTAMP:20260423T010435
CREATED:20231107T122139Z
LAST-MODIFIED:20231107T122139Z
UID:46052-1716229800-1716233400@gckib.iwanowice.pl
SUMMARY:Joga
DESCRIPTION:
URL:https://gckib.iwanowice.pl/wydarzenie/joga-29/
LOCATION:mała sala przy ZS – P w Iwanowicach Włościańskich
CATEGORIES:joga
END:VEVENT
BEGIN:VEVENT
DTSTART;TZID=Europe/Warsaw:20240517T160000
DTEND;TZID=Europe/Warsaw:20240517T170000
DTSTAMP:20260423T010435
CREATED:20231107T121602Z
LAST-MODIFIED:20231107T121602Z
UID:46042-1715961600-1715965200@gckib.iwanowice.pl
SUMMARY:Capoeira
DESCRIPTION:
URL:https://gckib.iwanowice.pl/wydarzenie/capoeira-60/
LOCATION:mała sala przy ZS – P w Iwanowicach Włościańskich
CATEGORIES:Capoeira
END:VEVENT
BEGIN:VEVENT
DTSTART;TZID=Europe/Warsaw:20240517T150000
DTEND;TZID=Europe/Warsaw:20240517T160000
DTSTAMP:20260423T010435
CREATED:20231107T121511Z
LAST-MODIFIED:20231107T121511Z
UID:46040-1715958000-1715961600@gckib.iwanowice.pl
SUMMARY:Capoeira
DESCRIPTION:
URL:https://gckib.iwanowice.pl/wydarzenie/capoeira-59/
LOCATION:mała sala przy ZS – P w Iwanowicach Włościańskich
CATEGORIES:Capoeira
END:VEVENT
BEGIN:VEVENT
DTSTART;TZID=Europe/Warsaw:20240516T193000
DTEND;TZID=Europe/Warsaw:20240516T203000
DTSTAMP:20260423T010435
CREATED:20231107T121232Z
LAST-MODIFIED:20231107T121232Z
UID:46036-1715887800-1715891400@gckib.iwanowice.pl
SUMMARY:Pilates
DESCRIPTION:
URL:https://gckib.iwanowice.pl/wydarzenie/pilates-30/
LOCATION:mała sala przy ZS – P w Iwanowicach Włościańskich
CATEGORIES:Pilates
END:VEVENT
BEGIN:VEVENT
DTSTART;TZID=Europe/Warsaw:20240515T190000
DTEND;TZID=Europe/Warsaw:20240515T195500
DTSTAMP:20260423T010435
CREATED:20231107T120544Z
LAST-MODIFIED:20231107T120544Z
UID:46028-1715799600-1715802900@gckib.iwanowice.pl
SUMMARY:Zumba fitness
DESCRIPTION:
URL:https://gckib.iwanowice.pl/wydarzenie/zumba-fitness-31/
LOCATION:mała sala przy ZS – P w Iwanowicach Włościańskich
CATEGORIES:Zumba fitness
END:VEVENT
BEGIN:VEVENT
DTSTART;TZID=Europe/Warsaw:20240515T180000
DTEND;TZID=Europe/Warsaw:20240515T185500
DTSTAMP:20260423T010435
CREATED:20231107T120455Z
LAST-MODIFIED:20231107T120455Z
UID:46026-1715796000-1715799300@gckib.iwanowice.pl
SUMMARY:Zumba gold
DESCRIPTION:
URL:https://gckib.iwanowice.pl/wydarzenie/zumba-gold-31/
LOCATION:mała sala przy ZS – P w Iwanowicach Włościańskich
CATEGORIES:Zumba gold
END:VEVENT
BEGIN:VEVENT
DTSTART;TZID=Europe/Warsaw:20240515T170000
DTEND;TZID=Europe/Warsaw:20240515T174500
DTSTAMP:20260423T010435
CREATED:20231107T120340Z
LAST-MODIFIED:20231107T120340Z
UID:46024-1715792400-1715795100@gckib.iwanowice.pl
SUMMARY:Czarodziejski kuferek
DESCRIPTION:
URL:https://gckib.iwanowice.pl/wydarzenie/czarodziejski-kuferek-30/
LOCATION:Gminne Centrum Kultury i Bibliotek w Iwanowicach\, Strażacka 5\, Iwanowice Włościańskie
CATEGORIES:Czarodziejski kuferek
END:VEVENT
BEGIN:VEVENT
DTSTART;TZID=Europe/Warsaw:20240515T131500
DTEND;TZID=Europe/Warsaw:20240515T180000
DTSTAMP:20260423T010435
CREATED:20231107T120829Z
LAST-MODIFIED:20240523T111208Z
UID:46030-1715778900-1715796000@gckib.iwanowice.pl
SUMMARY:Zajęcia wokalne
DESCRIPTION:
URL:https://gckib.iwanowice.pl/wydarzenie/zajecia-wokalne-30/
LOCATION:Gminne Centrum Kultury i Bibliotek w Iwanowicach\, Strażacka 5\, Iwanowice Włościańskie
CATEGORIES:wokal
END:VEVENT
BEGIN:VEVENT
DTSTART;TZID=Europe/Warsaw:20240514T170000
DTEND;TZID=Europe/Warsaw:20240514T174500
DTSTAMP:20260423T010435
CREATED:20231107T120044Z
LAST-MODIFIED:20231107T120044Z
UID:46018-1715706000-1715708700@gckib.iwanowice.pl
SUMMARY:Szachy
DESCRIPTION:
URL:https://gckib.iwanowice.pl/wydarzenie/szachy-58/
LOCATION:Gminne Centrum Kultury i Bibliotek w Iwanowicach\, Strażacka 5\, Iwanowice Włościańskie
CATEGORIES:Szachy
END:VEVENT
BEGIN:VEVENT
DTSTART;TZID=Europe/Warsaw:20240514T161500
DTEND;TZID=Europe/Warsaw:20240514T174500
DTSTAMP:20260423T010435
CREATED:20231107T115717Z
LAST-MODIFIED:20231107T115717Z
UID:46010-1715703300-1715708700@gckib.iwanowice.pl
SUMMARY:Warsztaty okazjonalne
DESCRIPTION:
URL:https://gckib.iwanowice.pl/wydarzenie/warsztaty-okazjonalne-30/
LOCATION:Gminne Centrum Kultury i Bibliotek w Iwanowicach\, Strażacka 5\, Iwanowice Włościańskie
CATEGORIES:Warsztaty okazjonalne
END:VEVENT
BEGIN:VEVENT
DTSTART;TZID=Europe/Warsaw:20240514T161500
DTEND;TZID=Europe/Warsaw:20240514T170000
DTSTAMP:20260423T010435
CREATED:20231107T115904Z
LAST-MODIFIED:20231107T115904Z
UID:46014-1715703300-1715706000@gckib.iwanowice.pl
SUMMARY:Szachy
DESCRIPTION:
URL:https://gckib.iwanowice.pl/wydarzenie/szachy-57/
LOCATION:Gminne Centrum Kultury i Bibliotek w Iwanowicach\, Strażacka 5\, Iwanowice Włościańskie
CATEGORIES:Szachy
END:VEVENT
BEGIN:VEVENT
DTSTART;TZID=Europe/Warsaw:20240513T183000
DTEND;TZID=Europe/Warsaw:20240513T193000
DTSTAMP:20260423T010435
CREATED:20231107T115419Z
LAST-MODIFIED:20231107T115419Z
UID:46004-1715625000-1715628600@gckib.iwanowice.pl
SUMMARY:Joga
DESCRIPTION:
URL:https://gckib.iwanowice.pl/wydarzenie/joga-28/
LOCATION:mała sala przy ZS – P w Iwanowicach Włościańskich
CATEGORIES:joga
END:VEVENT
END:VCALENDAR