BEGIN:VCALENDAR
VERSION:2.0
PRODID:-//GCKiB - ECPv6.15.20//NONSGML v1.0//EN
CALSCALE:GREGORIAN
METHOD:PUBLISH
X-ORIGINAL-URL:https://gckib.iwanowice.pl
X-WR-CALDESC:Wydarzenia dla GCKiB
REFRESH-INTERVAL;VALUE=DURATION:PT1H
X-Robots-Tag:noindex
X-PUBLISHED-TTL:PT1H
BEGIN:VTIMEZONE
TZID:Europe/Warsaw
BEGIN:DAYLIGHT
TZOFFSETFROM:+0100
TZOFFSETTO:+0200
TZNAME:CEST
DTSTART:20230326T010000
END:DAYLIGHT
BEGIN:STANDARD
TZOFFSETFROM:+0200
TZOFFSETTO:+0100
TZNAME:CET
DTSTART:20231029T010000
END:STANDARD
BEGIN:DAYLIGHT
TZOFFSETFROM:+0100
TZOFFSETTO:+0200
TZNAME:CEST
DTSTART:20240331T010000
END:DAYLIGHT
BEGIN:STANDARD
TZOFFSETFROM:+0200
TZOFFSETTO:+0100
TZNAME:CET
DTSTART:20241027T010000
END:STANDARD
BEGIN:DAYLIGHT
TZOFFSETFROM:+0100
TZOFFSETTO:+0200
TZNAME:CEST
DTSTART:20250330T010000
END:DAYLIGHT
BEGIN:STANDARD
TZOFFSETFROM:+0200
TZOFFSETTO:+0100
TZNAME:CET
DTSTART:20251026T010000
END:STANDARD
END:VTIMEZONE
BEGIN:VEVENT
DTSTART;TZID=Europe/Warsaw:20241002T190000
DTEND;TZID=Europe/Warsaw:20241002T200000
DTSTAMP:20260422T215049
CREATED:20240912T064954Z
LAST-MODIFIED:20240912T064954Z
UID:49334-1727895600-1727899200@gckib.iwanowice.pl
SUMMARY:Zumba Fitness
DESCRIPTION:
URL:https://gckib.iwanowice.pl/wydarzenie/zumba-fitness-33/
LOCATION:mała sala przy ZS – P w Iwanowicach Włościańskich
CATEGORIES:Zumba fitness
END:VEVENT
BEGIN:VEVENT
DTSTART;TZID=Europe/Warsaw:20241002T180000
DTEND;TZID=Europe/Warsaw:20241002T190000
DTSTAMP:20260422T215049
CREATED:20240912T064319Z
LAST-MODIFIED:20240912T064319Z
UID:49324-1727892000-1727895600@gckib.iwanowice.pl
SUMMARY:Zumba Gold
DESCRIPTION:
URL:https://gckib.iwanowice.pl/wydarzenie/zumba-gold-34/
LOCATION:mała sala przy ZS – P w Iwanowicach Włościańskich
CATEGORIES:Zumba gold
END:VEVENT
BEGIN:VEVENT
DTSTART;TZID=Europe/Warsaw:20241001T160000
DTEND;TZID=Europe/Warsaw:20241001T173000
DTSTAMP:20260422T215049
CREATED:20240911T123045Z
LAST-MODIFIED:20240911T123045Z
UID:49289-1727798400-1727803800@gckib.iwanowice.pl
SUMMARY:Jump - Judo
DESCRIPTION:
URL:https://gckib.iwanowice.pl/wydarzenie/jump-judo-33/
LOCATION:mała sala przy ZS – P w Iwanowicach Włościańskich
CATEGORIES:Jump - Judo
END:VEVENT
BEGIN:VEVENT
DTSTART;TZID=Europe/Warsaw:20241001T150000
DTEND;TZID=Europe/Warsaw:20241001T160000
DTSTAMP:20260422T215049
CREATED:20240911T120634Z
LAST-MODIFIED:20240911T120634Z
UID:49277-1727794800-1727798400@gckib.iwanowice.pl
SUMMARY:Rysunkowe ABC
DESCRIPTION:
URL:https://gckib.iwanowice.pl/wydarzenie/rysunkowe-abc-4/
LOCATION:Gminne Centrum Kultury i Bibliotek w Iwanowicach\, Strażacka 5\, Iwanowice Włościańskie
CATEGORIES:Rysunkowe ABC
END:VEVENT
BEGIN:VEVENT
DTSTART;TZID=Europe/Warsaw:20240930T183000
DTEND;TZID=Europe/Warsaw:20240930T193000
DTSTAMP:20260422T215049
CREATED:20240911T105743Z
LAST-MODIFIED:20240911T105743Z
UID:49208-1727721000-1727724600@gckib.iwanowice.pl
SUMMARY:Joga
DESCRIPTION:
URL:https://gckib.iwanowice.pl/wydarzenie/joga-36/
LOCATION:mała sala przy ZS – P w Iwanowicach Włościańskich
CATEGORIES:joga
END:VEVENT
BEGIN:VEVENT
DTSTART;TZID=Europe/Warsaw:20240926T193000
DTEND;TZID=Europe/Warsaw:20240926T203000
DTSTAMP:20260422T215049
CREATED:20240911T105446Z
LAST-MODIFIED:20240911T105446Z
UID:49204-1727379000-1727382600@gckib.iwanowice.pl
SUMMARY:Pilates
DESCRIPTION:
URL:https://gckib.iwanowice.pl/wydarzenie/pilates-35/
LOCATION:mała sala przy ZS – P w Iwanowicach Włościańskich
CATEGORIES:Pilates
END:VEVENT
BEGIN:VEVENT
DTSTART;TZID=Europe/Warsaw:20240924T150000
DTEND;TZID=Europe/Warsaw:20240924T160000
DTSTAMP:20260422T215049
CREATED:20240919T112917Z
LAST-MODIFIED:20240919T112917Z
UID:49793-1727190000-1727193600@gckib.iwanowice.pl
SUMMARY:Rysunkowe ABC
DESCRIPTION:
URL:https://gckib.iwanowice.pl/wydarzenie/rysunkowe-abc-15/
LOCATION:Gminne Centrum Kultury i Bibliotek w Iwanowicach\, Strażacka 5\, Iwanowice Włościańskie
CATEGORIES:Rysunkowe ABC
END:VEVENT
BEGIN:VEVENT
DTSTART;TZID=Europe/Warsaw:20240923T183000
DTEND;TZID=Europe/Warsaw:20240923T193000
DTSTAMP:20260422T215049
CREATED:20240911T105555Z
LAST-MODIFIED:20240911T105555Z
UID:49206-1727116200-1727119800@gckib.iwanowice.pl
SUMMARY:Joga
DESCRIPTION:
URL:https://gckib.iwanowice.pl/wydarzenie/joga-35/
LOCATION:mała sala przy ZS – P w Iwanowicach Włościańskich
CATEGORIES:joga
END:VEVENT
BEGIN:VEVENT
DTSTART;TZID=Europe/Warsaw:20240919T193000
DTEND;TZID=Europe/Warsaw:20240919T203000
DTSTAMP:20260422T215049
CREATED:20231107T142151Z
LAST-MODIFIED:20240911T104146Z
UID:46160-1726774200-1726777800@gckib.iwanowice.pl
SUMMARY:Pilates
DESCRIPTION:
URL:https://gckib.iwanowice.pl/wydarzenie/szachy-63/
LOCATION:mała sala przy ZS – P w Iwanowicach Włościańskich
CATEGORIES:Pilates
END:VEVENT
BEGIN:VEVENT
DTSTART;TZID=Europe/Warsaw:20240917T150000
DTEND;TZID=Europe/Warsaw:20240917T160000
DTSTAMP:20260422T215049
CREATED:20240919T112748Z
LAST-MODIFIED:20240919T112748Z
UID:49791-1726585200-1726588800@gckib.iwanowice.pl
SUMMARY:Rysunkowe ABC
DESCRIPTION:
URL:https://gckib.iwanowice.pl/wydarzenie/rysunkowe-abc-14/
LOCATION:Gminne Centrum Kultury i Bibliotek w Iwanowicach\, Strażacka 5\, Iwanowice Włościańskie
CATEGORIES:Rysunkowe ABC
END:VEVENT
BEGIN:VEVENT
DTSTART;TZID=Europe/Warsaw:20240916T183000
DTEND;TZID=Europe/Warsaw:20240916T193000
DTSTAMP:20260422T215049
CREATED:20240911T105310Z
LAST-MODIFIED:20240911T105310Z
UID:49202-1726511400-1726515000@gckib.iwanowice.pl
SUMMARY:Joga
DESCRIPTION:
URL:https://gckib.iwanowice.pl/wydarzenie/joga-34/
LOCATION:mała sala przy ZS – P w Iwanowicach Włościańskich
CATEGORIES:joga
END:VEVENT
BEGIN:VEVENT
DTSTART;TZID=Europe/Warsaw:20240912T193000
DTEND;TZID=Europe/Warsaw:20240912T203000
DTSTAMP:20260422T215049
CREATED:20240911T101558Z
LAST-MODIFIED:20240911T104747Z
UID:49192-1726169400-1726173000@gckib.iwanowice.pl
SUMMARY:Pilates
DESCRIPTION:
URL:https://gckib.iwanowice.pl/wydarzenie/pilates-33/
LOCATION:mała sala przy ZS – P w Iwanowicach Włościańskich
CATEGORIES:Pilates
END:VEVENT
BEGIN:VEVENT
DTSTART;TZID=Europe/Warsaw:20240912T183000
DTEND;TZID=Europe/Warsaw:20240912T193000
DTSTAMP:20260422T215049
CREATED:20240912T135728Z
LAST-MODIFIED:20240912T135728Z
UID:49658-1726165800-1726169400@gckib.iwanowice.pl
SUMMARY:Joga
DESCRIPTION:
URL:https://gckib.iwanowice.pl/wydarzenie/joga-46/
LOCATION:mała sala przy ZS – P w Iwanowicach Włościańskich
CATEGORIES:joga
END:VEVENT
BEGIN:VEVENT
DTSTART;TZID=Europe/Warsaw:20240909T183000
DTEND;TZID=Europe/Warsaw:20240909T193000
DTSTAMP:20260422T215049
CREATED:20240911T105009Z
LAST-MODIFIED:20240911T105009Z
UID:49198-1725906600-1725910200@gckib.iwanowice.pl
SUMMARY:Joga
DESCRIPTION:
URL:https://gckib.iwanowice.pl/wydarzenie/joga-33/
LOCATION:mała sala przy ZS – P w Iwanowicach Włościańskich
CATEGORIES:joga
END:VEVENT
BEGIN:VEVENT
DTSTART;VALUE=DATE:20240907
DTEND;VALUE=DATE:20240908
DTSTAMP:20260422T215049
CREATED:20240911T111818Z
LAST-MODIFIED:20240911T111818Z
UID:49238-1725667200-1725753599@gckib.iwanowice.pl
SUMMARY:III Ogólnopolski Spływ Kajakowy Doliną Rzeki Dłubni "Dłubnia wciąga"
DESCRIPTION:
URL:https://gckib.iwanowice.pl/wydarzenie/iii-ogolnopolski-splyw-kajakowy-dolina-rzeki-dlubni-dlubnia-wciaga/
LOCATION:Centrum Rekreacyjno-Sportowego w Maszkowi
END:VEVENT
BEGIN:VEVENT
DTSTART;TZID=Europe/Warsaw:20240905T193000
DTEND;TZID=Europe/Warsaw:20240905T203000
DTSTAMP:20260422T215049
CREATED:20240911T105124Z
LAST-MODIFIED:20240911T105124Z
UID:49200-1725564600-1725568200@gckib.iwanowice.pl
SUMMARY:Pilates
DESCRIPTION:
URL:https://gckib.iwanowice.pl/wydarzenie/pilates-34/
LOCATION:mała sala przy ZS – P w Iwanowicach Włościańskich
CATEGORIES:Pilates
END:VEVENT
BEGIN:VEVENT
DTSTART;TZID=Europe/Warsaw:20240902T183000
DTEND;TZID=Europe/Warsaw:20240902T190000
DTSTAMP:20260422T215049
CREATED:20240911T104627Z
LAST-MODIFIED:20240911T104627Z
UID:49196-1725301800-1725303600@gckib.iwanowice.pl
SUMMARY:Joga
DESCRIPTION:
URL:https://gckib.iwanowice.pl/wydarzenie/joga-32/
LOCATION:mała sala przy ZS – P w Iwanowicach Włościańskich
CATEGORIES:joga
END:VEVENT
BEGIN:VEVENT
DTSTART;TZID=Europe/Warsaw:20240901T140000
DTEND;TZID=Europe/Warsaw:20240901T170000
DTSTAMP:20260422T215049
CREATED:20240911T111621Z
LAST-MODIFIED:20240911T111621Z
UID:49236-1725199200-1725210000@gckib.iwanowice.pl
SUMMARY:Dzień otwarty w GCKiB
DESCRIPTION:
URL:https://gckib.iwanowice.pl/wydarzenie/dzien-otwarty-w-gckib/
LOCATION:Gminne Centrum Kultury i Bibliotek w Iwanowicach\, Strażacka 5\, Iwanowice Włościańskie
END:VEVENT
BEGIN:VEVENT
DTSTART;TZID=Europe/Warsaw:20240603T183000
DTEND;TZID=Europe/Warsaw:20240603T193000
DTSTAMP:20260422T215049
CREATED:20231107T141545Z
LAST-MODIFIED:20231107T141545Z
UID:46150-1717439400-1717443000@gckib.iwanowice.pl
SUMMARY:Joga
DESCRIPTION:
URL:https://gckib.iwanowice.pl/wydarzenie/joga-31/
LOCATION:mała sala przy ZS – P w Iwanowicach Włościańskich
CATEGORIES:joga
END:VEVENT
BEGIN:VEVENT
DTSTART;TZID=Europe/Warsaw:20240531T160000
DTEND;TZID=Europe/Warsaw:20240531T170000
DTSTAMP:20260422T215049
CREATED:20231107T133314Z
LAST-MODIFIED:20231107T133314Z
UID:46138-1717171200-1717174800@gckib.iwanowice.pl
SUMMARY:Capoeira
DESCRIPTION:
URL:https://gckib.iwanowice.pl/wydarzenie/capoeira-64/
LOCATION:mała sala przy ZS – P w Iwanowicach Włościańskich
CATEGORIES:Capoeira
END:VEVENT
BEGIN:VEVENT
DTSTART;TZID=Europe/Warsaw:20240531T150000
DTEND;TZID=Europe/Warsaw:20240531T160000
DTSTAMP:20260422T215049
CREATED:20231107T133231Z
LAST-MODIFIED:20231107T133231Z
UID:46136-1717167600-1717171200@gckib.iwanowice.pl
SUMMARY:Capoeira
DESCRIPTION:
URL:https://gckib.iwanowice.pl/wydarzenie/capoeira-63/
LOCATION:mała sala przy ZS – P w Iwanowicach Włościańskich
CATEGORIES:Capoeira
END:VEVENT
BEGIN:VEVENT
DTSTART;TZID=Europe/Warsaw:20240530T193000
DTEND;TZID=Europe/Warsaw:20240530T203000
DTSTAMP:20260422T215049
CREATED:20231107T133052Z
LAST-MODIFIED:20231107T133052Z
UID:46132-1717097400-1717101000@gckib.iwanowice.pl
SUMMARY:Pilates
DESCRIPTION:
URL:https://gckib.iwanowice.pl/wydarzenie/pilates-32/
LOCATION:mała sala przy ZS – P w Iwanowicach Włościańskich
CATEGORIES:Pilates
END:VEVENT
BEGIN:VEVENT
DTSTART;TZID=Europe/Warsaw:20240529T190000
DTEND;TZID=Europe/Warsaw:20240529T195500
DTSTAMP:20260422T215049
CREATED:20231107T132539Z
LAST-MODIFIED:20231107T132539Z
UID:46122-1717009200-1717012500@gckib.iwanowice.pl
SUMMARY:Zumba fitness
DESCRIPTION:
URL:https://gckib.iwanowice.pl/wydarzenie/zumba-fitness-32/
LOCATION:mała sala przy ZS – P w Iwanowicach Włościańskich
CATEGORIES:Zumba fitness
END:VEVENT
BEGIN:VEVENT
DTSTART;TZID=Europe/Warsaw:20240529T180000
DTEND;TZID=Europe/Warsaw:20240529T185500
DTSTAMP:20260422T215049
CREATED:20231107T132442Z
LAST-MODIFIED:20231107T132442Z
UID:46120-1717005600-1717008900@gckib.iwanowice.pl
SUMMARY:Zumba gold
DESCRIPTION:
URL:https://gckib.iwanowice.pl/wydarzenie/zumba-gold-33/
LOCATION:mała sala przy ZS – P w Iwanowicach Włościańskich
CATEGORIES:Zumba gold
END:VEVENT
BEGIN:VEVENT
DTSTART;TZID=Europe/Warsaw:20240529T170000
DTEND;TZID=Europe/Warsaw:20240529T174500
DTSTAMP:20260422T215049
CREATED:20231107T132331Z
LAST-MODIFIED:20231107T132331Z
UID:46118-1717002000-1717004700@gckib.iwanowice.pl
SUMMARY:Czarodziejski kuferek
DESCRIPTION:
URL:https://gckib.iwanowice.pl/wydarzenie/czarodziejski-kuferek-32/
LOCATION:Gminne Centrum Kultury i Bibliotek w Iwanowicach\, Strażacka 5\, Iwanowice Włościańskie
CATEGORIES:Czarodziejski kuferek
END:VEVENT
BEGIN:VEVENT
DTSTART;TZID=Europe/Warsaw:20240529T133000
DTEND;TZID=Europe/Warsaw:20240529T180000
DTSTAMP:20260422T215049
CREATED:20231107T132811Z
LAST-MODIFIED:20240523T111709Z
UID:46126-1716989400-1717005600@gckib.iwanowice.pl
SUMMARY:Zajęcia wokalne
DESCRIPTION:
URL:https://gckib.iwanowice.pl/wydarzenie/zajecia-wokalne-32/
LOCATION:Gminne Centrum Kultury i Bibliotek w Iwanowicach\, Strażacka 5\, Iwanowice Włościańskie
CATEGORIES:wokal
END:VEVENT
BEGIN:VEVENT
DTSTART;TZID=Europe/Warsaw:20240528T170000
DTEND;TZID=Europe/Warsaw:20240528T174500
DTSTAMP:20260422T215049
CREATED:20231107T131856Z
LAST-MODIFIED:20231107T131856Z
UID:46112-1716915600-1716918300@gckib.iwanowice.pl
SUMMARY:Szachy
DESCRIPTION:
URL:https://gckib.iwanowice.pl/wydarzenie/szachy-62/
LOCATION:Gminne Centrum Kultury i Bibliotek w Iwanowicach\, Strażacka 5\, Iwanowice Włościańskie
CATEGORIES:Szachy
END:VEVENT
BEGIN:VEVENT
DTSTART;TZID=Europe/Warsaw:20240528T161500
DTEND;TZID=Europe/Warsaw:20240528T174500
DTSTAMP:20260422T215049
CREATED:20231107T131431Z
LAST-MODIFIED:20231107T131431Z
UID:46104-1716912900-1716918300@gckib.iwanowice.pl
SUMMARY:Warsztaty okazjonalne
DESCRIPTION:
URL:https://gckib.iwanowice.pl/wydarzenie/warsztaty-okazjonalne-32/
LOCATION:Gminne Centrum Kultury i Bibliotek w Iwanowicach\, Strażacka 5\, Iwanowice Włościańskie
CATEGORIES:Warsztaty okazjonalne
END:VEVENT
BEGIN:VEVENT
DTSTART;TZID=Europe/Warsaw:20240528T161500
DTEND;TZID=Europe/Warsaw:20240528T170000
DTSTAMP:20260422T215049
CREATED:20231107T131619Z
LAST-MODIFIED:20231107T131619Z
UID:46108-1716912900-1716915600@gckib.iwanowice.pl
SUMMARY:Szachy
DESCRIPTION:
URL:https://gckib.iwanowice.pl/wydarzenie/szachy-61/
LOCATION:Gminne Centrum Kultury i Bibliotek w Iwanowicach\, Strażacka 5\, Iwanowice Włościańskie
CATEGORIES:Szachy
END:VEVENT
BEGIN:VEVENT
DTSTART;TZID=Europe/Warsaw:20240527T183000
DTEND;TZID=Europe/Warsaw:20240527T193000
DTSTAMP:20260422T215049
CREATED:20231107T125904Z
LAST-MODIFIED:20231107T125904Z
UID:46098-1716834600-1716838200@gckib.iwanowice.pl
SUMMARY:Joga
DESCRIPTION:
URL:https://gckib.iwanowice.pl/wydarzenie/joga-30/
LOCATION:mała sala przy ZS – P w Iwanowicach Włościańskich
CATEGORIES:joga
END:VEVENT
END:VCALENDAR