BEGIN:VCALENDAR
VERSION:2.0
PRODID:-//GCKiB - ECPv6.15.20//NONSGML v1.0//EN
CALSCALE:GREGORIAN
METHOD:PUBLISH
X-ORIGINAL-URL:https://gckib.iwanowice.pl
X-WR-CALDESC:Wydarzenia dla GCKiB
REFRESH-INTERVAL;VALUE=DURATION:PT1H
X-Robots-Tag:noindex
X-PUBLISHED-TTL:PT1H
BEGIN:VTIMEZONE
TZID:Europe/Warsaw
BEGIN:DAYLIGHT
TZOFFSETFROM:+0100
TZOFFSETTO:+0200
TZNAME:CEST
DTSTART:20230326T010000
END:DAYLIGHT
BEGIN:STANDARD
TZOFFSETFROM:+0200
TZOFFSETTO:+0100
TZNAME:CET
DTSTART:20231029T010000
END:STANDARD
BEGIN:DAYLIGHT
TZOFFSETFROM:+0100
TZOFFSETTO:+0200
TZNAME:CEST
DTSTART:20240331T010000
END:DAYLIGHT
BEGIN:STANDARD
TZOFFSETFROM:+0200
TZOFFSETTO:+0100
TZNAME:CET
DTSTART:20241027T010000
END:STANDARD
BEGIN:DAYLIGHT
TZOFFSETFROM:+0100
TZOFFSETTO:+0200
TZNAME:CEST
DTSTART:20250330T010000
END:DAYLIGHT
BEGIN:STANDARD
TZOFFSETFROM:+0200
TZOFFSETTO:+0100
TZNAME:CET
DTSTART:20251026T010000
END:STANDARD
END:VTIMEZONE
BEGIN:VEVENT
DTSTART;TZID=Europe/Warsaw:20241023T190000
DTEND;TZID=Europe/Warsaw:20241023T200000
DTSTAMP:20260422T150102
CREATED:20240912T065435Z
LAST-MODIFIED:20240912T065435Z
UID:49340-1729710000-1729713600@gckib.iwanowice.pl
SUMMARY:Zumba Fitness
DESCRIPTION:
URL:https://gckib.iwanowice.pl/wydarzenie/zumba-fitness-36/
LOCATION:mała sala przy ZS – P w Iwanowicach Włościańskich
CATEGORIES:Zumba fitness
END:VEVENT
BEGIN:VEVENT
DTSTART;TZID=Europe/Warsaw:20241023T180000
DTEND;TZID=Europe/Warsaw:20241023T190000
DTSTAMP:20260422T150102
CREATED:20240912T064702Z
LAST-MODIFIED:20240912T064727Z
UID:49330-1729706400-1729710000@gckib.iwanowice.pl
SUMMARY:Zumba Gold
DESCRIPTION:
URL:https://gckib.iwanowice.pl/wydarzenie/zumba-gold-37/
LOCATION:mała sala przy ZS – P w Iwanowicach Włościańskich
CATEGORIES:Zumba gold
END:VEVENT
BEGIN:VEVENT
DTSTART;TZID=Europe/Warsaw:20241022T160000
DTEND;TZID=Europe/Warsaw:20241022T170000
DTSTAMP:20260422T150102
CREATED:20240911T123624Z
LAST-MODIFIED:20240912T091102Z
UID:49295-1729612800-1729616400@gckib.iwanowice.pl
SUMMARY:Jump - Judo
DESCRIPTION:
URL:https://gckib.iwanowice.pl/wydarzenie/jump-judo-36/
LOCATION:mała sala przy ZS – P w Iwanowicach Włościańskich
CATEGORIES:Jump - Judo
END:VEVENT
BEGIN:VEVENT
DTSTART;TZID=Europe/Warsaw:20241022T150000
DTEND;TZID=Europe/Warsaw:20241022T160000
DTSTAMP:20260422T150102
CREATED:20240911T120132Z
LAST-MODIFIED:20240911T120132Z
UID:49271-1729609200-1729612800@gckib.iwanowice.pl
SUMMARY:Rysunkowe ABC
DESCRIPTION:
URL:https://gckib.iwanowice.pl/wydarzenie/rysunkowe-abc/
LOCATION:Gminne Centrum Kultury i Bibliotek w Iwanowicach\, Strażacka 5\, Iwanowice Włościańskie
CATEGORIES:Rysunkowe ABC
END:VEVENT
BEGIN:VEVENT
DTSTART;TZID=Europe/Warsaw:20241021T183000
DTEND;TZID=Europe/Warsaw:20241021T193000
DTSTAMP:20260422T150102
CREATED:20240911T110209Z
LAST-MODIFIED:20240911T110209Z
UID:49214-1729535400-1729539000@gckib.iwanowice.pl
SUMMARY:Joga
DESCRIPTION:
URL:https://gckib.iwanowice.pl/wydarzenie/joga-39/
LOCATION:mała sala przy ZS – P w Iwanowicach Włościańskich
CATEGORIES:joga
END:VEVENT
BEGIN:VEVENT
DTSTART;TZID=Europe/Warsaw:20241018T160000
DTEND;TZID=Europe/Warsaw:20241018T170000
DTSTAMP:20260422T150102
CREATED:20240912T080401Z
LAST-MODIFIED:20240912T080401Z
UID:49398-1729267200-1729270800@gckib.iwanowice.pl
SUMMARY:Capoeira
DESCRIPTION:
URL:https://gckib.iwanowice.pl/wydarzenie/capoeira-71/
LOCATION:mała sala przy ZS – P w Iwanowicach Włościańskich
CATEGORIES:Capoeira
END:VEVENT
BEGIN:VEVENT
DTSTART;TZID=Europe/Warsaw:20241018T150000
DTEND;TZID=Europe/Warsaw:20241018T160000
DTSTAMP:20260422T150102
CREATED:20240912T080109Z
LAST-MODIFIED:20240912T080109Z
UID:49394-1729263600-1729267200@gckib.iwanowice.pl
SUMMARY:Capoeira
DESCRIPTION:
URL:https://gckib.iwanowice.pl/wydarzenie/capoeira-69/
LOCATION:mała sala przy ZS – P w Iwanowicach Włościańskich
CATEGORIES:Capoeira
END:VEVENT
BEGIN:VEVENT
DTSTART;TZID=Europe/Warsaw:20241017T193000
DTEND;TZID=Europe/Warsaw:20241017T203000
DTSTAMP:20260422T150102
CREATED:20240911T110717Z
LAST-MODIFIED:20240911T110717Z
UID:49222-1729193400-1729197000@gckib.iwanowice.pl
SUMMARY:Pilates
DESCRIPTION:
URL:https://gckib.iwanowice.pl/wydarzenie/pilates-38/
LOCATION:mała sala przy ZS – P w Iwanowicach Włościańskich
CATEGORIES:Pilates
END:VEVENT
BEGIN:VEVENT
DTSTART;TZID=Europe/Warsaw:20241017T170000
DTEND;TZID=Europe/Warsaw:20241017T174500
DTSTAMP:20260422T150102
CREATED:20240912T074707Z
LAST-MODIFIED:20240912T074707Z
UID:49376-1729184400-1729187100@gckib.iwanowice.pl
SUMMARY:Początkujące Szachy
DESCRIPTION:
URL:https://gckib.iwanowice.pl/wydarzenie/poczatkujace-szachy-3/
LOCATION:Gminne Centrum Kultury i Bibliotek w Iwanowicach\, Strażacka 5\, Iwanowice Włościańskie
CATEGORIES:Szachy
END:VEVENT
BEGIN:VEVENT
DTSTART;TZID=Europe/Warsaw:20241017T161500
DTEND;TZID=Europe/Warsaw:20241017T170000
DTSTAMP:20260422T150102
CREATED:20240912T074542Z
LAST-MODIFIED:20240912T074542Z
UID:49374-1729181700-1729184400@gckib.iwanowice.pl
SUMMARY:Zaawansowane Szachy
DESCRIPTION:
URL:https://gckib.iwanowice.pl/wydarzenie/zaawansowane-szachy-3/
LOCATION:Gminne Centrum Kultury i Bibliotek w Iwanowicach\, Strażacka 5\, Iwanowice Włościańskie
CATEGORIES:Szachy
END:VEVENT
BEGIN:VEVENT
DTSTART;TZID=Europe/Warsaw:20241017T160000
DTEND;TZID=Europe/Warsaw:20241017T170000
DTSTAMP:20260422T150102
CREATED:20240912T073523Z
LAST-MODIFIED:20240912T091248Z
UID:49360-1729180800-1729184400@gckib.iwanowice.pl
SUMMARY:Jump - Judo
DESCRIPTION:
URL:https://gckib.iwanowice.pl/wydarzenie/jump-judo-45/
LOCATION:mała sala przy ZS – P w Iwanowicach Włościańskich
CATEGORIES:Jump - Judo
END:VEVENT
BEGIN:VEVENT
DTSTART;TZID=Europe/Warsaw:20241017T143000
DTEND;TZID=Europe/Warsaw:20241017T150000
DTSTAMP:20260422T150102
CREATED:20240912T071226Z
LAST-MODIFIED:20240912T073201Z
UID:49348-1729175400-1729177200@gckib.iwanowice.pl
SUMMARY:Jump - Judo
DESCRIPTION:
URL:https://gckib.iwanowice.pl/wydarzenie/jump-judo-40/
LOCATION:mała sala przy ZS – P w Iwanowicach Włościańskich
CATEGORIES:Jump - Judo
END:VEVENT
BEGIN:VEVENT
DTSTART;TZID=Europe/Warsaw:20241016T190000
DTEND;TZID=Europe/Warsaw:20241016T200000
DTSTAMP:20260422T150102
CREATED:20240912T065118Z
LAST-MODIFIED:20240912T065118Z
UID:49336-1729105200-1729108800@gckib.iwanowice.pl
SUMMARY:Zumba Fitness
DESCRIPTION:
URL:https://gckib.iwanowice.pl/wydarzenie/zumba-fitness-34/
LOCATION:mała sala przy ZS – P w Iwanowicach Włościańskich
CATEGORIES:Zumba fitness
END:VEVENT
BEGIN:VEVENT
DTSTART;TZID=Europe/Warsaw:20241016T180000
DTEND;TZID=Europe/Warsaw:20241016T190000
DTSTAMP:20260422T150102
CREATED:20240912T064542Z
LAST-MODIFIED:20240912T064542Z
UID:49328-1729101600-1729105200@gckib.iwanowice.pl
SUMMARY:Zumba Gold
DESCRIPTION:
URL:https://gckib.iwanowice.pl/wydarzenie/zumba-gold-36/
LOCATION:mała sala przy ZS – P w Iwanowicach Włościańskich
CATEGORIES:Zumba gold
END:VEVENT
BEGIN:VEVENT
DTSTART;TZID=Europe/Warsaw:20241015T160000
DTEND;TZID=Europe/Warsaw:20241015T170000
DTSTAMP:20260422T150102
CREATED:20240911T123437Z
LAST-MODIFIED:20240912T091436Z
UID:49293-1729008000-1729011600@gckib.iwanowice.pl
SUMMARY:Jump - Judo
DESCRIPTION:
URL:https://gckib.iwanowice.pl/wydarzenie/jump-judo-35/
LOCATION:mała sala przy ZS – P w Iwanowicach Włościańskich
CATEGORIES:Jump - Judo
END:VEVENT
BEGIN:VEVENT
DTSTART;TZID=Europe/Warsaw:20241015T150000
DTEND;TZID=Europe/Warsaw:20241015T160000
DTSTAMP:20260422T150102
CREATED:20240911T120240Z
LAST-MODIFIED:20240911T120240Z
UID:49273-1729004400-1729008000@gckib.iwanowice.pl
SUMMARY:Rysunkowe ABC
DESCRIPTION:
URL:https://gckib.iwanowice.pl/wydarzenie/rysunkowe-abc-2/
LOCATION:Gminne Centrum Kultury i Bibliotek w Iwanowicach\, Strażacka 5\, Iwanowice Włościańskie
CATEGORIES:Rysunkowe ABC
END:VEVENT
BEGIN:VEVENT
DTSTART;TZID=Europe/Warsaw:20241015T120000
DTEND;TZID=Europe/Warsaw:20241015T120000
DTSTAMP:20260422T150102
CREATED:20240911T121431Z
LAST-MODIFIED:20240911T121513Z
UID:49283-1728993600-1728993600@gckib.iwanowice.pl
SUMMARY:Pianino
DESCRIPTION:
URL:https://gckib.iwanowice.pl/wydarzenie/pianino-13/
LOCATION:Gminne Centrum Kultury i Bibliotek w Iwanowicach\, Strażacka 5\, Iwanowice Włościańskie
END:VEVENT
BEGIN:VEVENT
DTSTART;TZID=Europe/Warsaw:20241015T110000
DTEND;TZID=Europe/Warsaw:20241015T114500
DTSTAMP:20260422T150102
CREATED:20240911T112144Z
LAST-MODIFIED:20240911T112144Z
UID:49240-1728990000-1728992700@gckib.iwanowice.pl
SUMMARY:Czarodziejski Kuferek
DESCRIPTION:
URL:https://gckib.iwanowice.pl/wydarzenie/czarodziejski-kuferek-37/
LOCATION:Gminne Centrum Kultury i Bibliotek w Iwanowicach\, Strażacka 5\, Iwanowice Włościańskie
CATEGORIES:Czarodziejski kuferek
END:VEVENT
BEGIN:VEVENT
DTSTART;TZID=Europe/Warsaw:20241014T183000
DTEND;TZID=Europe/Warsaw:20241014T193000
DTSTAMP:20260422T150102
CREATED:20240911T110054Z
LAST-MODIFIED:20240911T110054Z
UID:49212-1728930600-1728934200@gckib.iwanowice.pl
SUMMARY:Joga
DESCRIPTION:
URL:https://gckib.iwanowice.pl/wydarzenie/joga-38/
LOCATION:mała sala przy ZS – P w Iwanowicach Włościańskich
CATEGORIES:joga
END:VEVENT
BEGIN:VEVENT
DTSTART;TZID=Europe/Warsaw:20241011T160000
DTEND;TZID=Europe/Warsaw:20241011T170000
DTSTAMP:20260422T150102
CREATED:20240912T075939Z
LAST-MODIFIED:20240912T075939Z
UID:49392-1728662400-1728666000@gckib.iwanowice.pl
SUMMARY:Capoeira
DESCRIPTION:
URL:https://gckib.iwanowice.pl/wydarzenie/capoeira-68/
LOCATION:mała sala przy ZS – P w Iwanowicach Włościańskich
CATEGORIES:Capoeira
END:VEVENT
BEGIN:VEVENT
DTSTART;TZID=Europe/Warsaw:20241011T150000
DTEND;TZID=Europe/Warsaw:20241011T160000
DTSTAMP:20260422T150102
CREATED:20240912T075842Z
LAST-MODIFIED:20240912T075842Z
UID:49390-1728658800-1728662400@gckib.iwanowice.pl
SUMMARY:Capoeira
DESCRIPTION:
URL:https://gckib.iwanowice.pl/wydarzenie/capoeira-67/
LOCATION:mała sala przy ZS – P w Iwanowicach Włościańskich
CATEGORIES:Capoeira
END:VEVENT
BEGIN:VEVENT
DTSTART;TZID=Europe/Warsaw:20241010T193000
DTEND;TZID=Europe/Warsaw:20241010T203000
DTSTAMP:20260422T150102
CREATED:20240911T110556Z
LAST-MODIFIED:20240911T110556Z
UID:49220-1728588600-1728592200@gckib.iwanowice.pl
SUMMARY:Pilates
DESCRIPTION:
URL:https://gckib.iwanowice.pl/wydarzenie/pilates-37/
LOCATION:mała sala przy ZS – P w Iwanowicach Włościańskich
CATEGORIES:Pilates
END:VEVENT
BEGIN:VEVENT
DTSTART;TZID=Europe/Warsaw:20241010T170000
DTEND;TZID=Europe/Warsaw:20241010T174500
DTSTAMP:20260422T150102
CREATED:20240912T074415Z
LAST-MODIFIED:20240912T074415Z
UID:49372-1728579600-1728582300@gckib.iwanowice.pl
SUMMARY:Początkujące Szachy
DESCRIPTION:
URL:https://gckib.iwanowice.pl/wydarzenie/poczatkujace-szachy-2/
LOCATION:Gminne Centrum Kultury i Bibliotek w Iwanowicach\, Strażacka 5\, Iwanowice Włościańskie
CATEGORIES:Szachy
END:VEVENT
BEGIN:VEVENT
DTSTART;TZID=Europe/Warsaw:20241010T161500
DTEND;TZID=Europe/Warsaw:20241010T170000
DTSTAMP:20260422T150102
CREATED:20240912T074308Z
LAST-MODIFIED:20240912T074308Z
UID:49370-1728576900-1728579600@gckib.iwanowice.pl
SUMMARY:Zaawansowane Szachy
DESCRIPTION:
URL:https://gckib.iwanowice.pl/wydarzenie/zaawansowane-szachy-2/
LOCATION:Gminne Centrum Kultury i Bibliotek w Iwanowicach\, Strażacka 5\, Iwanowice Włościańskie
CATEGORIES:Szachy
END:VEVENT
BEGIN:VEVENT
DTSTART;TZID=Europe/Warsaw:20241010T160000
DTEND;TZID=Europe/Warsaw:20241010T170000
DTSTAMP:20260422T150102
CREATED:20240912T073629Z
LAST-MODIFIED:20240912T091711Z
UID:49362-1728576000-1728579600@gckib.iwanowice.pl
SUMMARY:Jump - Judo
DESCRIPTION:
URL:https://gckib.iwanowice.pl/wydarzenie/jump-judo-46/
LOCATION:mała sala przy ZS – P w Iwanowicach Włościańskich
CATEGORIES:Jump - Judo
END:VEVENT
BEGIN:VEVENT
DTSTART;TZID=Europe/Warsaw:20241010T143000
DTEND;TZID=Europe/Warsaw:20241010T150000
DTSTAMP:20260422T150102
CREATED:20240912T070935Z
LAST-MODIFIED:20240912T070935Z
UID:49346-1728570600-1728572400@gckib.iwanowice.pl
SUMMARY:Jump - Judo
DESCRIPTION:
URL:https://gckib.iwanowice.pl/wydarzenie/jump-judo-39/
LOCATION:mała sala przy ZS – P w Iwanowicach Włościańskich
CATEGORIES:Jump - Judo
END:VEVENT
BEGIN:VEVENT
DTSTART;TZID=Europe/Warsaw:20241009T190000
DTEND;TZID=Europe/Warsaw:20241009T200000
DTSTAMP:20260422T150102
CREATED:20240912T065248Z
LAST-MODIFIED:20240912T065248Z
UID:49338-1728500400-1728504000@gckib.iwanowice.pl
SUMMARY:Zumba Fitness
DESCRIPTION:
URL:https://gckib.iwanowice.pl/wydarzenie/zumba-fitness-35/
LOCATION:mała sala przy ZS – P w Iwanowicach Włościańskich
CATEGORIES:Zumba fitness
END:VEVENT
BEGIN:VEVENT
DTSTART;TZID=Europe/Warsaw:20241009T180000
DTEND;TZID=Europe/Warsaw:20241009T190000
DTSTAMP:20260422T150102
CREATED:20240912T064427Z
LAST-MODIFIED:20240912T064427Z
UID:49326-1728496800-1728500400@gckib.iwanowice.pl
SUMMARY:Zumba Gold
DESCRIPTION:
URL:https://gckib.iwanowice.pl/wydarzenie/zumba-gold-35/
LOCATION:mała sala przy ZS – P w Iwanowicach Włościańskich
CATEGORIES:Zumba gold
END:VEVENT
BEGIN:VEVENT
DTSTART;TZID=Europe/Warsaw:20241008T160000
DTEND;TZID=Europe/Warsaw:20241008T173000
DTSTAMP:20260422T150102
CREATED:20240911T123320Z
LAST-MODIFIED:20240911T123320Z
UID:49291-1728403200-1728408600@gckib.iwanowice.pl
SUMMARY:Jump - Judo
DESCRIPTION:
URL:https://gckib.iwanowice.pl/wydarzenie/jump-judo-34/
LOCATION:mała sala przy ZS – P w Iwanowicach Włościańskich
CATEGORIES:Jump - Judo
END:VEVENT
BEGIN:VEVENT
DTSTART;TZID=Europe/Warsaw:20241008T150000
DTEND;TZID=Europe/Warsaw:20241008T160000
DTSTAMP:20260422T150102
CREATED:20240911T120408Z
LAST-MODIFIED:20240911T120408Z
UID:49275-1728399600-1728403200@gckib.iwanowice.pl
SUMMARY:Rysunkowe ABC
DESCRIPTION:
URL:https://gckib.iwanowice.pl/wydarzenie/rysunkowe-abc-3/
LOCATION:Gminne Centrum Kultury i Bibliotek w Iwanowicach\, Strażacka 5\, Iwanowice Włościańskie
CATEGORIES:Rysunkowe ABC
END:VEVENT
END:VCALENDAR