BEGIN:VCALENDAR
VERSION:2.0
PRODID:-//GCKiB - ECPv6.15.20//NONSGML v1.0//EN
CALSCALE:GREGORIAN
METHOD:PUBLISH
X-WR-CALNAME:GCKiB
X-ORIGINAL-URL:https://gckib.iwanowice.pl
X-WR-CALDESC:Wydarzenia dla GCKiB
REFRESH-INTERVAL;VALUE=DURATION:PT1H
X-Robots-Tag:noindex
X-PUBLISHED-TTL:PT1H
BEGIN:VTIMEZONE
TZID:Europe/Warsaw
BEGIN:DAYLIGHT
TZOFFSETFROM:+0100
TZOFFSETTO:+0200
TZNAME:CEST
DTSTART:20230326T010000
END:DAYLIGHT
BEGIN:STANDARD
TZOFFSETFROM:+0200
TZOFFSETTO:+0100
TZNAME:CET
DTSTART:20231029T010000
END:STANDARD
BEGIN:DAYLIGHT
TZOFFSETFROM:+0100
TZOFFSETTO:+0200
TZNAME:CEST
DTSTART:20240331T010000
END:DAYLIGHT
BEGIN:STANDARD
TZOFFSETFROM:+0200
TZOFFSETTO:+0100
TZNAME:CET
DTSTART:20241027T010000
END:STANDARD
BEGIN:DAYLIGHT
TZOFFSETFROM:+0100
TZOFFSETTO:+0200
TZNAME:CEST
DTSTART:20250330T010000
END:DAYLIGHT
BEGIN:STANDARD
TZOFFSETFROM:+0200
TZOFFSETTO:+0100
TZNAME:CET
DTSTART:20251026T010000
END:STANDARD
END:VTIMEZONE
BEGIN:VEVENT
DTSTART;TZID=Europe/Warsaw:20241127T190000
DTEND;TZID=Europe/Warsaw:20241127T200000
DTSTAMP:20260422T032512
CREATED:20240912T132944Z
LAST-MODIFIED:20240912T132944Z
UID:49598-1732734000-1732737600@gckib.iwanowice.pl
SUMMARY:Zumba Fitness
DESCRIPTION:
URL:https://gckib.iwanowice.pl/wydarzenie/zumba-fitness-42/
LOCATION:Gminne Centrum Kultury i Bibliotek w Iwanowicach\, Strażacka 5\, Iwanowice Włościańskie
CATEGORIES:Zumba fitness
END:VEVENT
BEGIN:VEVENT
DTSTART;TZID=Europe/Warsaw:20241127T180000
DTEND;TZID=Europe/Warsaw:20241127T190000
DTSTAMP:20260422T032512
CREATED:20240912T134322Z
LAST-MODIFIED:20240912T134322Z
UID:49628-1732730400-1732734000@gckib.iwanowice.pl
SUMMARY:Zumba Gold
DESCRIPTION:
URL:https://gckib.iwanowice.pl/wydarzenie/zumba-gold-44/
LOCATION:mała sala przy ZS – P w Iwanowicach Włościańskich
CATEGORIES:Zumba gold
END:VEVENT
BEGIN:VEVENT
DTSTART;TZID=Europe/Warsaw:20241126T160000
DTEND;TZID=Europe/Warsaw:20241126T170000
DTSTAMP:20260422T032512
CREATED:20240912T132011Z
LAST-MODIFIED:20240912T132011Z
UID:49574-1732636800-1732640400@gckib.iwanowice.pl
SUMMARY:Jump - Judo
DESCRIPTION:
URL:https://gckib.iwanowice.pl/wydarzenie/jump-judo-58/
LOCATION:mała sala przy ZS – P w Iwanowicach Włościańskich
CATEGORIES:Jump - Judo
END:VEVENT
BEGIN:VEVENT
DTSTART;TZID=Europe/Warsaw:20241126T150000
DTEND;TZID=Europe/Warsaw:20241126T160000
DTSTAMP:20260422T032512
CREATED:20240912T131904Z
LAST-MODIFIED:20240912T131904Z
UID:49570-1732633200-1732636800@gckib.iwanowice.pl
SUMMARY:Rysunkowe ABC
DESCRIPTION:
URL:https://gckib.iwanowice.pl/wydarzenie/rysunkowe-abc-9/
LOCATION:Gminne Centrum Kultury i Bibliotek w Iwanowicach\, Strażacka 5\, Iwanowice Włościańskie
CATEGORIES:Rysunkowe ABC
END:VEVENT
BEGIN:VEVENT
DTSTART;TZID=Europe/Warsaw:20241125T183000
DTEND;TZID=Europe/Warsaw:20241125T193000
DTSTAMP:20260422T032512
CREATED:20240912T131259Z
LAST-MODIFIED:20240912T131259Z
UID:49560-1732559400-1732563000@gckib.iwanowice.pl
SUMMARY:Joga
DESCRIPTION:
URL:https://gckib.iwanowice.pl/wydarzenie/joga-44/
LOCATION:mała sala przy ZS – P w Iwanowicach Włościańskich
CATEGORIES:joga
END:VEVENT
BEGIN:VEVENT
DTSTART;TZID=Europe/Warsaw:20241122T160000
DTEND;TZID=Europe/Warsaw:20241122T170000
DTSTAMP:20260422T032512
CREATED:20240912T130527Z
LAST-MODIFIED:20240912T130527Z
UID:49549-1732291200-1732294800@gckib.iwanowice.pl
SUMMARY:Capoeira
DESCRIPTION:
URL:https://gckib.iwanowice.pl/wydarzenie/capoeira-80/
LOCATION:mała sala przy ZS – P w Iwanowicach Włościańskich
CATEGORIES:Capoeira
END:VEVENT
BEGIN:VEVENT
DTSTART;TZID=Europe/Warsaw:20241122T150000
DTEND;TZID=Europe/Warsaw:20241122T160000
DTSTAMP:20260422T032512
CREATED:20240912T130426Z
LAST-MODIFIED:20240912T130426Z
UID:49546-1732287600-1732291200@gckib.iwanowice.pl
SUMMARY:Capoeira
DESCRIPTION:
URL:https://gckib.iwanowice.pl/wydarzenie/capoeira-79/
LOCATION:mała sala przy ZS – P w Iwanowicach Włościańskich
CATEGORIES:Capoeira
END:VEVENT
BEGIN:VEVENT
DTSTART;TZID=Europe/Warsaw:20241121T193000
DTEND;TZID=Europe/Warsaw:20241121T203000
DTSTAMP:20260422T032512
CREATED:20240912T130249Z
LAST-MODIFIED:20240912T130312Z
UID:49542-1732217400-1732221000@gckib.iwanowice.pl
SUMMARY:Pilates
DESCRIPTION:
URL:https://gckib.iwanowice.pl/wydarzenie/pilatess-2/
LOCATION:mała sala przy ZS – P w Iwanowicach Włościańskich
CATEGORIES:Pilates
END:VEVENT
BEGIN:VEVENT
DTSTART;TZID=Europe/Warsaw:20241121T170000
DTEND;TZID=Europe/Warsaw:20241121T174500
DTSTAMP:20260422T032512
CREATED:20240912T130140Z
LAST-MODIFIED:20240912T130140Z
UID:49540-1732208400-1732211100@gckib.iwanowice.pl
SUMMARY:Początkujące Szachy
DESCRIPTION:
URL:https://gckib.iwanowice.pl/wydarzenie/poczatkujace-szachy-8/
LOCATION:Gminne Centrum Kultury i Bibliotek w Iwanowicach\, Strażacka 5\, Iwanowice Włościańskie
CATEGORIES:Szachy
END:VEVENT
BEGIN:VEVENT
DTSTART;TZID=Europe/Warsaw:20241121T161500
DTEND;TZID=Europe/Warsaw:20241121T170000
DTSTAMP:20260422T032512
CREATED:20240912T130035Z
LAST-MODIFIED:20240912T130035Z
UID:49537-1732205700-1732208400@gckib.iwanowice.pl
SUMMARY:Zaawansowane Szachy
DESCRIPTION:
URL:https://gckib.iwanowice.pl/wydarzenie/zaawansowane-szachy-8/
LOCATION:Gminne Centrum Kultury i Bibliotek w Iwanowicach\, Strażacka 5\, Iwanowice Włościańskie
CATEGORIES:Szachy
END:VEVENT
BEGIN:VEVENT
DTSTART;TZID=Europe/Warsaw:20241121T160000
DTEND;TZID=Europe/Warsaw:20241121T170000
DTSTAMP:20260422T032512
CREATED:20240912T125923Z
LAST-MODIFIED:20240912T125923Z
UID:49533-1732204800-1732208400@gckib.iwanowice.pl
SUMMARY:Jump - Judo
DESCRIPTION:
URL:https://gckib.iwanowice.pl/wydarzenie/jump-judo-56/
LOCATION:mała sala przy ZS – P w Iwanowicach Włościańskich
END:VEVENT
BEGIN:VEVENT
DTSTART;TZID=Europe/Warsaw:20241121T143000
DTEND;TZID=Europe/Warsaw:20241121T150000
DTSTAMP:20260422T032512
CREATED:20240912T125717Z
LAST-MODIFIED:20240912T125818Z
UID:49531-1732199400-1732201200@gckib.iwanowice.pl
SUMMARY:Jump - Judo
DESCRIPTION:
URL:https://gckib.iwanowice.pl/wydarzenie/jump-judo-55/
LOCATION:mała sala przy ZS – P w Iwanowicach Włościańskich
CATEGORIES:Jump - Judo
END:VEVENT
BEGIN:VEVENT
DTSTART;TZID=Europe/Warsaw:20241120T190000
DTEND;TZID=Europe/Warsaw:20241120T200000
DTSTAMP:20260422T032512
CREATED:20240912T125353Z
LAST-MODIFIED:20240912T125353Z
UID:49526-1732129200-1732132800@gckib.iwanowice.pl
SUMMARY:Zumba Fitness
DESCRIPTION:
URL:https://gckib.iwanowice.pl/wydarzenie/zumba-fitness-40/
LOCATION:mała sala przy ZS – P w Iwanowicach Włościańskich
CATEGORIES:Zumba fitness
END:VEVENT
BEGIN:VEVENT
DTSTART;TZID=Europe/Warsaw:20241120T180000
DTEND;TZID=Europe/Warsaw:20241120T190000
DTSTAMP:20260422T032512
CREATED:20240912T125247Z
LAST-MODIFIED:20240912T125247Z
UID:49524-1732125600-1732129200@gckib.iwanowice.pl
SUMMARY:Zumba Gold
DESCRIPTION:
URL:https://gckib.iwanowice.pl/wydarzenie/zumba-gold-41/
LOCATION:mała sala przy ZS – P w Iwanowicach Włościańskich
CATEGORIES:Zumba gold
END:VEVENT
BEGIN:VEVENT
DTSTART;TZID=Europe/Warsaw:20241119T160000
DTEND;TZID=Europe/Warsaw:20241119T170000
DTSTAMP:20260422T032512
CREATED:20240912T124912Z
LAST-MODIFIED:20240912T124912Z
UID:49517-1732032000-1732035600@gckib.iwanowice.pl
SUMMARY:Jump - Judo
DESCRIPTION:
URL:https://gckib.iwanowice.pl/wydarzenie/jump-judo-54/
LOCATION:mała sala przy ZS – P w Iwanowicach Włościańskich
CATEGORIES:Jump - Judo
END:VEVENT
BEGIN:VEVENT
DTSTART;TZID=Europe/Warsaw:20241119T150000
DTEND;TZID=Europe/Warsaw:20241119T160000
DTSTAMP:20260422T032512
CREATED:20240912T124806Z
LAST-MODIFIED:20240912T124806Z
UID:49515-1732028400-1732032000@gckib.iwanowice.pl
SUMMARY:Rysunkowe ABC
DESCRIPTION:
URL:https://gckib.iwanowice.pl/wydarzenie/rysunkowe-abc-7/
LOCATION:Gminne Centrum Kultury i Bibliotek w Iwanowicach\, Strażacka 5\, Iwanowice Włościańskie
CATEGORIES:Rysunkowe ABC
END:VEVENT
BEGIN:VEVENT
DTSTART;TZID=Europe/Warsaw:20241118T183000
DTEND;TZID=Europe/Warsaw:20241118T193000
DTSTAMP:20260422T032512
CREATED:20240912T110706Z
LAST-MODIFIED:20240912T123552Z
UID:49464-1731954600-1731958200@gckib.iwanowice.pl
SUMMARY:Joga
DESCRIPTION:
URL:https://gckib.iwanowice.pl/wydarzenie/joga-42/
LOCATION:mała sala przy ZS – P w Iwanowicach Włościańskich
CATEGORIES:joga
END:VEVENT
BEGIN:VEVENT
DTSTART;TZID=Europe/Warsaw:20241115T160000
DTEND;TZID=Europe/Warsaw:20241115T170000
DTSTAMP:20260422T032512
CREATED:20240912T123406Z
LAST-MODIFIED:20240912T123406Z
UID:49505-1731686400-1731690000@gckib.iwanowice.pl
SUMMARY:Capoeira
DESCRIPTION:
URL:https://gckib.iwanowice.pl/wydarzenie/capoeira-78/
LOCATION:mała sala przy ZS – P w Iwanowicach Włościańskich
CATEGORIES:Capoeira
END:VEVENT
BEGIN:VEVENT
DTSTART;TZID=Europe/Warsaw:20241115T150000
DTEND;TZID=Europe/Warsaw:20241115T160000
DTSTAMP:20260422T032512
CREATED:20240912T123000Z
LAST-MODIFIED:20240912T123000Z
UID:49503-1731682800-1731686400@gckib.iwanowice.pl
SUMMARY:Capoeira
DESCRIPTION:
URL:https://gckib.iwanowice.pl/wydarzenie/capoeira-77/
LOCATION:mała sala przy ZS – P w Iwanowicach Włościańskich
CATEGORIES:Capoeira
END:VEVENT
BEGIN:VEVENT
DTSTART;TZID=Europe/Warsaw:20241114T193000
DTEND;TZID=Europe/Warsaw:20241114T203000
DTSTAMP:20260422T032512
CREATED:20240912T122533Z
LAST-MODIFIED:20240912T122533Z
UID:49496-1731612600-1731616200@gckib.iwanowice.pl
SUMMARY:Pilates
DESCRIPTION:
URL:https://gckib.iwanowice.pl/wydarzenie/pilates-41/
LOCATION:mała sala przy ZS – P w Iwanowicach Włościańskich
CATEGORIES:Pilates
END:VEVENT
BEGIN:VEVENT
DTSTART;TZID=Europe/Warsaw:20241114T170000
DTEND;TZID=Europe/Warsaw:20241114T174500
DTSTAMP:20260422T032512
CREATED:20240912T122800Z
LAST-MODIFIED:20240912T122800Z
UID:49500-1731603600-1731606300@gckib.iwanowice.pl
SUMMARY:Początkujące Szachy
DESCRIPTION:
URL:https://gckib.iwanowice.pl/wydarzenie/poczatkujace-szachy-7/
LOCATION:Gminne Centrum Kultury i Bibliotek w Iwanowicach\, Strażacka 5\, Iwanowice Włościańskie
CATEGORIES:Szachy
END:VEVENT
BEGIN:VEVENT
DTSTART;TZID=Europe/Warsaw:20241114T161500
DTEND;TZID=Europe/Warsaw:20241114T170000
DTSTAMP:20260422T032512
CREATED:20240912T122637Z
LAST-MODIFIED:20240912T122637Z
UID:49498-1731600900-1731603600@gckib.iwanowice.pl
SUMMARY:Zaawansowane Szachy
DESCRIPTION:
URL:https://gckib.iwanowice.pl/wydarzenie/zaawansowane-szachy-7/
LOCATION:Gminne Centrum Kultury i Bibliotek w Iwanowicach\, Strażacka 5\, Iwanowice Włościańskie
CATEGORIES:Szachy
END:VEVENT
BEGIN:VEVENT
DTSTART;TZID=Europe/Warsaw:20241114T160000
DTEND;TZID=Europe/Warsaw:20241114T170000
DTSTAMP:20260422T032512
CREATED:20240912T122416Z
LAST-MODIFIED:20240912T122416Z
UID:49494-1731600000-1731603600@gckib.iwanowice.pl
SUMMARY:Jump - Judo
DESCRIPTION:
URL:https://gckib.iwanowice.pl/wydarzenie/jump-judo-53/
LOCATION:mała sala przy ZS – P w Iwanowicach Włościańskich
END:VEVENT
BEGIN:VEVENT
DTSTART;TZID=Europe/Warsaw:20241114T143000
DTEND;TZID=Europe/Warsaw:20241114T150000
DTSTAMP:20260422T032512
CREATED:20240912T120047Z
LAST-MODIFIED:20240912T120047Z
UID:49492-1731594600-1731596400@gckib.iwanowice.pl
SUMMARY:Jump - Judo
DESCRIPTION:
URL:https://gckib.iwanowice.pl/wydarzenie/jump-judo-52/
LOCATION:mała sala przy ZS – P w Iwanowicach Włościańskich
CATEGORIES:Jump - Judo
END:VEVENT
BEGIN:VEVENT
DTSTART;TZID=Europe/Warsaw:20241113T190000
DTEND;TZID=Europe/Warsaw:20241113T200000
DTSTAMP:20260422T032512
CREATED:20240912T115326Z
LAST-MODIFIED:20240912T115326Z
UID:49489-1731524400-1731528000@gckib.iwanowice.pl
SUMMARY:Zumba Fitness
DESCRIPTION:
URL:https://gckib.iwanowice.pl/wydarzenie/zumba-fitness-39/
LOCATION:mała sala przy ZS – P w Iwanowicach Włościańskich
END:VEVENT
BEGIN:VEVENT
DTSTART;TZID=Europe/Warsaw:20241113T180000
DTEND;TZID=Europe/Warsaw:20241113T190000
DTSTAMP:20260422T032512
CREATED:20240912T115217Z
LAST-MODIFIED:20240912T115217Z
UID:49487-1731520800-1731524400@gckib.iwanowice.pl
SUMMARY:Zumba Gold
DESCRIPTION:
URL:https://gckib.iwanowice.pl/wydarzenie/zumba-gold-40/
LOCATION:mała sala przy ZS – P w Iwanowicach Włościańskich
CATEGORIES:Zumba gold
END:VEVENT
BEGIN:VEVENT
DTSTART;TZID=Europe/Warsaw:20241112T160000
DTEND;TZID=Europe/Warsaw:20241112T170000
DTSTAMP:20260422T032512
CREATED:20240912T111837Z
LAST-MODIFIED:20240912T111837Z
UID:49475-1731427200-1731430800@gckib.iwanowice.pl
SUMMARY:Jump - Judo
DESCRIPTION:
URL:https://gckib.iwanowice.pl/wydarzenie/jump-judo-51/
LOCATION:mała sala przy ZS – P w Iwanowicach Włościańskich
CATEGORIES:Jump - Judo
END:VEVENT
BEGIN:VEVENT
DTSTART;TZID=Europe/Warsaw:20241112T150000
DTEND;TZID=Europe/Warsaw:20241112T160000
DTSTAMP:20260422T032512
CREATED:20240912T111039Z
LAST-MODIFIED:20240912T111039Z
UID:49471-1731423600-1731427200@gckib.iwanowice.pl
SUMMARY:Rysunkowe ABC
DESCRIPTION:
URL:https://gckib.iwanowice.pl/wydarzenie/rysunkowe-abc-6/
LOCATION:Gminne Centrum Kultury i Bibliotek w Iwanowicach\, Strażacka 5\, Iwanowice Włościańskie
CATEGORIES:Rysunkowe ABC
END:VEVENT
BEGIN:VEVENT
DTSTART;TZID=Europe/Warsaw:20241108T160000
DTEND;TZID=Europe/Warsaw:20241108T170000
DTSTAMP:20260422T032512
CREATED:20240912T110030Z
LAST-MODIFIED:20240912T110030Z
UID:49459-1731081600-1731085200@gckib.iwanowice.pl
SUMMARY:Capoeira
DESCRIPTION:
URL:https://gckib.iwanowice.pl/wydarzenie/capoeira-76/
LOCATION:mała sala przy ZS – P w Iwanowicach Włościańskich
CATEGORIES:Capoeira
END:VEVENT
BEGIN:VEVENT
DTSTART;TZID=Europe/Warsaw:20241108T150000
DTEND;TZID=Europe/Warsaw:20241108T160000
DTSTAMP:20260422T032512
CREATED:20240912T105915Z
LAST-MODIFIED:20240912T110154Z
UID:49457-1731078000-1731081600@gckib.iwanowice.pl
SUMMARY:Capoeira
DESCRIPTION:
URL:https://gckib.iwanowice.pl/wydarzenie/capoeira-70/
LOCATION:mała sala przy ZS – P w Iwanowicach Włościańskich
CATEGORIES:Capoeira
END:VEVENT
END:VCALENDAR