BEGIN:VCALENDAR
VERSION:2.0
PRODID:-//GCKiB - ECPv6.15.20//NONSGML v1.0//EN
CALSCALE:GREGORIAN
METHOD:PUBLISH
X-WR-CALNAME:GCKiB
X-ORIGINAL-URL:https://gckib.iwanowice.pl
X-WR-CALDESC:Wydarzenia dla GCKiB
REFRESH-INTERVAL;VALUE=DURATION:PT1H
X-Robots-Tag:noindex
X-PUBLISHED-TTL:PT1H
BEGIN:VTIMEZONE
TZID:Europe/Warsaw
BEGIN:DAYLIGHT
TZOFFSETFROM:+0100
TZOFFSETTO:+0200
TZNAME:CEST
DTSTART:20230326T010000
END:DAYLIGHT
BEGIN:STANDARD
TZOFFSETFROM:+0200
TZOFFSETTO:+0100
TZNAME:CET
DTSTART:20231029T010000
END:STANDARD
BEGIN:DAYLIGHT
TZOFFSETFROM:+0100
TZOFFSETTO:+0200
TZNAME:CEST
DTSTART:20240331T010000
END:DAYLIGHT
BEGIN:STANDARD
TZOFFSETFROM:+0200
TZOFFSETTO:+0100
TZNAME:CET
DTSTART:20241027T010000
END:STANDARD
BEGIN:DAYLIGHT
TZOFFSETFROM:+0100
TZOFFSETTO:+0200
TZNAME:CEST
DTSTART:20250330T010000
END:DAYLIGHT
BEGIN:STANDARD
TZOFFSETFROM:+0200
TZOFFSETTO:+0100
TZNAME:CET
DTSTART:20251026T010000
END:STANDARD
END:VTIMEZONE
BEGIN:VEVENT
DTSTART;TZID=Europe/Warsaw:20241209T183000
DTEND;TZID=Europe/Warsaw:20241209T193000
DTSTAMP:20260421T235104
CREATED:20240912T133432Z
LAST-MODIFIED:20240912T133432Z
UID:49610-1733769000-1733772600@gckib.iwanowice.pl
SUMMARY:Joga
DESCRIPTION:
URL:https://gckib.iwanowice.pl/wydarzenie/joga-45/
LOCATION:mała sala przy ZS – P w Iwanowicach Włościańskich
CATEGORIES:joga
END:VEVENT
BEGIN:VEVENT
DTSTART;TZID=Europe/Warsaw:20241206T160000
DTEND;TZID=Europe/Warsaw:20241206T170000
DTSTAMP:20260421T235104
CREATED:20240912T132932Z
LAST-MODIFIED:20240912T132932Z
UID:49600-1733500800-1733504400@gckib.iwanowice.pl
SUMMARY:Capoeira
DESCRIPTION:
URL:https://gckib.iwanowice.pl/wydarzenie/capoeira-82/
LOCATION:mała sala przy ZS – P w Iwanowicach Włościańskich
CATEGORIES:Capoeira
END:VEVENT
BEGIN:VEVENT
DTSTART;TZID=Europe/Warsaw:20241206T150000
DTEND;TZID=Europe/Warsaw:20241206T160000
DTSTAMP:20260421T235104
CREATED:20240912T132839Z
LAST-MODIFIED:20240912T132839Z
UID:49596-1733497200-1733500800@gckib.iwanowice.pl
SUMMARY:Capoeira
DESCRIPTION:
URL:https://gckib.iwanowice.pl/wydarzenie/capoeira-81/
LOCATION:mała sala przy ZS – P w Iwanowicach Włościańskich
CATEGORIES:Capoeira
END:VEVENT
BEGIN:VEVENT
DTSTART;TZID=Europe/Warsaw:20241205T193000
DTEND;TZID=Europe/Warsaw:20241205T203000
DTSTAMP:20260421T235104
CREATED:20240912T132719Z
LAST-MODIFIED:20240912T132719Z
UID:49594-1733427000-1733430600@gckib.iwanowice.pl
SUMMARY:Pilates
DESCRIPTION:
URL:https://gckib.iwanowice.pl/wydarzenie/pilates-42/
LOCATION:mała sala przy ZS – P w Iwanowicach Włościańskich
CATEGORIES:Pilates
END:VEVENT
BEGIN:VEVENT
DTSTART;TZID=Europe/Warsaw:20241205T170000
DTEND;TZID=Europe/Warsaw:20241205T174500
DTSTAMP:20260421T235104
CREATED:20240912T132624Z
LAST-MODIFIED:20240912T132624Z
UID:49592-1733418000-1733420700@gckib.iwanowice.pl
SUMMARY:Początkujące Szachy
DESCRIPTION:
URL:https://gckib.iwanowice.pl/wydarzenie/poczatkujace-szachy-9/
LOCATION:Gminne Centrum Kultury i Bibliotek w Iwanowicach\, Strażacka 5\, Iwanowice Włościańskie
CATEGORIES:Szachy
END:VEVENT
BEGIN:VEVENT
DTSTART;TZID=Europe/Warsaw:20241205T161500
DTEND;TZID=Europe/Warsaw:20241205T170000
DTSTAMP:20260421T235104
CREATED:20240912T132525Z
LAST-MODIFIED:20240912T132525Z
UID:49590-1733415300-1733418000@gckib.iwanowice.pl
SUMMARY:Zaawansowane Szachy
DESCRIPTION:
URL:https://gckib.iwanowice.pl/wydarzenie/zaawansowane-szachy-9/
LOCATION:Gminne Centrum Kultury i Bibliotek w Iwanowicach\, Strażacka 5\, Iwanowice Włościańskie
CATEGORIES:Szachy
END:VEVENT
BEGIN:VEVENT
DTSTART;TZID=Europe/Warsaw:20241205T160000
DTEND;TZID=Europe/Warsaw:20241205T170000
DTSTAMP:20260421T235104
CREATED:20240912T132405Z
LAST-MODIFIED:20240912T132405Z
UID:49586-1733414400-1733418000@gckib.iwanowice.pl
SUMMARY:Jump Judo
DESCRIPTION:
URL:https://gckib.iwanowice.pl/wydarzenie/jump-judo-60/
LOCATION:mała sala przy ZS – P w Iwanowicach Włościańskich
CATEGORIES:Jump - Judo
END:VEVENT
BEGIN:VEVENT
DTSTART;TZID=Europe/Warsaw:20241205T143000
DTEND;TZID=Europe/Warsaw:20241205T150000
DTSTAMP:20260421T235104
CREATED:20240912T132317Z
LAST-MODIFIED:20240912T132317Z
UID:49582-1733409000-1733410800@gckib.iwanowice.pl
SUMMARY:Jump Judo
DESCRIPTION:
URL:https://gckib.iwanowice.pl/wydarzenie/jump-judo-59/
LOCATION:mała sala przy ZS – P w Iwanowicach Włościańskich
CATEGORIES:Jump - Judo
END:VEVENT
BEGIN:VEVENT
DTSTART;TZID=Europe/Warsaw:20241204T190000
DTEND;TZID=Europe/Warsaw:20241204T200000
DTSTAMP:20260421T235104
CREATED:20240912T132119Z
LAST-MODIFIED:20240912T132119Z
UID:49577-1733338800-1733342400@gckib.iwanowice.pl
SUMMARY:Zumba Fitness
DESCRIPTION:
URL:https://gckib.iwanowice.pl/wydarzenie/zumba-fitness-41/
LOCATION:mała sala przy ZS – P w Iwanowicach Włościańskich
CATEGORIES:Zumba,Zumba fitness
END:VEVENT
BEGIN:VEVENT
DTSTART;TZID=Europe/Warsaw:20241204T180000
DTEND;TZID=Europe/Warsaw:20241204T190000
DTSTAMP:20260421T235104
CREATED:20240912T132019Z
LAST-MODIFIED:20240912T132019Z
UID:49573-1733335200-1733338800@gckib.iwanowice.pl
SUMMARY:Zumba Gold
DESCRIPTION:
URL:https://gckib.iwanowice.pl/wydarzenie/zumba-gold-42/
LOCATION:mała sala przy ZS – P w Iwanowicach Włościańskich
CATEGORIES:Zumba,Zumba gold
END:VEVENT
BEGIN:VEVENT
DTSTART;TZID=Europe/Warsaw:20241203T160000
DTEND;TZID=Europe/Warsaw:20241203T173000
DTSTAMP:20260421T235104
CREATED:20240912T131049Z
LAST-MODIFIED:20240912T131049Z
UID:49555-1733241600-1733247000@gckib.iwanowice.pl
SUMMARY:Jump Judo
DESCRIPTION:
URL:https://gckib.iwanowice.pl/wydarzenie/jump-judo-57/
LOCATION:mała sala przy ZS – P w Iwanowicach Włościańskich
CATEGORIES:Jump - Judo
END:VEVENT
BEGIN:VEVENT
DTSTART;TZID=Europe/Warsaw:20241203T150000
DTEND;TZID=Europe/Warsaw:20241203T160000
DTSTAMP:20260421T235104
CREATED:20240912T130912Z
LAST-MODIFIED:20240912T130912Z
UID:49553-1733238000-1733241600@gckib.iwanowice.pl
SUMMARY:Rysunkowe ABC
DESCRIPTION:
URL:https://gckib.iwanowice.pl/wydarzenie/rysunkowe-abc-8/
LOCATION:Gminne Centrum Kultury i Bibliotek w Iwanowicach\, Strażacka 5\, Iwanowice Włościańskie
CATEGORIES:Rysunkowe ABC
END:VEVENT
BEGIN:VEVENT
DTSTART;TZID=Europe/Warsaw:20241202T183000
DTEND;TZID=Europe/Warsaw:20241202T193000
DTSTAMP:20260421T235104
CREATED:20240912T125832Z
LAST-MODIFIED:20240912T130604Z
UID:49530-1733164200-1733167800@gckib.iwanowice.pl
SUMMARY:Joga
DESCRIPTION:
URL:https://gckib.iwanowice.pl/wydarzenie/joga-43/
LOCATION:mała sala przy ZS – P w Iwanowicach Włościańskich
CATEGORIES:joga
END:VEVENT
BEGIN:VEVENT
DTSTART;TZID=Europe/Warsaw:20241129T160000
DTEND;TZID=Europe/Warsaw:20241129T170000
DTSTAMP:20260421T235104
CREATED:20240912T133855Z
LAST-MODIFIED:20240912T133933Z
UID:49617-1732896000-1732899600@gckib.iwanowice.pl
SUMMARY:Capoeira
DESCRIPTION:
URL:https://gckib.iwanowice.pl/wydarzenie/capoeira-84/
LOCATION:mała sala przy ZS – P w Iwanowicach Włościańskich
END:VEVENT
BEGIN:VEVENT
DTSTART;TZID=Europe/Warsaw:20241129T150000
DTEND;TZID=Europe/Warsaw:20241129T160000
DTSTAMP:20260421T235104
CREATED:20240912T133737Z
LAST-MODIFIED:20240912T133737Z
UID:49612-1732892400-1732896000@gckib.iwanowice.pl
SUMMARY:Capoeira
DESCRIPTION:
URL:https://gckib.iwanowice.pl/wydarzenie/capoeira-83/
LOCATION:mała sala przy ZS – P w Iwanowicach Włościańskich
CATEGORIES:Capoeira
END:VEVENT
BEGIN:VEVENT
DTSTART;TZID=Europe/Warsaw:20241128T193000
DTEND;TZID=Europe/Warsaw:20241128T203000
DTSTAMP:20260421T235104
CREATED:20240912T133355Z
LAST-MODIFIED:20240912T133355Z
UID:49609-1732822200-1732825800@gckib.iwanowice.pl
SUMMARY:Pilates
DESCRIPTION:
URL:https://gckib.iwanowice.pl/wydarzenie/pilates-43/
LOCATION:mała sala przy ZS – P w Iwanowicach Włościańskich
CATEGORIES:Pilates
END:VEVENT
BEGIN:VEVENT
DTSTART;TZID=Europe/Warsaw:20241128T170000
DTEND;TZID=Europe/Warsaw:20241128T174500
DTSTAMP:20260421T235104
CREATED:20240912T134614Z
LAST-MODIFIED:20240912T134614Z
UID:49638-1732813200-1732815900@gckib.iwanowice.pl
SUMMARY:Początkujące Szachy
DESCRIPTION:
URL:https://gckib.iwanowice.pl/wydarzenie/poczatkujace-szachy-10/
LOCATION:Gminne Centrum Kultury i Bibliotek w Iwanowicach\, Strażacka 5\, Iwanowice Włościańskie
CATEGORIES:Szachy
END:VEVENT
BEGIN:VEVENT
DTSTART;TZID=Europe/Warsaw:20241128T161500
DTEND;TZID=Europe/Warsaw:20241128T170000
DTSTAMP:20260421T235104
CREATED:20240912T134503Z
LAST-MODIFIED:20240912T134503Z
UID:49633-1732810500-1732813200@gckib.iwanowice.pl
SUMMARY:Zaawansowane Szachy
DESCRIPTION:
URL:https://gckib.iwanowice.pl/wydarzenie/zaawansowane-szachy-10/
LOCATION:Gminne Centrum Kultury i Bibliotek w Iwanowicach\, Strażacka 5\, Iwanowice Włościańskie
CATEGORIES:Szachy
END:VEVENT
BEGIN:VEVENT
DTSTART;TZID=Europe/Warsaw:20241128T160000
DTEND;TZID=Europe/Warsaw:20241128T170000
DTSTAMP:20260421T235104
CREATED:20240912T133208Z
LAST-MODIFIED:20240912T133208Z
UID:49607-1732809600-1732813200@gckib.iwanowice.pl
SUMMARY:Jump - Judo
DESCRIPTION:
URL:https://gckib.iwanowice.pl/wydarzenie/jump-judo-62/
LOCATION:mała sala przy ZS – P w Iwanowicach Włościańskich
CATEGORIES:Jump - Judo
END:VEVENT
BEGIN:VEVENT
DTSTART;TZID=Europe/Warsaw:20241128T143000
DTEND;TZID=Europe/Warsaw:20241128T150000
DTSTAMP:20260421T235104
CREATED:20240912T133102Z
LAST-MODIFIED:20240912T133102Z
UID:49603-1732804200-1732806000@gckib.iwanowice.pl
SUMMARY:Jump - Judo
DESCRIPTION:
URL:https://gckib.iwanowice.pl/wydarzenie/jump-judo-61/
LOCATION:mała sala przy ZS – P w Iwanowicach Włościańskich
CATEGORIES:Jump - Judo
END:VEVENT
BEGIN:VEVENT
DTSTART;TZID=Europe/Warsaw:20241127T190000
DTEND;TZID=Europe/Warsaw:20241127T200000
DTSTAMP:20260421T235104
CREATED:20240912T132944Z
LAST-MODIFIED:20240912T132944Z
UID:49598-1732734000-1732737600@gckib.iwanowice.pl
SUMMARY:Zumba Fitness
DESCRIPTION:
URL:https://gckib.iwanowice.pl/wydarzenie/zumba-fitness-42/
LOCATION:Gminne Centrum Kultury i Bibliotek w Iwanowicach\, Strażacka 5\, Iwanowice Włościańskie
CATEGORIES:Zumba fitness
END:VEVENT
BEGIN:VEVENT
DTSTART;TZID=Europe/Warsaw:20241127T180000
DTEND;TZID=Europe/Warsaw:20241127T190000
DTSTAMP:20260421T235104
CREATED:20240912T134322Z
LAST-MODIFIED:20240912T134322Z
UID:49628-1732730400-1732734000@gckib.iwanowice.pl
SUMMARY:Zumba Gold
DESCRIPTION:
URL:https://gckib.iwanowice.pl/wydarzenie/zumba-gold-44/
LOCATION:mała sala przy ZS – P w Iwanowicach Włościańskich
CATEGORIES:Zumba gold
END:VEVENT
BEGIN:VEVENT
DTSTART;TZID=Europe/Warsaw:20241126T160000
DTEND;TZID=Europe/Warsaw:20241126T170000
DTSTAMP:20260421T235104
CREATED:20240912T132011Z
LAST-MODIFIED:20240912T132011Z
UID:49574-1732636800-1732640400@gckib.iwanowice.pl
SUMMARY:Jump - Judo
DESCRIPTION:
URL:https://gckib.iwanowice.pl/wydarzenie/jump-judo-58/
LOCATION:mała sala przy ZS – P w Iwanowicach Włościańskich
CATEGORIES:Jump - Judo
END:VEVENT
BEGIN:VEVENT
DTSTART;TZID=Europe/Warsaw:20241126T150000
DTEND;TZID=Europe/Warsaw:20241126T160000
DTSTAMP:20260421T235104
CREATED:20240912T131904Z
LAST-MODIFIED:20240912T131904Z
UID:49570-1732633200-1732636800@gckib.iwanowice.pl
SUMMARY:Rysunkowe ABC
DESCRIPTION:
URL:https://gckib.iwanowice.pl/wydarzenie/rysunkowe-abc-9/
LOCATION:Gminne Centrum Kultury i Bibliotek w Iwanowicach\, Strażacka 5\, Iwanowice Włościańskie
CATEGORIES:Rysunkowe ABC
END:VEVENT
BEGIN:VEVENT
DTSTART;TZID=Europe/Warsaw:20241125T183000
DTEND;TZID=Europe/Warsaw:20241125T193000
DTSTAMP:20260421T235104
CREATED:20240912T131259Z
LAST-MODIFIED:20240912T131259Z
UID:49560-1732559400-1732563000@gckib.iwanowice.pl
SUMMARY:Joga
DESCRIPTION:
URL:https://gckib.iwanowice.pl/wydarzenie/joga-44/
LOCATION:mała sala przy ZS – P w Iwanowicach Włościańskich
CATEGORIES:joga
END:VEVENT
BEGIN:VEVENT
DTSTART;TZID=Europe/Warsaw:20241122T160000
DTEND;TZID=Europe/Warsaw:20241122T170000
DTSTAMP:20260421T235104
CREATED:20240912T130527Z
LAST-MODIFIED:20240912T130527Z
UID:49549-1732291200-1732294800@gckib.iwanowice.pl
SUMMARY:Capoeira
DESCRIPTION:
URL:https://gckib.iwanowice.pl/wydarzenie/capoeira-80/
LOCATION:mała sala przy ZS – P w Iwanowicach Włościańskich
CATEGORIES:Capoeira
END:VEVENT
BEGIN:VEVENT
DTSTART;TZID=Europe/Warsaw:20241122T150000
DTEND;TZID=Europe/Warsaw:20241122T160000
DTSTAMP:20260421T235104
CREATED:20240912T130426Z
LAST-MODIFIED:20240912T130426Z
UID:49546-1732287600-1732291200@gckib.iwanowice.pl
SUMMARY:Capoeira
DESCRIPTION:
URL:https://gckib.iwanowice.pl/wydarzenie/capoeira-79/
LOCATION:mała sala przy ZS – P w Iwanowicach Włościańskich
CATEGORIES:Capoeira
END:VEVENT
BEGIN:VEVENT
DTSTART;TZID=Europe/Warsaw:20241121T193000
DTEND;TZID=Europe/Warsaw:20241121T203000
DTSTAMP:20260421T235104
CREATED:20240912T130249Z
LAST-MODIFIED:20240912T130312Z
UID:49542-1732217400-1732221000@gckib.iwanowice.pl
SUMMARY:Pilates
DESCRIPTION:
URL:https://gckib.iwanowice.pl/wydarzenie/pilatess-2/
LOCATION:mała sala przy ZS – P w Iwanowicach Włościańskich
CATEGORIES:Pilates
END:VEVENT
BEGIN:VEVENT
DTSTART;TZID=Europe/Warsaw:20241121T170000
DTEND;TZID=Europe/Warsaw:20241121T174500
DTSTAMP:20260421T235104
CREATED:20240912T130140Z
LAST-MODIFIED:20240912T130140Z
UID:49540-1732208400-1732211100@gckib.iwanowice.pl
SUMMARY:Początkujące Szachy
DESCRIPTION:
URL:https://gckib.iwanowice.pl/wydarzenie/poczatkujace-szachy-8/
LOCATION:Gminne Centrum Kultury i Bibliotek w Iwanowicach\, Strażacka 5\, Iwanowice Włościańskie
CATEGORIES:Szachy
END:VEVENT
BEGIN:VEVENT
DTSTART;TZID=Europe/Warsaw:20241121T161500
DTEND;TZID=Europe/Warsaw:20241121T170000
DTSTAMP:20260421T235104
CREATED:20240912T130035Z
LAST-MODIFIED:20240912T130035Z
UID:49537-1732205700-1732208400@gckib.iwanowice.pl
SUMMARY:Zaawansowane Szachy
DESCRIPTION:
URL:https://gckib.iwanowice.pl/wydarzenie/zaawansowane-szachy-8/
LOCATION:Gminne Centrum Kultury i Bibliotek w Iwanowicach\, Strażacka 5\, Iwanowice Włościańskie
CATEGORIES:Szachy
END:VEVENT
END:VCALENDAR