BEGIN:VCALENDAR
VERSION:2.0
PRODID:-//GCKiB - ECPv6.15.20//NONSGML v1.0//EN
CALSCALE:GREGORIAN
METHOD:PUBLISH
X-ORIGINAL-URL:https://gckib.iwanowice.pl
X-WR-CALDESC:Wydarzenia dla GCKiB
REFRESH-INTERVAL;VALUE=DURATION:PT1H
X-Robots-Tag:noindex
X-PUBLISHED-TTL:PT1H
BEGIN:VTIMEZONE
TZID:Europe/Warsaw
BEGIN:DAYLIGHT
TZOFFSETFROM:+0100
TZOFFSETTO:+0200
TZNAME:CEST
DTSTART:20240331T010000
END:DAYLIGHT
BEGIN:STANDARD
TZOFFSETFROM:+0200
TZOFFSETTO:+0100
TZNAME:CET
DTSTART:20241027T010000
END:STANDARD
BEGIN:DAYLIGHT
TZOFFSETFROM:+0100
TZOFFSETTO:+0200
TZNAME:CEST
DTSTART:20250330T010000
END:DAYLIGHT
BEGIN:STANDARD
TZOFFSETFROM:+0200
TZOFFSETTO:+0100
TZNAME:CET
DTSTART:20251026T010000
END:STANDARD
BEGIN:DAYLIGHT
TZOFFSETFROM:+0100
TZOFFSETTO:+0200
TZNAME:CEST
DTSTART:20260329T010000
END:DAYLIGHT
BEGIN:STANDARD
TZOFFSETFROM:+0200
TZOFFSETTO:+0100
TZNAME:CET
DTSTART:20261025T010000
END:STANDARD
END:VTIMEZONE
BEGIN:VEVENT
DTSTART;TZID=Europe/Warsaw:20250221T160000
DTEND;TZID=Europe/Warsaw:20250221T160000
DTSTAMP:20260421T045626
CREATED:20250210T121611Z
LAST-MODIFIED:20250210T121611Z
UID:50940-1740153600-1740153600@gckib.iwanowice.pl
SUMMARY:Otwarcie Muzeum w Iwanowicach
DESCRIPTION:
URL:https://gckib.iwanowice.pl/wydarzenie/otwarcie-muzeum-w-iwanowicach/
END:VEVENT
BEGIN:VEVENT
DTSTART;TZID=Europe/Warsaw:20250221T150000
DTEND;TZID=Europe/Warsaw:20250221T160000
DTSTAMP:20260421T045626
CREATED:20250227T141044Z
LAST-MODIFIED:20250227T141044Z
UID:51459-1740150000-1740153600@gckib.iwanowice.pl
SUMMARY:Capoeira początkująca
DESCRIPTION:
URL:https://gckib.iwanowice.pl/wydarzenie/capoeira-poczatkujaca-7/
LOCATION:mała sala przy ZS – P w Iwanowicach Włościańskich
CATEGORIES:Capoeira
END:VEVENT
BEGIN:VEVENT
DTSTART;TZID=Europe/Warsaw:20250221T150000
DTEND;TZID=Europe/Warsaw:20250221T160000
DTSTAMP:20260421T045626
CREATED:20250210T124228Z
LAST-MODIFIED:20250210T124228Z
UID:50975-1740150000-1740153600@gckib.iwanowice.pl
SUMMARY:Capoeira początkująca
DESCRIPTION:
URL:https://gckib.iwanowice.pl/wydarzenie/capoeira-poczatkujaca-3/
CATEGORIES:Capoeira
END:VEVENT
BEGIN:VEVENT
DTSTART;TZID=Europe/Warsaw:20250220T193000
DTEND;TZID=Europe/Warsaw:20250220T203000
DTSTAMP:20260421T045626
CREATED:20250210T121248Z
LAST-MODIFIED:20250210T121248Z
UID:50934-1740079800-1740083400@gckib.iwanowice.pl
SUMMARY:Pilates
DESCRIPTION:
URL:https://gckib.iwanowice.pl/wydarzenie/pilates-53/
CATEGORIES:Pilates
END:VEVENT
BEGIN:VEVENT
DTSTART;TZID=Europe/Warsaw:20250220T164500
DTEND;TZID=Europe/Warsaw:20250220T173000
DTSTAMP:20260421T045626
CREATED:20250210T123258Z
LAST-MODIFIED:20250210T123349Z
UID:50961-1740069900-1740072600@gckib.iwanowice.pl
SUMMARY:Szachy początkująca
DESCRIPTION:
URL:https://gckib.iwanowice.pl/wydarzenie/szachy-poczatkujaca-2/
CATEGORIES:Szachy
END:VEVENT
BEGIN:VEVENT
DTSTART;TZID=Europe/Warsaw:20250220T160000
DTEND;TZID=Europe/Warsaw:20250220T164500
DTSTAMP:20260421T045626
CREATED:20250210T123202Z
LAST-MODIFIED:20250210T123202Z
UID:50959-1740067200-1740069900@gckib.iwanowice.pl
SUMMARY:Szachy zaawansowana
DESCRIPTION:
URL:https://gckib.iwanowice.pl/wydarzenie/szachy-zaawansowana-2/
CATEGORIES:Szachy
END:VEVENT
BEGIN:VEVENT
DTSTART;TZID=Europe/Warsaw:20250219T190000
DTEND;TZID=Europe/Warsaw:20250219T200000
DTSTAMP:20260421T045626
CREATED:20250210T121927Z
LAST-MODIFIED:20250210T121927Z
UID:50944-1739991600-1739995200@gckib.iwanowice.pl
SUMMARY:Zumba Fitness
DESCRIPTION:
URL:https://gckib.iwanowice.pl/wydarzenie/zumba-fitness-48/
CATEGORIES:Zumba fitness
END:VEVENT
BEGIN:VEVENT
DTSTART;TZID=Europe/Warsaw:20250219T180000
DTEND;TZID=Europe/Warsaw:20250219T190000
DTSTAMP:20260421T045626
CREATED:20250210T121820Z
LAST-MODIFIED:20250210T121820Z
UID:50942-1739988000-1739991600@gckib.iwanowice.pl
SUMMARY:Zumba GOLD
DESCRIPTION:
URL:https://gckib.iwanowice.pl/wydarzenie/zumba-gold-50/
CATEGORIES:Zumba gold
END:VEVENT
BEGIN:VEVENT
DTSTART;TZID=Europe/Warsaw:20250218T150000
DTEND;TZID=Europe/Warsaw:20250218T160000
DTSTAMP:20260421T045626
CREATED:20250210T104002Z
LAST-MODIFIED:20250210T104002Z
UID:50923-1739890800-1739894400@gckib.iwanowice.pl
SUMMARY:Rysunkowe ABC
DESCRIPTION:
URL:https://gckib.iwanowice.pl/wydarzenie/rysunkowe-abc-16/
CATEGORIES:Rysunkowe ABC
END:VEVENT
BEGIN:VEVENT
DTSTART;TZID=Europe/Warsaw:20250218T120000
DTEND;TZID=Europe/Warsaw:20250218T190000
DTSTAMP:20260421T045626
CREATED:20250210T102827Z
LAST-MODIFIED:20250210T102942Z
UID:50915-1739880000-1739905200@gckib.iwanowice.pl
SUMMARY:Pianino
DESCRIPTION:
URL:https://gckib.iwanowice.pl/wydarzenie/pianino-12/
LOCATION:Gminne Centrum Kultury i Bibliotek w Iwanowicach\, Strażacka 5\, Iwanowice Włościańskie
CATEGORIES:Pianino
END:VEVENT
BEGIN:VEVENT
DTSTART;TZID=Europe/Warsaw:20250217T183000
DTEND;TZID=Europe/Warsaw:20250217T193000
DTSTAMP:20260421T045626
CREATED:20250227T102414Z
LAST-MODIFIED:20250227T102414Z
UID:51369-1739817000-1739820600@gckib.iwanowice.pl
SUMMARY:Joga
DESCRIPTION:
URL:https://gckib.iwanowice.pl/wydarzenie/joga-58/
LOCATION:mała sala przy ZS – P w Iwanowicach Włościańskich
CATEGORIES:joga
END:VEVENT
BEGIN:VEVENT
DTSTART;TZID=Europe/Warsaw:20250217T183000
DTEND;TZID=Europe/Warsaw:20250217T193000
DTSTAMP:20260421T045626
CREATED:20250117T154303Z
LAST-MODIFIED:20250117T154303Z
UID:50632-1739817000-1739820600@gckib.iwanowice.pl
SUMMARY:Joga
DESCRIPTION:
URL:https://gckib.iwanowice.pl/wydarzenie/joga-54/
CATEGORIES:joga
END:VEVENT
BEGIN:VEVENT
DTSTART;TZID=Europe/Warsaw:20250217T163000
DTEND;TZID=Europe/Warsaw:20250217T180000
DTSTAMP:20260421T045626
CREATED:20250117T153748Z
LAST-MODIFIED:20250117T153748Z
UID:50626-1739809800-1739815200@gckib.iwanowice.pl
SUMMARY:Zajęcia tworzenia biżuterii
DESCRIPTION:
URL:https://gckib.iwanowice.pl/wydarzenie/zajecia-tworzenia-bizuterii-2/
END:VEVENT
BEGIN:VEVENT
DTSTART;TZID=Europe/Warsaw:20250217T131500
DTEND;TZID=Europe/Warsaw:20250217T184500
DTSTAMP:20260421T045626
CREATED:20250117T153028Z
LAST-MODIFIED:20250117T153028Z
UID:50616-1739798100-1739817900@gckib.iwanowice.pl
SUMMARY:Zajęcia wokalne
DESCRIPTION:
URL:https://gckib.iwanowice.pl/wydarzenie/zajecia-wokalne-35/
CATEGORIES:wokal
END:VEVENT
BEGIN:VEVENT
DTSTART;TZID=Europe/Warsaw:20250214T160000
DTEND;TZID=Europe/Warsaw:20250214T170000
DTSTAMP:20260421T045626
CREATED:20250210T124117Z
LAST-MODIFIED:20250210T124117Z
UID:50973-1739548800-1739552400@gckib.iwanowice.pl
SUMMARY:Capoeira zaawansowana
DESCRIPTION:
URL:https://gckib.iwanowice.pl/wydarzenie/capoeira-zaawansowana-2/
CATEGORIES:Capoeira
END:VEVENT
BEGIN:VEVENT
DTSTART;TZID=Europe/Warsaw:20250214T150000
DTEND;TZID=Europe/Warsaw:20250214T160000
DTSTAMP:20260421T045626
CREATED:20250210T124032Z
LAST-MODIFIED:20250210T124032Z
UID:50971-1739545200-1739548800@gckib.iwanowice.pl
SUMMARY:Capoeira początkująca
DESCRIPTION:
URL:https://gckib.iwanowice.pl/wydarzenie/capoeira-poczatkujaca-2/
CATEGORIES:Capoeira
END:VEVENT
BEGIN:VEVENT
DTSTART;TZID=Europe/Warsaw:20250213T193000
DTEND;TZID=Europe/Warsaw:20250213T203000
DTSTAMP:20260421T045626
CREATED:20250210T114540Z
LAST-MODIFIED:20250210T114540Z
UID:50930-1739475000-1739478600@gckib.iwanowice.pl
SUMMARY:Pilates
DESCRIPTION:
URL:https://gckib.iwanowice.pl/wydarzenie/pilates-51/
LOCATION:mała sala przy ZS – P w Iwanowicach Włościańskich
CATEGORIES:Pilates
END:VEVENT
BEGIN:VEVENT
DTSTART;TZID=Europe/Warsaw:20250213T164500
DTEND;TZID=Europe/Warsaw:20250213T173000
DTSTAMP:20260421T045626
CREATED:20250210T123043Z
LAST-MODIFIED:20250210T123503Z
UID:50957-1739465100-1739467800@gckib.iwanowice.pl
SUMMARY:Szachy początkująca
DESCRIPTION:
URL:https://gckib.iwanowice.pl/wydarzenie/szachy-poczatkujaca/
CATEGORIES:Szachy
END:VEVENT
BEGIN:VEVENT
DTSTART;TZID=Europe/Warsaw:20250213T160000
DTEND;TZID=Europe/Warsaw:20250213T164500
DTSTAMP:20260421T045626
CREATED:20250210T122945Z
LAST-MODIFIED:20250210T122945Z
UID:50955-1739462400-1739465100@gckib.iwanowice.pl
SUMMARY:Szachy zaawansowana
DESCRIPTION:
URL:https://gckib.iwanowice.pl/wydarzenie/szachy-zaawansowana/
CATEGORIES:Szachy
END:VEVENT
BEGIN:VEVENT
DTSTART;TZID=Europe/Warsaw:20250212T190000
DTEND;TZID=Europe/Warsaw:20250212T200000
DTSTAMP:20260421T045626
CREATED:20250117T154940Z
LAST-MODIFIED:20250117T154940Z
UID:50643-1739386800-1739390400@gckib.iwanowice.pl
SUMMARY:Zumba Fitness
DESCRIPTION:
URL:https://gckib.iwanowice.pl/wydarzenie/zumba-fitness-47/
CATEGORIES:Zumba fitness
END:VEVENT
BEGIN:VEVENT
DTSTART;TZID=Europe/Warsaw:20250212T180000
DTEND;TZID=Europe/Warsaw:20250212T190000
DTSTAMP:20260421T045626
CREATED:20250117T154840Z
LAST-MODIFIED:20250117T154840Z
UID:50641-1739383200-1739386800@gckib.iwanowice.pl
SUMMARY:Zumba Gold
DESCRIPTION:
URL:https://gckib.iwanowice.pl/wydarzenie/zumba-gold-49/
CATEGORIES:Zumba gold
END:VEVENT
BEGIN:VEVENT
DTSTART;TZID=Europe/Warsaw:20250212T161500
DTEND;TZID=Europe/Warsaw:20250212T181500
DTSTAMP:20260421T045626
CREATED:20250210T104331Z
LAST-MODIFIED:20250210T114342Z
UID:50928-1739376900-1739384100@gckib.iwanowice.pl
SUMMARY:Warsztaty WALENTYNKA
DESCRIPTION:
URL:https://gckib.iwanowice.pl/wydarzenie/warsztaty-walentynka/
END:VEVENT
BEGIN:VEVENT
DTSTART;TZID=Europe/Warsaw:20250211T150000
DTEND;TZID=Europe/Warsaw:20250211T160000
DTSTAMP:20260421T045626
CREATED:20250210T103908Z
LAST-MODIFIED:20250210T103908Z
UID:50921-1739286000-1739289600@gckib.iwanowice.pl
SUMMARY:Rysunkowe ABC
DESCRIPTION:
URL:https://gckib.iwanowice.pl/wydarzenie/rysunkowe-abc-13/
CATEGORIES:Rysunkowe ABC
END:VEVENT
BEGIN:VEVENT
DTSTART;TZID=Europe/Warsaw:20250211T120000
DTEND;TZID=Europe/Warsaw:20250211T190000
DTSTAMP:20260421T045626
CREATED:20250210T102732Z
LAST-MODIFIED:20250210T125205Z
UID:50913-1739275200-1739300400@gckib.iwanowice.pl
SUMMARY:Pianino
DESCRIPTION:
URL:https://gckib.iwanowice.pl/wydarzenie/pianino-11/
CATEGORIES:Pianino
END:VEVENT
BEGIN:VEVENT
DTSTART;TZID=Europe/Warsaw:20250210T183000
DTEND;TZID=Europe/Warsaw:20250210T193000
DTSTAMP:20260421T045626
CREATED:20250117T154215Z
LAST-MODIFIED:20250117T154215Z
UID:50630-1739212200-1739215800@gckib.iwanowice.pl
SUMMARY:Joga
DESCRIPTION:
URL:https://gckib.iwanowice.pl/wydarzenie/joga-53/
CATEGORIES:joga
END:VEVENT
BEGIN:VEVENT
DTSTART;TZID=Europe/Warsaw:20250210T163000
DTEND;TZID=Europe/Warsaw:20250210T180000
DTSTAMP:20260421T045626
CREATED:20250117T153442Z
LAST-MODIFIED:20250117T153442Z
UID:50620-1739205000-1739210400@gckib.iwanowice.pl
SUMMARY:Zajęcia haftu dla dzieci
DESCRIPTION:
URL:https://gckib.iwanowice.pl/wydarzenie/zajecia-haftu-dla-dzieci/
END:VEVENT
BEGIN:VEVENT
DTSTART;TZID=Europe/Warsaw:20250210T131500
DTEND;TZID=Europe/Warsaw:20250210T184500
DTSTAMP:20260421T045626
CREATED:20250117T152918Z
LAST-MODIFIED:20250117T152918Z
UID:50614-1739193300-1739213100@gckib.iwanowice.pl
SUMMARY:Zajęcia wokalne
DESCRIPTION:
URL:https://gckib.iwanowice.pl/wydarzenie/zajecia-wokalne-34/
CATEGORIES:wokal
END:VEVENT
BEGIN:VEVENT
DTSTART;TZID=Europe/Warsaw:20250207T160000
DTEND;TZID=Europe/Warsaw:20250207T170000
DTSTAMP:20260421T045626
CREATED:20250210T123926Z
LAST-MODIFIED:20250210T123926Z
UID:50969-1738944000-1738947600@gckib.iwanowice.pl
SUMMARY:Capoeira zaawansowana
DESCRIPTION:
URL:https://gckib.iwanowice.pl/wydarzenie/capoeira-zaawansowana/
CATEGORIES:Capoeira
END:VEVENT
BEGIN:VEVENT
DTSTART;TZID=Europe/Warsaw:20250207T150000
DTEND;TZID=Europe/Warsaw:20250207T160000
DTSTAMP:20260421T045626
CREATED:20250210T123838Z
LAST-MODIFIED:20250210T124425Z
UID:50967-1738940400-1738944000@gckib.iwanowice.pl
SUMMARY:Capoeira początkująca
DESCRIPTION:
URL:https://gckib.iwanowice.pl/wydarzenie/capoeira-poczatkujaca/
CATEGORIES:Capoeira
END:VEVENT
BEGIN:VEVENT
DTSTART;TZID=Europe/Warsaw:20250206T193000
DTEND;TZID=Europe/Warsaw:20250206T203000
DTSTAMP:20260421T045626
CREATED:20250210T121150Z
LAST-MODIFIED:20250210T121150Z
UID:50932-1738870200-1738873800@gckib.iwanowice.pl
SUMMARY:Pilates
DESCRIPTION:
URL:https://gckib.iwanowice.pl/wydarzenie/pilates-52/
CATEGORIES:Pilates
END:VEVENT
END:VCALENDAR