BEGIN:VCALENDAR
VERSION:2.0
PRODID:-//GCKiB - ECPv6.15.20//NONSGML v1.0//EN
CALSCALE:GREGORIAN
METHOD:PUBLISH
X-ORIGINAL-URL:https://gckib.iwanowice.pl
X-WR-CALDESC:Wydarzenia dla GCKiB
REFRESH-INTERVAL;VALUE=DURATION:PT1H
X-Robots-Tag:noindex
X-PUBLISHED-TTL:PT1H
BEGIN:VTIMEZONE
TZID:Europe/Warsaw
BEGIN:DAYLIGHT
TZOFFSETFROM:+0100
TZOFFSETTO:+0200
TZNAME:CEST
DTSTART:20240331T010000
END:DAYLIGHT
BEGIN:STANDARD
TZOFFSETFROM:+0200
TZOFFSETTO:+0100
TZNAME:CET
DTSTART:20241027T010000
END:STANDARD
BEGIN:DAYLIGHT
TZOFFSETFROM:+0100
TZOFFSETTO:+0200
TZNAME:CEST
DTSTART:20250330T010000
END:DAYLIGHT
BEGIN:STANDARD
TZOFFSETFROM:+0200
TZOFFSETTO:+0100
TZNAME:CET
DTSTART:20251026T010000
END:STANDARD
BEGIN:DAYLIGHT
TZOFFSETFROM:+0100
TZOFFSETTO:+0200
TZNAME:CEST
DTSTART:20260329T010000
END:DAYLIGHT
BEGIN:STANDARD
TZOFFSETFROM:+0200
TZOFFSETTO:+0100
TZNAME:CET
DTSTART:20261025T010000
END:STANDARD
END:VTIMEZONE
BEGIN:VEVENT
DTSTART;TZID=Europe/Warsaw:20250310T150000
DTEND;TZID=Europe/Warsaw:20250310T160000
DTSTAMP:20260420T232614
CREATED:20250227T113236Z
LAST-MODIFIED:20250227T113236Z
UID:51407-1741618800-1741622400@gckib.iwanowice.pl
SUMMARY:Robotyka
DESCRIPTION:
URL:https://gckib.iwanowice.pl/wydarzenie/robotyka/
LOCATION:Muzeum Regionalne
CATEGORIES:Robotyka
END:VEVENT
BEGIN:VEVENT
DTSTART;TZID=Europe/Warsaw:20250310T130000
DTEND;TZID=Europe/Warsaw:20250310T180000
DTSTAMP:20260420T232614
CREATED:20250227T102205Z
LAST-MODIFIED:20250227T102205Z
UID:51365-1741611600-1741629600@gckib.iwanowice.pl
SUMMARY:Wokal
DESCRIPTION:
URL:https://gckib.iwanowice.pl/wydarzenie/wokal-2/
LOCATION:GCKiB w Iwanowicach
CATEGORIES:wokal
END:VEVENT
BEGIN:VEVENT
DTSTART;TZID=Europe/Warsaw:20250308T100000
DTEND;TZID=Europe/Warsaw:20250309T160000
DTSTAMP:20260420T232614
CREATED:20250227T090721Z
LAST-MODIFIED:20250227T090800Z
UID:51353-1741428000-1741536000@gckib.iwanowice.pl
SUMMARY:Muzeum Regionalne
DESCRIPTION:
URL:https://gckib.iwanowice.pl/wydarzenie/muzeum-regionalne/
LOCATION:Muzeum Regionane
CATEGORIES:Muzeum Regionalne
END:VEVENT
BEGIN:VEVENT
DTSTART;TZID=Europe/Warsaw:20250307T160000
DTEND;TZID=Europe/Warsaw:20250307T170000
DTSTAMP:20260420T232614
CREATED:20250227T090541Z
LAST-MODIFIED:20250227T090541Z
UID:51351-1741363200-1741366800@gckib.iwanowice.pl
SUMMARY:Capoeira zaawansowana
DESCRIPTION:
URL:https://gckib.iwanowice.pl/wydarzenie/capoeira-zaawansowana-5/
LOCATION:mała sala przy ZS – P w Iwanowicach Włościańskich
CATEGORIES:Capoeira
END:VEVENT
BEGIN:VEVENT
DTSTART;TZID=Europe/Warsaw:20250307T150000
DTEND;TZID=Europe/Warsaw:20250307T160000
DTSTAMP:20260420T232614
CREATED:20250227T090455Z
LAST-MODIFIED:20250227T090455Z
UID:51349-1741359600-1741363200@gckib.iwanowice.pl
SUMMARY:Capoeira początkująca
DESCRIPTION:
URL:https://gckib.iwanowice.pl/wydarzenie/capoeira-poczatkujaca-5/
LOCATION:mała sala przy ZS – P w Iwanowicach Włościańskich
CATEGORIES:Capoeira
END:VEVENT
BEGIN:VEVENT
DTSTART;TZID=Europe/Warsaw:20250306T193000
DTEND;TZID=Europe/Warsaw:20250306T203000
DTSTAMP:20260420T232614
CREATED:20250226T150354Z
LAST-MODIFIED:20250226T150354Z
UID:51334-1741289400-1741293000@gckib.iwanowice.pl
SUMMARY:Pilates
DESCRIPTION:
URL:https://gckib.iwanowice.pl/wydarzenie/pilates-55/
LOCATION:mała sala przy ZS – P w Iwanowicach Włościańskich
CATEGORIES:Pilates
END:VEVENT
BEGIN:VEVENT
DTSTART;TZID=Europe/Warsaw:20250306T164500
DTEND;TZID=Europe/Warsaw:20250306T173000
DTSTAMP:20260420T232614
CREATED:20250226T150308Z
LAST-MODIFIED:20250226T150308Z
UID:51332-1741279500-1741282200@gckib.iwanowice.pl
SUMMARY:Szachy początkujące
DESCRIPTION:
URL:https://gckib.iwanowice.pl/wydarzenie/szachy-poczatkujace-2/
LOCATION:GCKiB w Iwanowicach
CATEGORIES:Szachy
END:VEVENT
BEGIN:VEVENT
DTSTART;TZID=Europe/Warsaw:20250306T160000
DTEND;TZID=Europe/Warsaw:20250306T164500
DTSTAMP:20260420T232614
CREATED:20250226T150202Z
LAST-MODIFIED:20250226T150202Z
UID:51330-1741276800-1741279500@gckib.iwanowice.pl
SUMMARY:Szachy zaawansowane
DESCRIPTION:
URL:https://gckib.iwanowice.pl/wydarzenie/szachy-zaawansowane-2/
LOCATION:GCKiB w Iwanowicach
CATEGORIES:Szachy
END:VEVENT
BEGIN:VEVENT
DTSTART;TZID=Europe/Warsaw:20250305T190000
DTEND;TZID=Europe/Warsaw:20250305T200000
DTSTAMP:20260420T232614
CREATED:20250226T150011Z
LAST-MODIFIED:20250226T150021Z
UID:51327-1741201200-1741204800@gckib.iwanowice.pl
SUMMARY:Zumba Fitness
DESCRIPTION:
URL:https://gckib.iwanowice.pl/wydarzenie/zumba-fitnes-2/
LOCATION:mała sala przy ZS – P w Iwanowicach Włościańskich
CATEGORIES:Zumba fitness
END:VEVENT
BEGIN:VEVENT
DTSTART;TZID=Europe/Warsaw:20250305T180000
DTEND;TZID=Europe/Warsaw:20250305T190000
DTSTAMP:20260420T232614
CREATED:20250226T145912Z
LAST-MODIFIED:20250226T145912Z
UID:51325-1741197600-1741201200@gckib.iwanowice.pl
SUMMARY:Zumba Gold
DESCRIPTION:
URL:https://gckib.iwanowice.pl/wydarzenie/zumba-gold-52/
CATEGORIES:Zumba gold
END:VEVENT
BEGIN:VEVENT
DTSTART;TZID=Europe/Warsaw:20250304T193000
DTEND;TZID=Europe/Warsaw:20250304T203000
DTSTAMP:20260420T232614
CREATED:20250226T145826Z
LAST-MODIFIED:20250226T145826Z
UID:51323-1741116600-1741120200@gckib.iwanowice.pl
SUMMARY:Zdrowy kręgosłup
DESCRIPTION:
URL:https://gckib.iwanowice.pl/wydarzenie/zdrowy-kregoslup/
LOCATION:mała sala przy ZS – P w Iwanowicach Włościańskich
END:VEVENT
BEGIN:VEVENT
DTSTART;TZID=Europe/Warsaw:20250304T150000
DTEND;TZID=Europe/Warsaw:20250304T160000
DTSTAMP:20260420T232614
CREATED:20250226T145507Z
LAST-MODIFIED:20250226T145507Z
UID:51316-1741100400-1741104000@gckib.iwanowice.pl
SUMMARY:Rysunkowe ABC
DESCRIPTION:
URL:https://gckib.iwanowice.pl/wydarzenie/rysunkowe-abc-18/
LOCATION:Muzeum Regionane
CATEGORIES:Rysunkowe ABC
END:VEVENT
BEGIN:VEVENT
DTSTART;TZID=Europe/Warsaw:20250304T130000
DTEND;TZID=Europe/Warsaw:20250304T190000
DTSTAMP:20260420T232614
CREATED:20250226T145643Z
LAST-MODIFIED:20250226T145643Z
UID:51319-1741093200-1741114800@gckib.iwanowice.pl
SUMMARY:Pianino
DESCRIPTION:
URL:https://gckib.iwanowice.pl/wydarzenie/pianino-15/
LOCATION:GCKiB w Iwanowicach
CATEGORIES:Pianino
END:VEVENT
BEGIN:VEVENT
DTSTART;TZID=Europe/Warsaw:20250303T183000
DTEND;TZID=Europe/Warsaw:20250303T193000
DTSTAMP:20260420T232614
CREATED:20250226T145147Z
LAST-MODIFIED:20250226T145147Z
UID:51312-1741026600-1741030200@gckib.iwanowice.pl
SUMMARY:Joga
DESCRIPTION:
URL:https://gckib.iwanowice.pl/wydarzenie/joga-56/
LOCATION:mała sala przy ZS – P w Iwanowicach Włościańskich
CATEGORIES:joga
END:VEVENT
BEGIN:VEVENT
DTSTART;TZID=Europe/Warsaw:20250303T161500
DTEND;TZID=Europe/Warsaw:20250303T174500
DTSTAMP:20260420T232614
CREATED:20250226T145313Z
LAST-MODIFIED:20250226T145313Z
UID:51314-1741018500-1741023900@gckib.iwanowice.pl
SUMMARY:Haft
DESCRIPTION:
URL:https://gckib.iwanowice.pl/wydarzenie/haft/
END:VEVENT
BEGIN:VEVENT
DTSTART;TZID=Europe/Warsaw:20250303T130000
DTEND;TZID=Europe/Warsaw:20250303T190000
DTSTAMP:20260420T232614
CREATED:20250226T145735Z
LAST-MODIFIED:20250226T145735Z
UID:51321-1741006800-1741028400@gckib.iwanowice.pl
SUMMARY:Wokal
DESCRIPTION:
URL:https://gckib.iwanowice.pl/wydarzenie/wokal/
LOCATION:GCKiB w Iwanowicach
CATEGORIES:wokal
END:VEVENT
BEGIN:VEVENT
DTSTART;TZID=Europe/Warsaw:20250228T160000
DTEND;TZID=Europe/Warsaw:20250228T170000
DTSTAMP:20260420T232614
CREATED:20250210T124629Z
LAST-MODIFIED:20250210T124703Z
UID:50981-1740758400-1740762000@gckib.iwanowice.pl
SUMMARY:Capoeira zaawansowana
DESCRIPTION:
URL:https://gckib.iwanowice.pl/wydarzenie/capoeira-zaawansowana-4/
CATEGORIES:Capoeira
END:VEVENT
BEGIN:VEVENT
DTSTART;TZID=Europe/Warsaw:20250228T150000
DTEND;TZID=Europe/Warsaw:20250228T160000
DTSTAMP:20260420T232614
CREATED:20250210T124509Z
LAST-MODIFIED:20250210T124509Z
UID:50979-1740754800-1740758400@gckib.iwanowice.pl
SUMMARY:Capoeira początkująca
DESCRIPTION:
URL:https://gckib.iwanowice.pl/wydarzenie/capoeira-poczatkujaca-4/
CATEGORIES:Capoeira
END:VEVENT
BEGIN:VEVENT
DTSTART;TZID=Europe/Warsaw:20250227T193000
DTEND;TZID=Europe/Warsaw:20250227T203000
DTSTAMP:20260420T232614
CREATED:20250210T121344Z
LAST-MODIFIED:20250210T121344Z
UID:50936-1740684600-1740688200@gckib.iwanowice.pl
SUMMARY:Pilates
DESCRIPTION:
URL:https://gckib.iwanowice.pl/wydarzenie/pilates-54/
CATEGORIES:Pilates
END:VEVENT
BEGIN:VEVENT
DTSTART;TZID=Europe/Warsaw:20250227T164500
DTEND;TZID=Europe/Warsaw:20250227T173000
DTSTAMP:20260420T232614
CREATED:20250210T123701Z
LAST-MODIFIED:20250210T123701Z
UID:50965-1740674700-1740677400@gckib.iwanowice.pl
SUMMARY:Szachy początkująca
DESCRIPTION:
URL:https://gckib.iwanowice.pl/wydarzenie/szachy-poczatkujaca-3/
CATEGORIES:Szachy
END:VEVENT
BEGIN:VEVENT
DTSTART;TZID=Europe/Warsaw:20250227T161500
DTEND;TZID=Europe/Warsaw:20250227T181500
DTSTAMP:20260420T232614
CREATED:20250210T125056Z
LAST-MODIFIED:20250210T125056Z
UID:50984-1740672900-1740680100@gckib.iwanowice.pl
SUMMARY:Warsztaty ZAPUSTY w Muzeum Regionalnym
DESCRIPTION:
URL:https://gckib.iwanowice.pl/wydarzenie/warsztaty-zapusty-w-muzeum-regionalnym/
END:VEVENT
BEGIN:VEVENT
DTSTART;TZID=Europe/Warsaw:20250227T160000
DTEND;TZID=Europe/Warsaw:20250227T164500
DTSTAMP:20260420T232614
CREATED:20250210T123557Z
LAST-MODIFIED:20250210T123557Z
UID:50963-1740672000-1740674700@gckib.iwanowice.pl
SUMMARY:Szachy zaawansowana
DESCRIPTION:
URL:https://gckib.iwanowice.pl/wydarzenie/szachy-zaawansowana-3/
CATEGORIES:Szachy
END:VEVENT
BEGIN:VEVENT
DTSTART;TZID=Europe/Warsaw:20250226T190000
DTEND;TZID=Europe/Warsaw:20250226T200000
DTSTAMP:20260420T232614
CREATED:20250210T122142Z
LAST-MODIFIED:20250210T122142Z
UID:50949-1740596400-1740600000@gckib.iwanowice.pl
SUMMARY:Zumba Fitness
DESCRIPTION:
URL:https://gckib.iwanowice.pl/wydarzenie/zumba-fitness-49/
CATEGORIES:Zumba fitness
END:VEVENT
BEGIN:VEVENT
DTSTART;TZID=Europe/Warsaw:20250226T180000
DTEND;TZID=Europe/Warsaw:20250226T190000
DTSTAMP:20260420T232614
CREATED:20250210T122048Z
LAST-MODIFIED:20250210T122048Z
UID:50946-1740592800-1740596400@gckib.iwanowice.pl
SUMMARY:Zumba Gold
DESCRIPTION:
URL:https://gckib.iwanowice.pl/wydarzenie/zumba-gold-51/
CATEGORIES:Zumba gold
END:VEVENT
BEGIN:VEVENT
DTSTART;TZID=Europe/Warsaw:20250225T150000
DTEND;TZID=Europe/Warsaw:20250225T160000
DTSTAMP:20260420T232614
CREATED:20250210T104101Z
LAST-MODIFIED:20250210T104101Z
UID:50925-1740495600-1740499200@gckib.iwanowice.pl
SUMMARY:Rysunkowe ABC
DESCRIPTION:
URL:https://gckib.iwanowice.pl/wydarzenie/rysunkowe-abc-17/
CATEGORIES:Rysunkowe ABC
END:VEVENT
BEGIN:VEVENT
DTSTART;TZID=Europe/Warsaw:20250225T120000
DTEND;TZID=Europe/Warsaw:20250225T190000
DTSTAMP:20260420T232614
CREATED:20250210T103112Z
LAST-MODIFIED:20250210T103112Z
UID:50917-1740484800-1740510000@gckib.iwanowice.pl
SUMMARY:Pianino
DESCRIPTION:
URL:https://gckib.iwanowice.pl/wydarzenie/pianino-14/
LOCATION:Gminne Centrum Kultury i Bibliotek w Iwanowicach\, Strażacka 5\, Iwanowice Włościańskie
CATEGORIES:Pianino
END:VEVENT
BEGIN:VEVENT
DTSTART;TZID=Europe/Warsaw:20250224T183000
DTEND;TZID=Europe/Warsaw:20250224T193000
DTSTAMP:20260420T232614
CREATED:20250117T154351Z
LAST-MODIFIED:20250117T154351Z
UID:50634-1740421800-1740425400@gckib.iwanowice.pl
SUMMARY:Joga
DESCRIPTION:
URL:https://gckib.iwanowice.pl/wydarzenie/joga-55/
CATEGORIES:joga
END:VEVENT
BEGIN:VEVENT
DTSTART;TZID=Europe/Warsaw:20250224T163000
DTEND;TZID=Europe/Warsaw:20250224T180000
DTSTAMP:20260420T232614
CREATED:20250117T153536Z
LAST-MODIFIED:20250117T153536Z
UID:50622-1740414600-1740420000@gckib.iwanowice.pl
SUMMARY:Zajęcia haftu dla dzieci
DESCRIPTION:
URL:https://gckib.iwanowice.pl/wydarzenie/zajecia-haftu-dla-dzieci-2/
END:VEVENT
BEGIN:VEVENT
DTSTART;TZID=Europe/Warsaw:20250224T131500
DTEND;TZID=Europe/Warsaw:20250224T184500
DTSTAMP:20260420T232614
CREATED:20250117T153243Z
LAST-MODIFIED:20250117T153243Z
UID:50618-1740402900-1740422700@gckib.iwanowice.pl
SUMMARY:Zajęcia wokalne
DESCRIPTION:
URL:https://gckib.iwanowice.pl/wydarzenie/zajecia-wokalne-36/
CATEGORIES:wokal
END:VEVENT
BEGIN:VEVENT
DTSTART;TZID=Europe/Warsaw:20250221T160000
DTEND;TZID=Europe/Warsaw:20250221T170000
DTSTAMP:20260420T232614
CREATED:20250210T124315Z
LAST-MODIFIED:20250210T124315Z
UID:50977-1740153600-1740157200@gckib.iwanowice.pl
SUMMARY:Capoeira zaawansowana
DESCRIPTION:
URL:https://gckib.iwanowice.pl/wydarzenie/capoeira-zaawansowana-3/
CATEGORIES:Capoeira
END:VEVENT
END:VCALENDAR