BEGIN:VCALENDAR
VERSION:2.0
PRODID:-//GCKiB - ECPv6.15.20//NONSGML v1.0//EN
CALSCALE:GREGORIAN
METHOD:PUBLISH
X-WR-CALNAME:GCKiB
X-ORIGINAL-URL:https://gckib.iwanowice.pl
X-WR-CALDESC:Wydarzenia dla GCKiB
REFRESH-INTERVAL;VALUE=DURATION:PT1H
X-Robots-Tag:noindex
X-PUBLISHED-TTL:PT1H
BEGIN:VTIMEZONE
TZID:Europe/Warsaw
BEGIN:DAYLIGHT
TZOFFSETFROM:+0100
TZOFFSETTO:+0200
TZNAME:CEST
DTSTART:20240331T010000
END:DAYLIGHT
BEGIN:STANDARD
TZOFFSETFROM:+0200
TZOFFSETTO:+0100
TZNAME:CET
DTSTART:20241027T010000
END:STANDARD
BEGIN:DAYLIGHT
TZOFFSETFROM:+0100
TZOFFSETTO:+0200
TZNAME:CEST
DTSTART:20250330T010000
END:DAYLIGHT
BEGIN:STANDARD
TZOFFSETFROM:+0200
TZOFFSETTO:+0100
TZNAME:CET
DTSTART:20251026T010000
END:STANDARD
BEGIN:DAYLIGHT
TZOFFSETFROM:+0100
TZOFFSETTO:+0200
TZNAME:CEST
DTSTART:20260329T010000
END:DAYLIGHT
BEGIN:STANDARD
TZOFFSETFROM:+0200
TZOFFSETTO:+0100
TZNAME:CET
DTSTART:20261025T010000
END:STANDARD
END:VTIMEZONE
BEGIN:VEVENT
DTSTART;TZID=Europe/Warsaw:20250414T161500
DTEND;TZID=Europe/Warsaw:20250414T174500
DTSTAMP:20260420T095549
CREATED:20250227T142132Z
LAST-MODIFIED:20250227T142132Z
UID:51476-1744647300-1744652700@gckib.iwanowice.pl
SUMMARY:Haft
DESCRIPTION:
URL:https://gckib.iwanowice.pl/wydarzenie/haft-4/
LOCATION:Muzeum Regionalne
CATEGORIES:Haft
END:VEVENT
BEGIN:VEVENT
DTSTART;TZID=Europe/Warsaw:20250414T130000
DTEND;TZID=Europe/Warsaw:20250414T190000
DTSTAMP:20260420T095549
CREATED:20250320T162005Z
LAST-MODIFIED:20250320T162005Z
UID:51786-1744635600-1744657200@gckib.iwanowice.pl
SUMMARY:Wokal
DESCRIPTION:
URL:https://gckib.iwanowice.pl/wydarzenie/wokal-6/
LOCATION:GCKiB w Iwanowicach
CATEGORIES:wokal
END:VEVENT
BEGIN:VEVENT
DTSTART;TZID=Europe/Warsaw:20250412T100000
DTEND;TZID=Europe/Warsaw:20250413T160000
DTSTAMP:20260420T095549
CREATED:20250227T101128Z
LAST-MODIFIED:20250227T101128Z
UID:51358-1744452000-1744560000@gckib.iwanowice.pl
SUMMARY:Muzeum Regionalne
DESCRIPTION:
URL:https://gckib.iwanowice.pl/wydarzenie/muzeum-regionalne-2/
LOCATION:Muzeum Regionane
CATEGORIES:Muzeum Regionalne
END:VEVENT
BEGIN:VEVENT
DTSTART;TZID=Europe/Warsaw:20250411T160000
DTEND;TZID=Europe/Warsaw:20250411T170000
DTSTAMP:20260420T095549
CREATED:20250320T160904Z
LAST-MODIFIED:20250320T160904Z
UID:51772-1744387200-1744390800@gckib.iwanowice.pl
SUMMARY:Capoeira zaawansowana
DESCRIPTION:
URL:https://gckib.iwanowice.pl/wydarzenie/capoeira-zaawansowana-10/
CATEGORIES:Capoeira
END:VEVENT
BEGIN:VEVENT
DTSTART;TZID=Europe/Warsaw:20250411T150000
DTEND;TZID=Europe/Warsaw:20250411T160000
DTSTAMP:20260420T095549
CREATED:20250320T160819Z
LAST-MODIFIED:20250320T160819Z
UID:51770-1744383600-1744387200@gckib.iwanowice.pl
SUMMARY:Capoeira początkująca
DESCRIPTION:
URL:https://gckib.iwanowice.pl/wydarzenie/capoeira-poczatkujaca-11/
LOCATION:mała sala przy ZS – P w Iwanowicach Włościańskich
CATEGORIES:Capoeira
END:VEVENT
BEGIN:VEVENT
DTSTART;TZID=Europe/Warsaw:20250410T193000
DTEND;TZID=Europe/Warsaw:20250410T203000
DTSTAMP:20260420T095549
CREATED:20250320T160636Z
LAST-MODIFIED:20250320T160636Z
UID:51768-1744313400-1744317000@gckib.iwanowice.pl
SUMMARY:Pilates
DESCRIPTION:
URL:https://gckib.iwanowice.pl/wydarzenie/pilates-60/
LOCATION:mała sala przy ZS – P w Iwanowicach Włościańskich
CATEGORIES:Pilates
END:VEVENT
BEGIN:VEVENT
DTSTART;TZID=Europe/Warsaw:20250410T164500
DTEND;TZID=Europe/Warsaw:20250410T173000
DTSTAMP:20260420T095549
CREATED:20250320T160533Z
LAST-MODIFIED:20250320T160533Z
UID:51766-1744303500-1744306200@gckib.iwanowice.pl
SUMMARY:Szachy początkujące
DESCRIPTION:
URL:https://gckib.iwanowice.pl/wydarzenie/szachy-poczatkujace-6/
LOCATION:GCKiB w Iwanowicach
CATEGORIES:Szachy
END:VEVENT
BEGIN:VEVENT
DTSTART;TZID=Europe/Warsaw:20250410T160000
DTEND;TZID=Europe/Warsaw:20250410T164500
DTSTAMP:20260420T095549
CREATED:20250320T160119Z
LAST-MODIFIED:20250320T160119Z
UID:51761-1744300800-1744303500@gckib.iwanowice.pl
SUMMARY:Szachy zaawansowane
DESCRIPTION:
URL:https://gckib.iwanowice.pl/wydarzenie/szachy-zaawansowane-7/
LOCATION:GCKiB w Iwanowicach
CATEGORIES:Szachy
END:VEVENT
BEGIN:VEVENT
DTSTART;TZID=Europe/Warsaw:20250409T190000
DTEND;TZID=Europe/Warsaw:20250409T200000
DTSTAMP:20260420T095549
CREATED:20250320T155948Z
LAST-MODIFIED:20250320T160003Z
UID:51759-1744225200-1744228800@gckib.iwanowice.pl
SUMMARY:Zumba fitnes
DESCRIPTION:
URL:https://gckib.iwanowice.pl/wydarzenie/zumba-fitnes-3/
LOCATION:mała sala przy ZS – P w Iwanowicach Włościańskich
CATEGORIES:Zumba fitness
END:VEVENT
BEGIN:VEVENT
DTSTART;TZID=Europe/Warsaw:20250409T180000
DTEND;TZID=Europe/Warsaw:20250409T190000
DTSTAMP:20260420T095549
CREATED:20250320T155843Z
LAST-MODIFIED:20250320T155843Z
UID:51757-1744221600-1744225200@gckib.iwanowice.pl
SUMMARY:Zumba gold
DESCRIPTION:
URL:https://gckib.iwanowice.pl/wydarzenie/zumba-gold-57/
LOCATION:mała sala przy ZS – P w Iwanowicach Włościańskich
CATEGORIES:Zumba gold
END:VEVENT
BEGIN:VEVENT
DTSTART;TZID=Europe/Warsaw:20250408T193000
DTEND;TZID=Europe/Warsaw:20250408T203000
DTSTAMP:20260420T095549
CREATED:20250320T155620Z
LAST-MODIFIED:20250320T155620Z
UID:51753-1744140600-1744144200@gckib.iwanowice.pl
SUMMARY:Zdrowy Kręgosłup
DESCRIPTION:
URL:https://gckib.iwanowice.pl/wydarzenie/zdrowy-kregoslup-6/
LOCATION:mała sala przy ZS – P w Iwanowicach Włościańskich
CATEGORIES:Zdrowy kręgosłup
END:VEVENT
BEGIN:VEVENT
DTSTART;TZID=Europe/Warsaw:20250408T150000
DTEND;TZID=Europe/Warsaw:20250408T160000
DTSTAMP:20260420T095549
CREATED:20250320T155730Z
LAST-MODIFIED:20250320T155730Z
UID:51755-1744124400-1744128000@gckib.iwanowice.pl
SUMMARY:Rysunkowe ABC
DESCRIPTION:
URL:https://gckib.iwanowice.pl/wydarzenie/rysunkowe-abc-23/
LOCATION:Muzeum Regionalne
CATEGORIES:Rysunkowe ABC
END:VEVENT
BEGIN:VEVENT
DTSTART;TZID=Europe/Warsaw:20250408T130000
DTEND;TZID=Europe/Warsaw:20250408T190000
DTSTAMP:20260420T095549
CREATED:20250320T155519Z
LAST-MODIFIED:20250320T155519Z
UID:51751-1744117200-1744138800@gckib.iwanowice.pl
SUMMARY:Pianino
DESCRIPTION:
URL:https://gckib.iwanowice.pl/wydarzenie/pianino-20/
LOCATION:GCKiB w Iwanowicach
CATEGORIES:Pianino
END:VEVENT
BEGIN:VEVENT
DTSTART;TZID=Europe/Warsaw:20250407T190000
DTEND;TZID=Europe/Warsaw:20250407T200000
DTSTAMP:20260420T095549
CREATED:20250227T141926Z
LAST-MODIFIED:20250320T160317Z
UID:51474-1744052400-1744056000@gckib.iwanowice.pl
SUMMARY:Joga
DESCRIPTION:
URL:https://gckib.iwanowice.pl/wydarzenie/joga-62/
LOCATION:mała sala przy ZS – P w Iwanowicach Włościańskich
CATEGORIES:joga
END:VEVENT
BEGIN:VEVENT
DTSTART;TZID=Europe/Warsaw:20250407T150000
DTEND;TZID=Europe/Warsaw:20250407T160000
DTSTAMP:20260420T095549
CREATED:20250414T064901Z
LAST-MODIFIED:20250414T064901Z
UID:52297-1744038000-1744041600@gckib.iwanowice.pl
SUMMARY:Robotyka
DESCRIPTION:
URL:https://gckib.iwanowice.pl/wydarzenie/robotyka-3/
LOCATION:Muzeum Regionalne
CATEGORIES:Robotyka
END:VEVENT
BEGIN:VEVENT
DTSTART;TZID=Europe/Warsaw:20250407T130000
DTEND;TZID=Europe/Warsaw:20250407T190000
DTSTAMP:20260420T095549
CREATED:20250227T142439Z
LAST-MODIFIED:20250227T142439Z
UID:51481-1744030800-1744052400@gckib.iwanowice.pl
SUMMARY:Wokal
DESCRIPTION:
URL:https://gckib.iwanowice.pl/wydarzenie/wokal-5/
LOCATION:GCKiB w Iwanowicach
CATEGORIES:wokal
END:VEVENT
BEGIN:VEVENT
DTSTART;TZID=Europe/Warsaw:20250404T160000
DTEND;TZID=Europe/Warsaw:20250404T170000
DTSTAMP:20260420T095549
CREATED:20250227T141646Z
LAST-MODIFIED:20250227T141646Z
UID:51472-1743782400-1743786000@gckib.iwanowice.pl
SUMMARY:Capoeira zaawansowana
DESCRIPTION:
URL:https://gckib.iwanowice.pl/wydarzenie/capoeira-zaawansowana-9/
LOCATION:mała sala przy ZS – P w Iwanowicach Włościańskich
CATEGORIES:Capoeira
END:VEVENT
BEGIN:VEVENT
DTSTART;TZID=Europe/Warsaw:20250404T150000
DTEND;TZID=Europe/Warsaw:20250404T160000
DTSTAMP:20260420T095549
CREATED:20250227T141501Z
LAST-MODIFIED:20250227T141501Z
UID:51470-1743778800-1743782400@gckib.iwanowice.pl
SUMMARY:Capoeira początkująca
DESCRIPTION:
URL:https://gckib.iwanowice.pl/wydarzenie/capoeira-poczatkujaca-10/
LOCATION:mała sala przy ZS – P w Iwanowicach Włościańskich
CATEGORIES:Capoeira
END:VEVENT
BEGIN:VEVENT
DTSTART;TZID=Europe/Warsaw:20250403T193000
DTEND;TZID=Europe/Warsaw:20250403T203000
DTSTAMP:20260420T095549
CREATED:20250227T132036Z
LAST-MODIFIED:20250227T132036Z
UID:51446-1743708600-1743712200@gckib.iwanowice.pl
SUMMARY:Pilates
DESCRIPTION:
URL:https://gckib.iwanowice.pl/wydarzenie/pilates-58/
LOCATION:mała sala przy ZS – P w Iwanowicach Włościańskich
CATEGORIES:Pilates,Robotyka
END:VEVENT
BEGIN:VEVENT
DTSTART;TZID=Europe/Warsaw:20250403T164500
DTEND;TZID=Europe/Warsaw:20250403T173000
DTSTAMP:20260420T095549
CREATED:20250227T131851Z
LAST-MODIFIED:20250227T131851Z
UID:51444-1743698700-1743701400@gckib.iwanowice.pl
SUMMARY:Szachy początkujące
DESCRIPTION:
URL:https://gckib.iwanowice.pl/wydarzenie/szachy-poczatkujace-3/
LOCATION:GCKiB w Iwanowicach
CATEGORIES:Szachy
END:VEVENT
BEGIN:VEVENT
DTSTART;TZID=Europe/Warsaw:20250403T160000
DTEND;TZID=Europe/Warsaw:20250403T164500
DTSTAMP:20260420T095549
CREATED:20250227T131740Z
LAST-MODIFIED:20250227T131740Z
UID:51442-1743696000-1743698700@gckib.iwanowice.pl
SUMMARY:Szachy zaawansowane
DESCRIPTION:
URL:https://gckib.iwanowice.pl/wydarzenie/szachy-zaawansowane-5/
LOCATION:GCKiB w Iwanowicach
CATEGORIES:Szachy
END:VEVENT
BEGIN:VEVENT
DTSTART;TZID=Europe/Warsaw:20250402T190000
DTEND;TZID=Europe/Warsaw:20250402T200000
DTSTAMP:20260420T095549
CREATED:20250227T114942Z
LAST-MODIFIED:20250227T114942Z
UID:51426-1743620400-1743624000@gckib.iwanowice.pl
SUMMARY:Zumba Fitness
DESCRIPTION:
URL:https://gckib.iwanowice.pl/wydarzenie/zumba-fitness-53/
LOCATION:mała sala przy ZS – P w Iwanowicach Włościańskich
CATEGORIES:Zumba fitness
END:VEVENT
BEGIN:VEVENT
DTSTART;TZID=Europe/Warsaw:20250402T180000
DTEND;TZID=Europe/Warsaw:20250402T190000
DTSTAMP:20260420T095549
CREATED:20250227T114811Z
LAST-MODIFIED:20250227T114811Z
UID:51424-1743616800-1743620400@gckib.iwanowice.pl
SUMMARY:Zumba Gold
DESCRIPTION:
URL:https://gckib.iwanowice.pl/wydarzenie/zumba-gold-56/
LOCATION:mała sala przy ZS – P w Iwanowicach Włościańskich
CATEGORIES:Zumba gold
END:VEVENT
BEGIN:VEVENT
DTSTART;TZID=Europe/Warsaw:20250401T193000
DTEND;TZID=Europe/Warsaw:20250401T203000
DTSTAMP:20260420T095549
CREATED:20250227T112126Z
LAST-MODIFIED:20250227T112126Z
UID:51397-1743535800-1743539400@gckib.iwanowice.pl
SUMMARY:Zdrowy kręgosłup
DESCRIPTION:
URL:https://gckib.iwanowice.pl/wydarzenie/zdrowy-kregoslup-5/
LOCATION:mała sala przy ZS – P w Iwanowicach Włościańskich
CATEGORIES:Piknik w Żerkowicach,Zdrowy kręgosłup
END:VEVENT
BEGIN:VEVENT
DTSTART;TZID=Europe/Warsaw:20250401T150000
DTEND;TZID=Europe/Warsaw:20250401T160000
DTSTAMP:20260420T095549
CREATED:20250227T111933Z
LAST-MODIFIED:20250227T111933Z
UID:51394-1743519600-1743523200@gckib.iwanowice.pl
SUMMARY:Rysunkowe ABC
DESCRIPTION:
URL:https://gckib.iwanowice.pl/wydarzenie/rysunkowe-abc-22/
LOCATION:Muzeum Regionalne
CATEGORIES:Rysunkowe ABC
END:VEVENT
BEGIN:VEVENT
DTSTART;TZID=Europe/Warsaw:20250401T130000
DTEND;TZID=Europe/Warsaw:20250401T190000
DTSTAMP:20260420T095549
CREATED:20250227T112818Z
LAST-MODIFIED:20250227T112859Z
UID:51405-1743512400-1743534000@gckib.iwanowice.pl
SUMMARY:Pianino
DESCRIPTION:
URL:https://gckib.iwanowice.pl/wydarzenie/pianino-19/
LOCATION:GCKiB w Iwanowicach
CATEGORIES:Pianino
END:VEVENT
BEGIN:VEVENT
DTSTART;TZID=Europe/Warsaw:20250331T190000
DTEND;TZID=Europe/Warsaw:20250331T200000
DTSTAMP:20260420T095549
CREATED:20250227T102540Z
LAST-MODIFIED:20250320T160408Z
UID:51373-1743447600-1743451200@gckib.iwanowice.pl
SUMMARY:Joga
DESCRIPTION:
URL:https://gckib.iwanowice.pl/wydarzenie/joga-60/
LOCATION:mała sala przy ZS – P w Iwanowicach Włościańskich
CATEGORIES:joga
END:VEVENT
BEGIN:VEVENT
DTSTART;TZID=Europe/Warsaw:20250331T161500
DTEND;TZID=Europe/Warsaw:20250331T174500
DTSTAMP:20260420T095549
CREATED:20250226T150653Z
LAST-MODIFIED:20250226T150653Z
UID:51338-1743437700-1743443100@gckib.iwanowice.pl
SUMMARY:Haft
DESCRIPTION:
URL:https://gckib.iwanowice.pl/wydarzenie/haft-3/
LOCATION:Muzeum Regionane
END:VEVENT
BEGIN:VEVENT
DTSTART;TZID=Europe/Warsaw:20250328T160000
DTEND;TZID=Europe/Warsaw:20250328T170000
DTSTAMP:20260420T095549
CREATED:20250227T141418Z
LAST-MODIFIED:20250227T141418Z
UID:51468-1743177600-1743181200@gckib.iwanowice.pl
SUMMARY:Capoeira zaawansowana
DESCRIPTION:
URL:https://gckib.iwanowice.pl/wydarzenie/capoeira-zaawansowana-8/
LOCATION:mała sala przy ZS – P w Iwanowicach Włościańskich
CATEGORIES:Capoeira
END:VEVENT
BEGIN:VEVENT
DTSTART;TZID=Europe/Warsaw:20250328T150000
DTEND;TZID=Europe/Warsaw:20250328T160000
DTSTAMP:20260420T095549
CREATED:20250227T141336Z
LAST-MODIFIED:20250227T141336Z
UID:51466-1743174000-1743177600@gckib.iwanowice.pl
SUMMARY:Capoeira początkująca
DESCRIPTION:
URL:https://gckib.iwanowice.pl/wydarzenie/capoeira-poczatkujaca-9/
LOCATION:mała sala przy ZS – P w Iwanowicach Włościańskich
CATEGORIES:Capoeira
END:VEVENT
END:VCALENDAR