BEGIN:VCALENDAR
VERSION:2.0
PRODID:-//GCKiB - ECPv6.15.20//NONSGML v1.0//EN
CALSCALE:GREGORIAN
METHOD:PUBLISH
X-WR-CALNAME:GCKiB
X-ORIGINAL-URL:https://gckib.iwanowice.pl
X-WR-CALDESC:Wydarzenia dla GCKiB
REFRESH-INTERVAL;VALUE=DURATION:PT1H
X-Robots-Tag:noindex
X-PUBLISHED-TTL:PT1H
BEGIN:VTIMEZONE
TZID:Europe/Warsaw
BEGIN:DAYLIGHT
TZOFFSETFROM:+0100
TZOFFSETTO:+0200
TZNAME:CEST
DTSTART:20240331T010000
END:DAYLIGHT
BEGIN:STANDARD
TZOFFSETFROM:+0200
TZOFFSETTO:+0100
TZNAME:CET
DTSTART:20241027T010000
END:STANDARD
BEGIN:DAYLIGHT
TZOFFSETFROM:+0100
TZOFFSETTO:+0200
TZNAME:CEST
DTSTART:20250330T010000
END:DAYLIGHT
BEGIN:STANDARD
TZOFFSETFROM:+0200
TZOFFSETTO:+0100
TZNAME:CET
DTSTART:20251026T010000
END:STANDARD
BEGIN:DAYLIGHT
TZOFFSETFROM:+0100
TZOFFSETTO:+0200
TZNAME:CEST
DTSTART:20260329T010000
END:DAYLIGHT
BEGIN:STANDARD
TZOFFSETFROM:+0200
TZOFFSETTO:+0100
TZNAME:CET
DTSTART:20261025T010000
END:STANDARD
END:VTIMEZONE
BEGIN:VEVENT
DTSTART;TZID=Europe/Warsaw:20250513T150000
DTEND;TZID=Europe/Warsaw:20250513T160000
DTSTAMP:20260420T025434
CREATED:20250425T123328Z
LAST-MODIFIED:20250425T123328Z
UID:52464-1747148400-1747152000@gckib.iwanowice.pl
SUMMARY:Rysunkowe ABC
DESCRIPTION:
URL:https://gckib.iwanowice.pl/wydarzenie/rysunkowe-abc-28/
CATEGORIES:Rysunkowe ABC
END:VEVENT
BEGIN:VEVENT
DTSTART;TZID=Europe/Warsaw:20250512T190000
DTEND;TZID=Europe/Warsaw:20250512T200000
DTSTAMP:20260420T025434
CREATED:20250425T122538Z
LAST-MODIFIED:20250425T122538Z
UID:52448-1747076400-1747080000@gckib.iwanowice.pl
SUMMARY:Joga
DESCRIPTION:
URL:https://gckib.iwanowice.pl/wydarzenie/joga-66/
LOCATION:mała sala przy ZS – P w Iwanowicach Włościańskich
CATEGORIES:joga
END:VEVENT
BEGIN:VEVENT
DTSTART;TZID=Europe/Warsaw:20250512T161500
DTEND;TZID=Europe/Warsaw:20250512T174500
DTSTAMP:20260420T025434
CREATED:20250425T122202Z
LAST-MODIFIED:20250425T122202Z
UID:52441-1747066500-1747071900@gckib.iwanowice.pl
SUMMARY:Haft
DESCRIPTION:
URL:https://gckib.iwanowice.pl/wydarzenie/haft-6/
LOCATION:Muzeum Regionalne
CATEGORIES:Haft
END:VEVENT
BEGIN:VEVENT
DTSTART;TZID=Europe/Warsaw:20250508T193000
DTEND;TZID=Europe/Warsaw:20250508T203000
DTSTAMP:20260420T025434
CREATED:20250428T150005Z
LAST-MODIFIED:20250428T150018Z
UID:52501-1746732600-1746736200@gckib.iwanowice.pl
SUMMARY:Pilatess
DESCRIPTION:
URL:https://gckib.iwanowice.pl/wydarzenie/pilatess-3/
LOCATION:mała sala przy ZS – P w Iwanowicach Włościańskich
CATEGORIES:Pilates
END:VEVENT
BEGIN:VEVENT
DTSTART;TZID=Europe/Warsaw:20250508T164500
DTEND;TZID=Europe/Warsaw:20250508T173000
DTSTAMP:20260420T025434
CREATED:20250428T145909Z
LAST-MODIFIED:20250428T145909Z
UID:52499-1746722700-1746725400@gckib.iwanowice.pl
SUMMARY:Szachy grupa początkująca
DESCRIPTION:
URL:https://gckib.iwanowice.pl/wydarzenie/szachy-grupa-poczatkujaca/
LOCATION:Gminne Centrum Kultury i Bibliotek w Iwanowicach\, Strażacka 5\, Iwanowice Włościańskie
CATEGORIES:Szachy
END:VEVENT
BEGIN:VEVENT
DTSTART;TZID=Europe/Warsaw:20250508T160000
DTEND;TZID=Europe/Warsaw:20250508T164500
DTSTAMP:20260420T025434
CREATED:20250428T145809Z
LAST-MODIFIED:20250428T145809Z
UID:52497-1746720000-1746722700@gckib.iwanowice.pl
SUMMARY:Szachy grupa zaawansowana
DESCRIPTION:
URL:https://gckib.iwanowice.pl/wydarzenie/szachy-grupa-zaawansowana/
LOCATION:Gminne Centrum Kultury i Bibliotek w Iwanowicach\, Strażacka 5\, Iwanowice Włościańskie
CATEGORIES:Szachy
END:VEVENT
BEGIN:VEVENT
DTSTART;TZID=Europe/Warsaw:20250507T190000
DTEND;TZID=Europe/Warsaw:20250507T200000
DTSTAMP:20260420T025434
CREATED:20250428T144917Z
LAST-MODIFIED:20250428T144917Z
UID:52480-1746644400-1746648000@gckib.iwanowice.pl
SUMMARY:Zumba fitness
DESCRIPTION:
URL:https://gckib.iwanowice.pl/wydarzenie/zumba-fitness-56/
CATEGORIES:Zumba fitness
END:VEVENT
BEGIN:VEVENT
DTSTART;TZID=Europe/Warsaw:20250507T180000
DTEND;TZID=Europe/Warsaw:20250507T190000
DTSTAMP:20260420T025434
CREATED:20250428T144646Z
LAST-MODIFIED:20250428T144646Z
UID:52478-1746640800-1746644400@gckib.iwanowice.pl
SUMMARY:Zumba Gold
DESCRIPTION:
URL:https://gckib.iwanowice.pl/wydarzenie/zumba-gold-61/
LOCATION:mała sala przy ZS – P w Iwanowicach Włościańskich
CATEGORIES:Zumba gold
END:VEVENT
BEGIN:VEVENT
DTSTART;TZID=Europe/Warsaw:20250506T193000
DTEND;TZID=Europe/Warsaw:20250506T203000
DTSTAMP:20260420T025434
CREATED:20250428T144118Z
LAST-MODIFIED:20250428T144118Z
UID:52470-1746559800-1746563400@gckib.iwanowice.pl
SUMMARY:Zdrowy kręgosłup
DESCRIPTION:
URL:https://gckib.iwanowice.pl/wydarzenie/zdrowy-kregoslup-8/
LOCATION:mała sala przy ZS – P w Iwanowicach Włościańskich
CATEGORIES:Zdrowy kręgosłup
END:VEVENT
BEGIN:VEVENT
DTSTART;TZID=Europe/Warsaw:20250506T150000
DTEND;TZID=Europe/Warsaw:20250506T190000
DTSTAMP:20260420T025434
CREATED:20250425T122852Z
LAST-MODIFIED:20250425T122852Z
UID:52454-1746543600-1746558000@gckib.iwanowice.pl
SUMMARY:Pianino
DESCRIPTION:
URL:https://gckib.iwanowice.pl/wydarzenie/pianino-24/
LOCATION:Gminne Centrum Kultury i Bibliotek w Iwanowicach\, Strażacka 5\, Iwanowice Włościańskie
CATEGORIES:Pianino
END:VEVENT
BEGIN:VEVENT
DTSTART;TZID=Europe/Warsaw:20250506T150000
DTEND;TZID=Europe/Warsaw:20250506T160000
DTSTAMP:20260420T025434
CREATED:20250425T123224Z
LAST-MODIFIED:20250425T123224Z
UID:52462-1746543600-1746547200@gckib.iwanowice.pl
SUMMARY:Rysunkowe ABC
DESCRIPTION:
URL:https://gckib.iwanowice.pl/wydarzenie/rysunkowe-abc-27/
LOCATION:Muzeum Regionalne
CATEGORIES:Rysunkowe ABC
END:VEVENT
BEGIN:VEVENT
DTSTART;TZID=Europe/Warsaw:20250505T190000
DTEND;TZID=Europe/Warsaw:20250505T200000
DTSTAMP:20260420T025434
CREATED:20250425T122414Z
LAST-MODIFIED:20250425T122414Z
UID:52445-1746471600-1746475200@gckib.iwanowice.pl
SUMMARY:Joga
DESCRIPTION:
URL:https://gckib.iwanowice.pl/wydarzenie/joga-64/
LOCATION:mała sala przy ZS – P w Iwanowicach Włościańskich
CATEGORIES:joga
END:VEVENT
BEGIN:VEVENT
DTSTART;TZID=Europe/Warsaw:20250505T150000
DTEND;TZID=Europe/Warsaw:20250505T160000
DTSTAMP:20260420T025434
CREATED:20250425T122023Z
LAST-MODIFIED:20250425T122023Z
UID:52437-1746457200-1746460800@gckib.iwanowice.pl
SUMMARY:Robotyka
DESCRIPTION:
URL:https://gckib.iwanowice.pl/wydarzenie/robotyka-5/
LOCATION:Muzeum Regionalne
CATEGORIES:Robotyka
END:VEVENT
BEGIN:VEVENT
DTSTART;VALUE=DATE:20250503
DTEND;VALUE=DATE:20250504
DTSTAMP:20260420T025434
CREATED:20250428T145623Z
LAST-MODIFIED:20250428T145623Z
UID:52495-1746230400-1746316799@gckib.iwanowice.pl
SUMMARY:Uroczyste obchody 3 maja
DESCRIPTION:
URL:https://gckib.iwanowice.pl/wydarzenie/uroczyste-obchody-3-maja/
END:VEVENT
BEGIN:VEVENT
DTSTART;TZID=Europe/Warsaw:20250430T180000
DTEND;TZID=Europe/Warsaw:20250430T190000
DTSTAMP:20260420T025434
CREATED:20250320T165112Z
LAST-MODIFIED:20250414T063933Z
UID:51829-1746036000-1746039600@gckib.iwanowice.pl
SUMMARY:Pilates  odrabianie za 1 maja
DESCRIPTION:
URL:https://gckib.iwanowice.pl/wydarzenie/zumba-gold-60/
LOCATION:mała sala przy ZS – P w Iwanowicach Włościańskich
CATEGORIES:Pilates
END:VEVENT
BEGIN:VEVENT
DTSTART;TZID=Europe/Warsaw:20250429T193000
DTEND;TZID=Europe/Warsaw:20250429T203000
DTSTAMP:20260420T025434
CREATED:20250320T163446Z
LAST-MODIFIED:20250320T163524Z
UID:51809-1745955000-1745958600@gckib.iwanowice.pl
SUMMARY:Zdrowy kręgosłup
DESCRIPTION:
URL:https://gckib.iwanowice.pl/wydarzenie/zdrowy-kregoslup-9/
LOCATION:mała sala przy ZS – P w Iwanowicach Włościańskich
CATEGORIES:Zdrowy kręgosłup
END:VEVENT
BEGIN:VEVENT
DTSTART;TZID=Europe/Warsaw:20250429T150000
DTEND;TZID=Europe/Warsaw:20250429T160000
DTSTAMP:20260420T025434
CREATED:20250320T163011Z
LAST-MODIFIED:20250320T163011Z
UID:51802-1745938800-1745942400@gckib.iwanowice.pl
SUMMARY:Rysunkowe ABC
DESCRIPTION:
URL:https://gckib.iwanowice.pl/wydarzenie/rysunkowe-abc-26/
LOCATION:Muzeum Regionalne
CATEGORIES:Rysunkowe ABC
END:VEVENT
BEGIN:VEVENT
DTSTART;TZID=Europe/Warsaw:20250429T130000
DTEND;TZID=Europe/Warsaw:20250429T190000
DTSTAMP:20260420T025434
CREATED:20250320T162424Z
LAST-MODIFIED:20250320T162424Z
UID:51795-1745931600-1745953200@gckib.iwanowice.pl
SUMMARY:Pianino
DESCRIPTION:
URL:https://gckib.iwanowice.pl/wydarzenie/pianino-23/
LOCATION:GCKiB w Iwanowicach
CATEGORIES:Pianino
END:VEVENT
BEGIN:VEVENT
DTSTART;TZID=Europe/Warsaw:20250428T190000
DTEND;TZID=Europe/Warsaw:20250428T200000
DTSTAMP:20260420T025434
CREATED:20250320T161806Z
LAST-MODIFIED:20250320T161806Z
UID:51784-1745866800-1745870400@gckib.iwanowice.pl
SUMMARY:Joga
DESCRIPTION:
URL:https://gckib.iwanowice.pl/wydarzenie/joga-65/
LOCATION:mała sala przy ZS – P w Iwanowicach Włościańskich
CATEGORIES:joga
END:VEVENT
BEGIN:VEVENT
DTSTART;TZID=Europe/Warsaw:20250428T161500
DTEND;TZID=Europe/Warsaw:20250428T174500
DTSTAMP:20260420T025434
CREATED:20250227T142251Z
LAST-MODIFIED:20250227T142251Z
UID:51478-1745856900-1745862300@gckib.iwanowice.pl
SUMMARY:Haft
DESCRIPTION:
URL:https://gckib.iwanowice.pl/wydarzenie/haft-5/
LOCATION:Muzeum Regionalne
CATEGORIES:Haft
END:VEVENT
BEGIN:VEVENT
DTSTART;TZID=Europe/Warsaw:20250428T150000
DTEND;TZID=Europe/Warsaw:20250428T160000
DTSTAMP:20260420T025434
CREATED:20250414T065007Z
LAST-MODIFIED:20250414T065007Z
UID:52299-1745852400-1745856000@gckib.iwanowice.pl
SUMMARY:Robotyka
DESCRIPTION:
URL:https://gckib.iwanowice.pl/wydarzenie/robotyka-4/
LOCATION:Muzeum Regionalne
CATEGORIES:Robotyka
END:VEVENT
BEGIN:VEVENT
DTSTART;TZID=Europe/Warsaw:20250428T130000
DTEND;TZID=Europe/Warsaw:20250428T190000
DTSTAMP:20260420T025434
CREATED:20250320T162103Z
LAST-MODIFIED:20250320T162103Z
UID:51788-1745845200-1745866800@gckib.iwanowice.pl
SUMMARY:Wokal
DESCRIPTION:
URL:https://gckib.iwanowice.pl/wydarzenie/wokal-7/
LOCATION:GCKiB w Iwanowicach
CATEGORIES:wokal
END:VEVENT
BEGIN:VEVENT
DTSTART;TZID=Europe/Warsaw:20250425T170000
DTEND;TZID=Europe/Warsaw:20250425T170000
DTSTAMP:20260420T025434
CREATED:20250414T064352Z
LAST-MODIFIED:20250414T064352Z
UID:52293-1745600400-1745600400@gckib.iwanowice.pl
SUMMARY:Szkolenie Zbiórki Publiczne
DESCRIPTION:
URL:https://gckib.iwanowice.pl/wydarzenie/szkolenie-zbiorki-publiczne/
LOCATION:Muzeum Regionalne
CATEGORIES:Muzeum Regionalne
END:VEVENT
BEGIN:VEVENT
DTSTART;TZID=Europe/Warsaw:20250425T160000
DTEND;TZID=Europe/Warsaw:20250425T170000
DTSTAMP:20260420T025434
CREATED:20250326T153105Z
LAST-MODIFIED:20250326T153105Z
UID:51967-1745596800-1745600400@gckib.iwanowice.pl
SUMMARY:Capoeira zaawansowana
DESCRIPTION:
URL:https://gckib.iwanowice.pl/wydarzenie/capoeira-zaawansowana-12/
LOCATION:mała sala przy ZS – P w Iwanowicach Włościańskich
CATEGORIES:Capoeira
END:VEVENT
BEGIN:VEVENT
DTSTART;TZID=Europe/Warsaw:20250425T150000
DTEND;TZID=Europe/Warsaw:20250425T160000
DTSTAMP:20260420T025434
CREATED:20250326T153002Z
LAST-MODIFIED:20250326T153152Z
UID:51965-1745593200-1745596800@gckib.iwanowice.pl
SUMMARY:Capoeira początkująca
DESCRIPTION:
URL:https://gckib.iwanowice.pl/wydarzenie/capoeira-95/
LOCATION:mała sala przy ZS – P w Iwanowicach Włościańskich
CATEGORIES:Capoeira
END:VEVENT
BEGIN:VEVENT
DTSTART;TZID=Europe/Warsaw:20250424T164500
DTEND;TZID=Europe/Warsaw:20250424T173000
DTSTAMP:20260420T025434
CREATED:20250326T152753Z
LAST-MODIFIED:20250326T152753Z
UID:51961-1745513100-1745515800@gckib.iwanowice.pl
SUMMARY:Szachy początkujące
DESCRIPTION:
URL:https://gckib.iwanowice.pl/wydarzenie/szachy-poczatkujace-7/
LOCATION:GCKiB w Iwanowicach
CATEGORIES:Szachy
END:VEVENT
BEGIN:VEVENT
DTSTART;TZID=Europe/Warsaw:20250424T160000
DTEND;TZID=Europe/Warsaw:20250424T164500
DTSTAMP:20260420T025434
CREATED:20250326T152652Z
LAST-MODIFIED:20250326T152652Z
UID:51959-1745510400-1745513100@gckib.iwanowice.pl
SUMMARY:Szachy zaawansowane
DESCRIPTION:
URL:https://gckib.iwanowice.pl/wydarzenie/szachy-zaawansowane-9/
LOCATION:GCKiB w Iwanowicach
CATEGORIES:Szachy
END:VEVENT
BEGIN:VEVENT
DTSTART;TZID=Europe/Warsaw:20250424T090000
DTEND;TZID=Europe/Warsaw:20250424T110000
DTSTAMP:20260420T025434
CREATED:20250414T064554Z
LAST-MODIFIED:20250414T064554Z
UID:52295-1745485200-1745492400@gckib.iwanowice.pl
SUMMARY:Koncert Filharmonii Krakowskiej
DESCRIPTION:
URL:https://gckib.iwanowice.pl/wydarzenie/koncert-filharmonii-krakowskiej/
LOCATION:Muzeum Regionalne
CATEGORIES:Muzeum Regionalne
END:VEVENT
BEGIN:VEVENT
DTSTART;TZID=Europe/Warsaw:20250423T190000
DTEND;TZID=Europe/Warsaw:20250423T200000
DTSTAMP:20260420T025434
CREATED:20250320T164741Z
LAST-MODIFIED:20250320T164741Z
UID:51827-1745434800-1745438400@gckib.iwanowice.pl
SUMMARY:Zumba fitness
DESCRIPTION:
URL:https://gckib.iwanowice.pl/wydarzenie/zumba-fitness-55/
LOCATION:mała sala przy ZS – P w Iwanowicach Włościańskich
CATEGORIES:Zumba fitness
END:VEVENT
BEGIN:VEVENT
DTSTART;TZID=Europe/Warsaw:20250423T180000
DTEND;TZID=Europe/Warsaw:20250423T190000
DTSTAMP:20260420T025434
CREATED:20250320T164617Z
LAST-MODIFIED:20250320T164617Z
UID:51825-1745431200-1745434800@gckib.iwanowice.pl
SUMMARY:Zumba gold
DESCRIPTION:
URL:https://gckib.iwanowice.pl/wydarzenie/zumba-gold-59/
LOCATION:mała sala przy ZS – P w Iwanowicach Włościańskich
CATEGORIES:Zumba gold
END:VEVENT
END:VCALENDAR