BEGIN:VCALENDAR
VERSION:2.0
PRODID:-//GCKiB - ECPv6.15.20//NONSGML v1.0//EN
CALSCALE:GREGORIAN
METHOD:PUBLISH
X-WR-CALNAME:GCKiB
X-ORIGINAL-URL:https://gckib.iwanowice.pl
X-WR-CALDESC:Wydarzenia dla GCKiB
REFRESH-INTERVAL;VALUE=DURATION:PT1H
X-Robots-Tag:noindex
X-PUBLISHED-TTL:PT1H
BEGIN:VTIMEZONE
TZID:Europe/Warsaw
BEGIN:DAYLIGHT
TZOFFSETFROM:+0100
TZOFFSETTO:+0200
TZNAME:CEST
DTSTART:20240331T010000
END:DAYLIGHT
BEGIN:STANDARD
TZOFFSETFROM:+0200
TZOFFSETTO:+0100
TZNAME:CET
DTSTART:20241027T010000
END:STANDARD
BEGIN:DAYLIGHT
TZOFFSETFROM:+0100
TZOFFSETTO:+0200
TZNAME:CEST
DTSTART:20250330T010000
END:DAYLIGHT
BEGIN:STANDARD
TZOFFSETFROM:+0200
TZOFFSETTO:+0100
TZNAME:CET
DTSTART:20251026T010000
END:STANDARD
BEGIN:DAYLIGHT
TZOFFSETFROM:+0100
TZOFFSETTO:+0200
TZNAME:CEST
DTSTART:20260329T010000
END:DAYLIGHT
BEGIN:STANDARD
TZOFFSETFROM:+0200
TZOFFSETTO:+0100
TZNAME:CET
DTSTART:20261025T010000
END:STANDARD
END:VTIMEZONE
BEGIN:VEVENT
DTSTART;TZID=Europe/Warsaw:20250523T150000
DTEND;TZID=Europe/Warsaw:20250523T160000
DTSTAMP:20260419T231110
CREATED:20250428T154249Z
LAST-MODIFIED:20250428T154249Z
UID:52526-1748012400-1748016000@gckib.iwanowice.pl
SUMMARY:Capoeira grupa początkująca
DESCRIPTION:
URL:https://gckib.iwanowice.pl/wydarzenie/capoeira-grupa-poczatkujaca-2/
LOCATION:mała sala przy ZS – P w Iwanowicach Włościańskich
CATEGORIES:Capoeira
END:VEVENT
BEGIN:VEVENT
DTSTART;TZID=Europe/Warsaw:20250522T193000
DTEND;TZID=Europe/Warsaw:20250522T203000
DTSTAMP:20260419T231110
CREATED:20250428T151325Z
LAST-MODIFIED:20250428T151325Z
UID:52514-1747942200-1747945800@gckib.iwanowice.pl
SUMMARY:Pilates
DESCRIPTION:
URL:https://gckib.iwanowice.pl/wydarzenie/pilates-62/
LOCATION:mała sala przy ZS – P w Iwanowicach Włościańskich
CATEGORIES:Pilates
END:VEVENT
BEGIN:VEVENT
DTSTART;TZID=Europe/Warsaw:20250522T164500
DTEND;TZID=Europe/Warsaw:20250522T173000
DTSTAMP:20260419T231110
CREATED:20250428T151221Z
LAST-MODIFIED:20250428T151221Z
UID:52512-1747932300-1747935000@gckib.iwanowice.pl
SUMMARY:Szachy grupa początkujaca
DESCRIPTION:
URL:https://gckib.iwanowice.pl/wydarzenie/szachy-grupa-poczatkujaca-3/
LOCATION:Gminne Centrum Kultury i Bibliotek w Iwanowicach\, Strażacka 5\, Iwanowice Włościańskie
CATEGORIES:Szachy
END:VEVENT
BEGIN:VEVENT
DTSTART;TZID=Europe/Warsaw:20250522T160000
DTEND;TZID=Europe/Warsaw:20250522T164500
DTSTAMP:20260419T231110
CREATED:20250428T150506Z
LAST-MODIFIED:20250428T150506Z
UID:52510-1747929600-1747932300@gckib.iwanowice.pl
SUMMARY:Szachy grupa zaawansowana
DESCRIPTION:
URL:https://gckib.iwanowice.pl/wydarzenie/szachy-grupa-zaawansowana-3/
LOCATION:Gminne Centrum Kultury i Bibliotek w Iwanowicach\, Strażacka 5\, Iwanowice Włościańskie
CATEGORIES:Szachy
END:VEVENT
BEGIN:VEVENT
DTSTART;TZID=Europe/Warsaw:20250521T190000
DTEND;TZID=Europe/Warsaw:20250521T200000
DTSTAMP:20260419T231110
CREATED:20250428T145311Z
LAST-MODIFIED:20250428T145311Z
UID:52488-1747854000-1747857600@gckib.iwanowice.pl
SUMMARY:Zumba fitness
DESCRIPTION:
URL:https://gckib.iwanowice.pl/wydarzenie/zumba-fitness-58/
LOCATION:mała sala przy ZS – P w Iwanowicach Włościańskich
CATEGORIES:Zumba fitness
END:VEVENT
BEGIN:VEVENT
DTSTART;TZID=Europe/Warsaw:20250521T180000
DTEND;TZID=Europe/Warsaw:20250521T190000
DTSTAMP:20260419T231110
CREATED:20250428T145206Z
LAST-MODIFIED:20250428T145206Z
UID:52486-1747850400-1747854000@gckib.iwanowice.pl
SUMMARY:Zumba gold
DESCRIPTION:
URL:https://gckib.iwanowice.pl/wydarzenie/zumba-gold-63/
LOCATION:mała sala przy ZS – P w Iwanowicach Włościańskich
CATEGORIES:Zumba gold
END:VEVENT
BEGIN:VEVENT
DTSTART;TZID=Europe/Warsaw:20250520T193000
DTEND;TZID=Europe/Warsaw:20250520T203000
DTSTAMP:20260419T231110
CREATED:20250428T144355Z
LAST-MODIFIED:20250428T144355Z
UID:52474-1747769400-1747773000@gckib.iwanowice.pl
SUMMARY:Zdrowy kręgosłup
DESCRIPTION:
URL:https://gckib.iwanowice.pl/wydarzenie/zdrowy-kregoslup-11/
LOCATION:mała sala przy ZS – P w Iwanowicach Włościańskich
CATEGORIES:Zdrowy kręgosłup
END:VEVENT
BEGIN:VEVENT
DTSTART;TZID=Europe/Warsaw:20250520T150000
DTEND;TZID=Europe/Warsaw:20250520T190000
DTSTAMP:20260419T231110
CREATED:20250425T123058Z
LAST-MODIFIED:20250425T123058Z
UID:52458-1747753200-1747767600@gckib.iwanowice.pl
SUMMARY:Pianino
DESCRIPTION:
URL:https://gckib.iwanowice.pl/wydarzenie/pianino-26/
LOCATION:Gminne Centrum Kultury i Bibliotek w Iwanowicach\, Strażacka 5\, Iwanowice Włościańskie
CATEGORIES:Pianino
END:VEVENT
BEGIN:VEVENT
DTSTART;TZID=Europe/Warsaw:20250520T150000
DTEND;TZID=Europe/Warsaw:20250520T160000
DTSTAMP:20260419T231110
CREATED:20250428T143144Z
LAST-MODIFIED:20250428T143144Z
UID:52466-1747753200-1747756800@gckib.iwanowice.pl
SUMMARY:Rysunkowe ABC
DESCRIPTION:
URL:https://gckib.iwanowice.pl/wydarzenie/rysunkowe-abc-29/
LOCATION:Muzeum Regionalne
CATEGORIES:Muzeum Regionalne
END:VEVENT
BEGIN:VEVENT
DTSTART;TZID=Europe/Warsaw:20250519T190000
DTEND;TZID=Europe/Warsaw:20250519T200000
DTSTAMP:20260419T231110
CREATED:20250425T122627Z
LAST-MODIFIED:20250425T122627Z
UID:52450-1747681200-1747684800@gckib.iwanowice.pl
SUMMARY:Joga
DESCRIPTION:
URL:https://gckib.iwanowice.pl/wydarzenie/joga-67/
LOCATION:mała sala przy ZS – P w Iwanowicach Włościańskich
CATEGORIES:joga
END:VEVENT
BEGIN:VEVENT
DTSTART;TZID=Europe/Warsaw:20250519T150000
DTEND;TZID=Europe/Warsaw:20250519T160000
DTSTAMP:20260419T231110
CREATED:20250425T122114Z
LAST-MODIFIED:20250425T122114Z
UID:52439-1747666800-1747670400@gckib.iwanowice.pl
SUMMARY:Robotyka
DESCRIPTION:
URL:https://gckib.iwanowice.pl/wydarzenie/robotyka-6/
LOCATION:Muzeum Regionalne
CATEGORIES:Robotyka
END:VEVENT
BEGIN:VEVENT
DTSTART;TZID=Europe/Warsaw:20250516T160000
DTEND;TZID=Europe/Warsaw:20250516T170000
DTSTAMP:20260419T231110
CREATED:20250428T154043Z
LAST-MODIFIED:20250428T154617Z
UID:52524-1747411200-1747414800@gckib.iwanowice.pl
SUMMARY:Capoeira grupa zaawansowana
DESCRIPTION:
URL:https://gckib.iwanowice.pl/wydarzenie/capoeira-grupa-zaawansowana/
LOCATION:mała sala przy ZS – P w Iwanowicach Włościańskich
CATEGORIES:Capoeira
END:VEVENT
BEGIN:VEVENT
DTSTART;TZID=Europe/Warsaw:20250516T150000
DTEND;TZID=Europe/Warsaw:20250516T160000
DTSTAMP:20260419T231110
CREATED:20250428T153926Z
LAST-MODIFIED:20250428T153926Z
UID:52522-1747407600-1747411200@gckib.iwanowice.pl
SUMMARY:Capoeira grupa początkująca
DESCRIPTION:
URL:https://gckib.iwanowice.pl/wydarzenie/capoeira-grupa-poczatkujaca/
LOCATION:mała sala przy ZS – P w Iwanowicach Włościańskich
CATEGORIES:Capoeira
END:VEVENT
BEGIN:VEVENT
DTSTART;TZID=Europe/Warsaw:20250515T193000
DTEND;TZID=Europe/Warsaw:20250515T203000
DTSTAMP:20260419T231110
CREATED:20250428T150400Z
LAST-MODIFIED:20250428T150400Z
UID:52508-1747337400-1747341000@gckib.iwanowice.pl
SUMMARY:Pilates
DESCRIPTION:
URL:https://gckib.iwanowice.pl/wydarzenie/pilates-61/
LOCATION:mała sala przy ZS – P w Iwanowicach Włościańskich
CATEGORIES:Pilates
END:VEVENT
BEGIN:VEVENT
DTSTART;TZID=Europe/Warsaw:20250515T164500
DTEND;TZID=Europe/Warsaw:20250515T173000
DTSTAMP:20260419T231110
CREATED:20250428T150231Z
LAST-MODIFIED:20250428T150249Z
UID:52505-1747327500-1747330200@gckib.iwanowice.pl
SUMMARY:Szachy grupa początkująca
DESCRIPTION:
URL:https://gckib.iwanowice.pl/wydarzenie/szachy-grupa-poczatkujaca-2/
LOCATION:Gminne Centrum Kultury i Bibliotek w Iwanowicach\, Strażacka 5\, Iwanowice Włościańskie
CATEGORIES:Szachy
END:VEVENT
BEGIN:VEVENT
DTSTART;TZID=Europe/Warsaw:20250515T160000
DTEND;TZID=Europe/Warsaw:20250515T164500
DTSTAMP:20260419T231110
CREATED:20250428T150126Z
LAST-MODIFIED:20250428T150126Z
UID:52503-1747324800-1747327500@gckib.iwanowice.pl
SUMMARY:Szachy grupa zaawansowana
DESCRIPTION:
URL:https://gckib.iwanowice.pl/wydarzenie/szachy-grupa-zaawansowana-2/
LOCATION:Gminne Centrum Kultury i Bibliotek w Iwanowicach\, Strażacka 5\, Iwanowice Włościańskie
CATEGORIES:Szachy
END:VEVENT
BEGIN:VEVENT
DTSTART;TZID=Europe/Warsaw:20250514T190000
DTEND;TZID=Europe/Warsaw:20250514T200000
DTSTAMP:20260419T231110
CREATED:20250428T145048Z
LAST-MODIFIED:20250428T145101Z
UID:52484-1747249200-1747252800@gckib.iwanowice.pl
SUMMARY:Zumba fitness
DESCRIPTION:
URL:https://gckib.iwanowice.pl/wydarzenie/zumba-fitness-57/
END:VEVENT
BEGIN:VEVENT
DTSTART;TZID=Europe/Warsaw:20250514T180000
DTEND;TZID=Europe/Warsaw:20250514T190000
DTSTAMP:20260419T231110
CREATED:20250428T145004Z
LAST-MODIFIED:20250428T145004Z
UID:52482-1747245600-1747249200@gckib.iwanowice.pl
SUMMARY:Zumba gold
DESCRIPTION:
URL:https://gckib.iwanowice.pl/wydarzenie/zumba-gold-62/
LOCATION:mała sala przy ZS – P w Iwanowicach Włościańskich
CATEGORIES:Zumba gold
END:VEVENT
BEGIN:VEVENT
DTSTART;TZID=Europe/Warsaw:20250513T193000
DTEND;TZID=Europe/Warsaw:20250513T203000
DTSTAMP:20260419T231110
CREATED:20250428T144242Z
LAST-MODIFIED:20250428T144255Z
UID:52472-1747164600-1747168200@gckib.iwanowice.pl
SUMMARY:Zdrowy kregosłup
DESCRIPTION:
URL:https://gckib.iwanowice.pl/wydarzenie/zdrowy-kregoslup-10/
LOCATION:mała sala przy ZS – P w Iwanowicach Włościańskich
CATEGORIES:Zdrowy kręgosłup
END:VEVENT
BEGIN:VEVENT
DTSTART;TZID=Europe/Warsaw:20250513T150000
DTEND;TZID=Europe/Warsaw:20250513T190000
DTSTAMP:20260419T231110
CREATED:20250425T122947Z
LAST-MODIFIED:20250425T122947Z
UID:52456-1747148400-1747162800@gckib.iwanowice.pl
SUMMARY:Pianino
DESCRIPTION:
URL:https://gckib.iwanowice.pl/wydarzenie/pianino-25/
LOCATION:Gminne Centrum Kultury i Bibliotek w Iwanowicach\, Strażacka 5\, Iwanowice Włościańskie
CATEGORIES:Pianino
END:VEVENT
BEGIN:VEVENT
DTSTART;TZID=Europe/Warsaw:20250513T150000
DTEND;TZID=Europe/Warsaw:20250513T160000
DTSTAMP:20260419T231110
CREATED:20250425T123328Z
LAST-MODIFIED:20250425T123328Z
UID:52464-1747148400-1747152000@gckib.iwanowice.pl
SUMMARY:Rysunkowe ABC
DESCRIPTION:
URL:https://gckib.iwanowice.pl/wydarzenie/rysunkowe-abc-28/
CATEGORIES:Rysunkowe ABC
END:VEVENT
BEGIN:VEVENT
DTSTART;TZID=Europe/Warsaw:20250512T190000
DTEND;TZID=Europe/Warsaw:20250512T200000
DTSTAMP:20260419T231110
CREATED:20250425T122538Z
LAST-MODIFIED:20250425T122538Z
UID:52448-1747076400-1747080000@gckib.iwanowice.pl
SUMMARY:Joga
DESCRIPTION:
URL:https://gckib.iwanowice.pl/wydarzenie/joga-66/
LOCATION:mała sala przy ZS – P w Iwanowicach Włościańskich
CATEGORIES:joga
END:VEVENT
BEGIN:VEVENT
DTSTART;TZID=Europe/Warsaw:20250512T161500
DTEND;TZID=Europe/Warsaw:20250512T174500
DTSTAMP:20260419T231110
CREATED:20250425T122202Z
LAST-MODIFIED:20250425T122202Z
UID:52441-1747066500-1747071900@gckib.iwanowice.pl
SUMMARY:Haft
DESCRIPTION:
URL:https://gckib.iwanowice.pl/wydarzenie/haft-6/
LOCATION:Muzeum Regionalne
CATEGORIES:Haft
END:VEVENT
BEGIN:VEVENT
DTSTART;TZID=Europe/Warsaw:20250508T193000
DTEND;TZID=Europe/Warsaw:20250508T203000
DTSTAMP:20260419T231110
CREATED:20250428T150005Z
LAST-MODIFIED:20250428T150018Z
UID:52501-1746732600-1746736200@gckib.iwanowice.pl
SUMMARY:Pilatess
DESCRIPTION:
URL:https://gckib.iwanowice.pl/wydarzenie/pilatess-3/
LOCATION:mała sala przy ZS – P w Iwanowicach Włościańskich
CATEGORIES:Pilates
END:VEVENT
BEGIN:VEVENT
DTSTART;TZID=Europe/Warsaw:20250508T164500
DTEND;TZID=Europe/Warsaw:20250508T173000
DTSTAMP:20260419T231110
CREATED:20250428T145909Z
LAST-MODIFIED:20250428T145909Z
UID:52499-1746722700-1746725400@gckib.iwanowice.pl
SUMMARY:Szachy grupa początkująca
DESCRIPTION:
URL:https://gckib.iwanowice.pl/wydarzenie/szachy-grupa-poczatkujaca/
LOCATION:Gminne Centrum Kultury i Bibliotek w Iwanowicach\, Strażacka 5\, Iwanowice Włościańskie
CATEGORIES:Szachy
END:VEVENT
BEGIN:VEVENT
DTSTART;TZID=Europe/Warsaw:20250508T160000
DTEND;TZID=Europe/Warsaw:20250508T164500
DTSTAMP:20260419T231110
CREATED:20250428T145809Z
LAST-MODIFIED:20250428T145809Z
UID:52497-1746720000-1746722700@gckib.iwanowice.pl
SUMMARY:Szachy grupa zaawansowana
DESCRIPTION:
URL:https://gckib.iwanowice.pl/wydarzenie/szachy-grupa-zaawansowana/
LOCATION:Gminne Centrum Kultury i Bibliotek w Iwanowicach\, Strażacka 5\, Iwanowice Włościańskie
CATEGORIES:Szachy
END:VEVENT
BEGIN:VEVENT
DTSTART;TZID=Europe/Warsaw:20250507T190000
DTEND;TZID=Europe/Warsaw:20250507T200000
DTSTAMP:20260419T231110
CREATED:20250428T144917Z
LAST-MODIFIED:20250428T144917Z
UID:52480-1746644400-1746648000@gckib.iwanowice.pl
SUMMARY:Zumba fitness
DESCRIPTION:
URL:https://gckib.iwanowice.pl/wydarzenie/zumba-fitness-56/
CATEGORIES:Zumba fitness
END:VEVENT
BEGIN:VEVENT
DTSTART;TZID=Europe/Warsaw:20250507T180000
DTEND;TZID=Europe/Warsaw:20250507T190000
DTSTAMP:20260419T231110
CREATED:20250428T144646Z
LAST-MODIFIED:20250428T144646Z
UID:52478-1746640800-1746644400@gckib.iwanowice.pl
SUMMARY:Zumba Gold
DESCRIPTION:
URL:https://gckib.iwanowice.pl/wydarzenie/zumba-gold-61/
LOCATION:mała sala przy ZS – P w Iwanowicach Włościańskich
CATEGORIES:Zumba gold
END:VEVENT
BEGIN:VEVENT
DTSTART;TZID=Europe/Warsaw:20250506T193000
DTEND;TZID=Europe/Warsaw:20250506T203000
DTSTAMP:20260419T231110
CREATED:20250428T144118Z
LAST-MODIFIED:20250428T144118Z
UID:52470-1746559800-1746563400@gckib.iwanowice.pl
SUMMARY:Zdrowy kręgosłup
DESCRIPTION:
URL:https://gckib.iwanowice.pl/wydarzenie/zdrowy-kregoslup-8/
LOCATION:mała sala przy ZS – P w Iwanowicach Włościańskich
CATEGORIES:Zdrowy kręgosłup
END:VEVENT
BEGIN:VEVENT
DTSTART;TZID=Europe/Warsaw:20250506T150000
DTEND;TZID=Europe/Warsaw:20250506T190000
DTSTAMP:20260419T231110
CREATED:20250425T122852Z
LAST-MODIFIED:20250425T122852Z
UID:52454-1746543600-1746558000@gckib.iwanowice.pl
SUMMARY:Pianino
DESCRIPTION:
URL:https://gckib.iwanowice.pl/wydarzenie/pianino-24/
LOCATION:Gminne Centrum Kultury i Bibliotek w Iwanowicach\, Strażacka 5\, Iwanowice Włościańskie
CATEGORIES:Pianino
END:VEVENT
END:VCALENDAR