BEGIN:VCALENDAR
VERSION:2.0
PRODID:-//GCKiB - ECPv6.15.20//NONSGML v1.0//EN
CALSCALE:GREGORIAN
METHOD:PUBLISH
X-WR-CALNAME:GCKiB
X-ORIGINAL-URL:https://gckib.iwanowice.pl
X-WR-CALDESC:Wydarzenia dla GCKiB
REFRESH-INTERVAL;VALUE=DURATION:PT1H
X-Robots-Tag:noindex
X-PUBLISHED-TTL:PT1H
BEGIN:VTIMEZONE
TZID:Europe/Warsaw
BEGIN:DAYLIGHT
TZOFFSETFROM:+0100
TZOFFSETTO:+0200
TZNAME:CEST
DTSTART:20240331T010000
END:DAYLIGHT
BEGIN:STANDARD
TZOFFSETFROM:+0200
TZOFFSETTO:+0100
TZNAME:CET
DTSTART:20241027T010000
END:STANDARD
BEGIN:DAYLIGHT
TZOFFSETFROM:+0100
TZOFFSETTO:+0200
TZNAME:CEST
DTSTART:20250330T010000
END:DAYLIGHT
BEGIN:STANDARD
TZOFFSETFROM:+0200
TZOFFSETTO:+0100
TZNAME:CET
DTSTART:20251026T010000
END:STANDARD
BEGIN:DAYLIGHT
TZOFFSETFROM:+0100
TZOFFSETTO:+0200
TZNAME:CEST
DTSTART:20260329T010000
END:DAYLIGHT
BEGIN:STANDARD
TZOFFSETFROM:+0200
TZOFFSETTO:+0100
TZNAME:CET
DTSTART:20261025T010000
END:STANDARD
END:VTIMEZONE
BEGIN:VEVENT
DTSTART;TZID=Europe/Warsaw:20250609T190000
DTEND;TZID=Europe/Warsaw:20250609T200000
DTSTAMP:20260419T173023
CREATED:20250529T071146Z
LAST-MODIFIED:20250529T071146Z
UID:52781-1749495600-1749499200@gckib.iwanowice.pl
SUMMARY:Joga
DESCRIPTION:
URL:https://gckib.iwanowice.pl/wydarzenie/joga-70/
LOCATION:mała sala przy ZS – P w Iwanowicach Włościańskich
END:VEVENT
BEGIN:VEVENT
DTSTART;TZID=Europe/Warsaw:20250609T170000
DTEND;TZID=Europe/Warsaw:20250609T190000
DTSTAMP:20260419T173023
CREATED:20250529T073353Z
LAST-MODIFIED:20250529T073353Z
UID:52810-1749488400-1749495600@gckib.iwanowice.pl
SUMMARY:Międzypokoleniowy Klub Gier Planszowych
DESCRIPTION:
URL:https://gckib.iwanowice.pl/wydarzenie/miedzypokoleniowy-klub-gier-planszowych/
LOCATION:GCKiB w Iwanowicach
CATEGORIES:Planszówki
END:VEVENT
BEGIN:VEVENT
DTSTART;TZID=Europe/Warsaw:20250609T150000
DTEND;TZID=Europe/Warsaw:20250609T190000
DTSTAMP:20260419T173023
CREATED:20250529T071035Z
LAST-MODIFIED:20250529T071035Z
UID:52779-1749481200-1749495600@gckib.iwanowice.pl
SUMMARY:Wokal
DESCRIPTION:
URL:https://gckib.iwanowice.pl/wydarzenie/wokal-9/
LOCATION:GCKiB w Iwanowicach
CATEGORIES:wokal
END:VEVENT
BEGIN:VEVENT
DTSTART;TZID=Europe/Warsaw:20250606T160000
DTEND;TZID=Europe/Warsaw:20250606T170000
DTSTAMP:20260419T173023
CREATED:20250529T123601Z
LAST-MODIFIED:20250529T125853Z
UID:52865-1749225600-1749229200@gckib.iwanowice.pl
SUMMARY:Capoeira grupa zaawansowana
DESCRIPTION:
URL:https://gckib.iwanowice.pl/wydarzenie/capoeira-grupa-zaawansowana-4/
LOCATION:mała sala przy ZS – P w Iwanowicach Włościańskich
END:VEVENT
BEGIN:VEVENT
DTSTART;TZID=Europe/Warsaw:20250606T150000
DTEND;TZID=Europe/Warsaw:20250606T160000
DTSTAMP:20260419T173023
CREATED:20250529T122738Z
LAST-MODIFIED:20250529T122738Z
UID:52863-1749222000-1749225600@gckib.iwanowice.pl
SUMMARY:Capoeira grupa początkująca
DESCRIPTION:
URL:https://gckib.iwanowice.pl/wydarzenie/capoeira-grupa-poczatkujaca-4/
LOCATION:mała sala przy ZS – P w Iwanowicach Włościańskich
CATEGORIES:Capoeira
END:VEVENT
BEGIN:VEVENT
DTSTART;TZID=Europe/Warsaw:20250605T190000
DTEND;TZID=Europe/Warsaw:20250605T200000
DTSTAMP:20260419T173023
CREATED:20250529T112447Z
LAST-MODIFIED:20250529T112447Z
UID:52853-1749150000-1749153600@gckib.iwanowice.pl
SUMMARY:Pilates
DESCRIPTION:
URL:https://gckib.iwanowice.pl/wydarzenie/pilates-64/
LOCATION:mała sala przy ZS – P w Iwanowicach Włościańskich
CATEGORIES:Pilates
END:VEVENT
BEGIN:VEVENT
DTSTART;TZID=Europe/Warsaw:20250605T164500
DTEND;TZID=Europe/Warsaw:20250605T173000
DTSTAMP:20260419T173023
CREATED:20250529T110310Z
LAST-MODIFIED:20250529T110310Z
UID:52844-1749141900-1749144600@gckib.iwanowice.pl
SUMMARY:Szachy grupa początkująca
DESCRIPTION:
URL:https://gckib.iwanowice.pl/wydarzenie/szachy-grupa-poczatkujaca-5/
LOCATION:GCKiB w Iwanowicach
CATEGORIES:Szachy
END:VEVENT
BEGIN:VEVENT
DTSTART;TZID=Europe/Warsaw:20250605T160000
DTEND;TZID=Europe/Warsaw:20250605T164500
DTSTAMP:20260419T173023
CREATED:20250529T110101Z
LAST-MODIFIED:20250529T110101Z
UID:52842-1749139200-1749141900@gckib.iwanowice.pl
SUMMARY:Szachy grupa zaawansowana
DESCRIPTION:
URL:https://gckib.iwanowice.pl/wydarzenie/szachy-grupa-zaawansowana-5/
LOCATION:GCKiB w Iwanowicach
CATEGORIES:Szachy
END:VEVENT
BEGIN:VEVENT
DTSTART;TZID=Europe/Warsaw:20250604T190000
DTEND;TZID=Europe/Warsaw:20250604T200000
DTSTAMP:20260419T173023
CREATED:20250529T074228Z
LAST-MODIFIED:20250529T074228Z
UID:52825-1749063600-1749067200@gckib.iwanowice.pl
SUMMARY:Zumba Fitness
DESCRIPTION:
URL:https://gckib.iwanowice.pl/wydarzenie/zumba-fitness-60/
LOCATION:mała sala przy ZS – P w Iwanowicach Włościańskich
CATEGORIES:Zumba fitness
END:VEVENT
BEGIN:VEVENT
DTSTART;TZID=Europe/Warsaw:20250604T180000
DTEND;TZID=Europe/Warsaw:20250604T190000
DTSTAMP:20260419T173023
CREATED:20250529T074139Z
LAST-MODIFIED:20250529T074139Z
UID:52823-1749060000-1749063600@gckib.iwanowice.pl
SUMMARY:Zumba Gold
DESCRIPTION:
URL:https://gckib.iwanowice.pl/wydarzenie/zumba-gold-65/
LOCATION:mała sala przy ZS – P w Iwanowicach Włościańskich
CATEGORIES:Zumba gold
END:VEVENT
BEGIN:VEVENT
DTSTART;TZID=Europe/Warsaw:20250603T193000
DTEND;TZID=Europe/Warsaw:20250603T203000
DTSTAMP:20260419T173023
CREATED:20250529T071941Z
LAST-MODIFIED:20250529T071941Z
UID:52793-1748979000-1748982600@gckib.iwanowice.pl
SUMMARY:Zdrowy Kręgosłup
DESCRIPTION:
URL:https://gckib.iwanowice.pl/wydarzenie/zdrowy-kregoslup-13/
LOCATION:mała sala przy ZS – P w Iwanowicach Włościańskich
CATEGORIES:Zdrowy kręgosłup
END:VEVENT
BEGIN:VEVENT
DTSTART;TZID=Europe/Warsaw:20250603T150000
DTEND;TZID=Europe/Warsaw:20250603T160000
DTSTAMP:20260419T173023
CREATED:20250529T071648Z
LAST-MODIFIED:20250529T071648Z
UID:52789-1748962800-1748966400@gckib.iwanowice.pl
SUMMARY:Rysunkowe ABC
DESCRIPTION:
URL:https://gckib.iwanowice.pl/wydarzenie/rysunkowe-abc-31/
LOCATION:Muzeum Regionalne
CATEGORIES:Rysunkowe ABC
END:VEVENT
BEGIN:VEVENT
DTSTART;TZID=Europe/Warsaw:20250603T130000
DTEND;TZID=Europe/Warsaw:20250603T190000
DTSTAMP:20260419T173023
CREATED:20250529T071743Z
LAST-MODIFIED:20250529T071743Z
UID:52791-1748955600-1748977200@gckib.iwanowice.pl
SUMMARY:Pianino
DESCRIPTION:
URL:https://gckib.iwanowice.pl/wydarzenie/pianino-28/
LOCATION:GCKiB w Iwanowicach
CATEGORIES:Pianino
END:VEVENT
BEGIN:VEVENT
DTSTART;TZID=Europe/Warsaw:20250602T190000
DTEND;TZID=Europe/Warsaw:20250602T200000
DTSTAMP:20260419T173023
CREATED:20250529T070709Z
LAST-MODIFIED:20250529T070709Z
UID:52777-1748890800-1748894400@gckib.iwanowice.pl
SUMMARY:Joga
DESCRIPTION:
URL:https://gckib.iwanowice.pl/wydarzenie/joga-69/
LOCATION:mała sala przy ZS – P w Iwanowicach Włościańskich
CATEGORIES:joga
END:VEVENT
BEGIN:VEVENT
DTSTART;TZID=Europe/Warsaw:20250602T150000
DTEND;TZID=Europe/Warsaw:20250602T190000
DTSTAMP:20260419T173023
CREATED:20250529T070524Z
LAST-MODIFIED:20250529T070524Z
UID:52775-1748876400-1748890800@gckib.iwanowice.pl
SUMMARY:Wokal
DESCRIPTION:
URL:https://gckib.iwanowice.pl/wydarzenie/wokal-8/
LOCATION:GCKiB w Iwanowicach
CATEGORIES:wokal
END:VEVENT
BEGIN:VEVENT
DTSTART;TZID=Europe/Warsaw:20250601T130000
DTEND;TZID=Europe/Warsaw:20250601T180000
DTSTAMP:20260419T173023
CREATED:20250529T065501Z
LAST-MODIFIED:20250529T065501Z
UID:52773-1748782800-1748800800@gckib.iwanowice.pl
SUMMARY:Gminny Dzień Dziecka
DESCRIPTION:
URL:https://gckib.iwanowice.pl/wydarzenie/gminny-dzien-dziecka-2/
LOCATION:Biskupice
END:VEVENT
BEGIN:VEVENT
DTSTART;TZID=Europe/Warsaw:20250530T160000
DTEND;TZID=Europe/Warsaw:20250530T170000
DTSTAMP:20260419T173023
CREATED:20250428T155536Z
LAST-MODIFIED:20250428T155536Z
UID:52532-1748620800-1748624400@gckib.iwanowice.pl
SUMMARY:Capoeira grupa zaawansowana
DESCRIPTION:
URL:https://gckib.iwanowice.pl/wydarzenie/capoeira-grupa-zaawansowana-3/
CATEGORIES:Capoeira
END:VEVENT
BEGIN:VEVENT
DTSTART;TZID=Europe/Warsaw:20250530T150000
DTEND;TZID=Europe/Warsaw:20250530T160000
DTSTAMP:20260419T173023
CREATED:20250428T154745Z
LAST-MODIFIED:20250428T154745Z
UID:52530-1748617200-1748620800@gckib.iwanowice.pl
SUMMARY:Capoeira grupa początkująca
DESCRIPTION:
URL:https://gckib.iwanowice.pl/wydarzenie/capoeira-grupa-poczatkujaca-3/
LOCATION:mała sala przy ZS – P w Iwanowicach Włościańskich
CATEGORIES:Capoeira
END:VEVENT
BEGIN:VEVENT
DTSTART;TZID=Europe/Warsaw:20250529T193000
DTEND;TZID=Europe/Warsaw:20250529T203000
DTSTAMP:20260419T173023
CREATED:20250428T151903Z
LAST-MODIFIED:20250428T151903Z
UID:52520-1748547000-1748550600@gckib.iwanowice.pl
SUMMARY:Pilates
DESCRIPTION:
URL:https://gckib.iwanowice.pl/wydarzenie/pilates-63/
LOCATION:mała sala przy ZS – P w Iwanowicach Włościańskich
CATEGORIES:Pilates
END:VEVENT
BEGIN:VEVENT
DTSTART;TZID=Europe/Warsaw:20250529T164500
DTEND;TZID=Europe/Warsaw:20250529T173000
DTSTAMP:20260419T173023
CREATED:20250428T151556Z
LAST-MODIFIED:20250428T151556Z
UID:52518-1748537100-1748539800@gckib.iwanowice.pl
SUMMARY:Szachy grupa początkująca
DESCRIPTION:
URL:https://gckib.iwanowice.pl/wydarzenie/szachy-grupa-poczatkujaca-4/
CATEGORIES:Szachy
END:VEVENT
BEGIN:VEVENT
DTSTART;TZID=Europe/Warsaw:20250529T160000
DTEND;TZID=Europe/Warsaw:20250529T170000
DTSTAMP:20260419T173023
CREATED:20250529T133112Z
LAST-MODIFIED:20250529T133137Z
UID:52875-1748534400-1748538000@gckib.iwanowice.pl
SUMMARY:Capoeira grupa zaawansowana
DESCRIPTION:
URL:https://gckib.iwanowice.pl/wydarzenie/capoeira-grupa-zaawansowana-6/
LOCATION:mała sala przy ZS – P w Iwanowicach Włościańskich
CATEGORIES:Capoeira
END:VEVENT
BEGIN:VEVENT
DTSTART;TZID=Europe/Warsaw:20250529T160000
DTEND;TZID=Europe/Warsaw:20250529T164500
DTSTAMP:20260419T173023
CREATED:20250428T151431Z
LAST-MODIFIED:20250428T151431Z
UID:52516-1748534400-1748537100@gckib.iwanowice.pl
SUMMARY:Szachy grupa zaawansowana
DESCRIPTION:
URL:https://gckib.iwanowice.pl/wydarzenie/szachy-grupa-zaawansowana-4/
LOCATION:Gminne Centrum Kultury i Bibliotek w Iwanowicach\, Strażacka 5\, Iwanowice Włościańskie
CATEGORIES:Szachy
END:VEVENT
BEGIN:VEVENT
DTSTART;TZID=Europe/Warsaw:20250528T190000
DTEND;TZID=Europe/Warsaw:20250528T200000
DTSTAMP:20260419T173023
CREATED:20250428T145519Z
LAST-MODIFIED:20250428T145519Z
UID:52492-1748458800-1748462400@gckib.iwanowice.pl
SUMMARY:Zumba fitness
DESCRIPTION:
URL:https://gckib.iwanowice.pl/wydarzenie/zumba-fitness-59/
CATEGORIES:Zumba fitness
END:VEVENT
BEGIN:VEVENT
DTSTART;TZID=Europe/Warsaw:20250528T180000
DTEND;TZID=Europe/Warsaw:20250528T190000
DTSTAMP:20260419T173023
CREATED:20250428T145430Z
LAST-MODIFIED:20250428T145430Z
UID:52490-1748455200-1748458800@gckib.iwanowice.pl
SUMMARY:Zumba gold
DESCRIPTION:
URL:https://gckib.iwanowice.pl/wydarzenie/zumba-gold-64/
LOCATION:mała sala przy ZS – P w Iwanowicach Włościańskich
CATEGORIES:Zumba gold
END:VEVENT
BEGIN:VEVENT
DTSTART;TZID=Europe/Warsaw:20250527T193000
DTEND;TZID=Europe/Warsaw:20250527T203000
DTSTAMP:20260419T173023
CREATED:20250428T144456Z
LAST-MODIFIED:20250428T144456Z
UID:52476-1748374200-1748377800@gckib.iwanowice.pl
SUMMARY:Zdrowy kręgosłup
DESCRIPTION:
URL:https://gckib.iwanowice.pl/wydarzenie/zdrowy-kregoslup-12/
LOCATION:mała sala przy ZS – P w Iwanowicach Włościańskich
CATEGORIES:Zdrowy kręgosłup
END:VEVENT
BEGIN:VEVENT
DTSTART;TZID=Europe/Warsaw:20250527T150000
DTEND;TZID=Europe/Warsaw:20250527T190000
DTSTAMP:20260419T173023
CREATED:20250425T123142Z
LAST-MODIFIED:20250425T123142Z
UID:52460-1748358000-1748372400@gckib.iwanowice.pl
SUMMARY:Pianino
DESCRIPTION:
URL:https://gckib.iwanowice.pl/wydarzenie/pianino-27/
END:VEVENT
BEGIN:VEVENT
DTSTART;TZID=Europe/Warsaw:20250527T150000
DTEND;TZID=Europe/Warsaw:20250527T160000
DTSTAMP:20260419T173023
CREATED:20250428T143338Z
LAST-MODIFIED:20250428T143338Z
UID:52468-1748358000-1748361600@gckib.iwanowice.pl
SUMMARY:Rysunkowe ABC
DESCRIPTION:
URL:https://gckib.iwanowice.pl/wydarzenie/rysunkowe-abc-30/
LOCATION:Muzeum Regionalne
CATEGORIES:Rysunkowe ABC
END:VEVENT
BEGIN:VEVENT
DTSTART;TZID=Europe/Warsaw:20250526T190000
DTEND;TZID=Europe/Warsaw:20250526T200000
DTSTAMP:20260419T173023
CREATED:20250425T122725Z
LAST-MODIFIED:20250425T122725Z
UID:52452-1748286000-1748289600@gckib.iwanowice.pl
SUMMARY:Joga
DESCRIPTION:
URL:https://gckib.iwanowice.pl/wydarzenie/joga-68/
LOCATION:mała sala przy ZS – P w Iwanowicach Włościańskich
CATEGORIES:joga
END:VEVENT
BEGIN:VEVENT
DTSTART;TZID=Europe/Warsaw:20250526T161500
DTEND;TZID=Europe/Warsaw:20250526T174500
DTSTAMP:20260419T173023
CREATED:20250425T122246Z
LAST-MODIFIED:20250425T122246Z
UID:52443-1748276100-1748281500@gckib.iwanowice.pl
SUMMARY:Haft
DESCRIPTION:
URL:https://gckib.iwanowice.pl/wydarzenie/haft-7/
LOCATION:Muzeum Regionalne
CATEGORIES:Haft
END:VEVENT
BEGIN:VEVENT
DTSTART;TZID=Europe/Warsaw:20250523T160000
DTEND;TZID=Europe/Warsaw:20250523T170000
DTSTAMP:20260419T173023
CREATED:20250428T154354Z
LAST-MODIFIED:20250428T155643Z
UID:52528-1748016000-1748019600@gckib.iwanowice.pl
SUMMARY:Capoeira grupa zaawansowana
DESCRIPTION:
URL:https://gckib.iwanowice.pl/wydarzenie/capoeira-grupa-zaawansowana-2/
LOCATION:mała sala przy ZS – P w Iwanowicach Włościańskich
CATEGORIES:Capoeira
END:VEVENT
END:VCALENDAR