BEGIN:VCALENDAR
VERSION:2.0
PRODID:-//GCKiB - ECPv6.15.20//NONSGML v1.0//EN
CALSCALE:GREGORIAN
METHOD:PUBLISH
X-ORIGINAL-URL:https://gckib.iwanowice.pl
X-WR-CALDESC:Wydarzenia dla GCKiB
REFRESH-INTERVAL;VALUE=DURATION:PT1H
X-Robots-Tag:noindex
X-PUBLISHED-TTL:PT1H
BEGIN:VTIMEZONE
TZID:Europe/Warsaw
BEGIN:DAYLIGHT
TZOFFSETFROM:+0100
TZOFFSETTO:+0200
TZNAME:CEST
DTSTART:20220327T010000
END:DAYLIGHT
BEGIN:STANDARD
TZOFFSETFROM:+0200
TZOFFSETTO:+0100
TZNAME:CET
DTSTART:20221030T010000
END:STANDARD
BEGIN:DAYLIGHT
TZOFFSETFROM:+0100
TZOFFSETTO:+0200
TZNAME:CEST
DTSTART:20230326T010000
END:DAYLIGHT
BEGIN:STANDARD
TZOFFSETFROM:+0200
TZOFFSETTO:+0100
TZNAME:CET
DTSTART:20231029T010000
END:STANDARD
BEGIN:DAYLIGHT
TZOFFSETFROM:+0100
TZOFFSETTO:+0200
TZNAME:CEST
DTSTART:20240331T010000
END:DAYLIGHT
BEGIN:STANDARD
TZOFFSETFROM:+0200
TZOFFSETTO:+0100
TZNAME:CET
DTSTART:20241027T010000
END:STANDARD
END:VTIMEZONE
BEGIN:VEVENT
DTSTART;TZID=Europe/Warsaw:20231114T170000
DTEND;TZID=Europe/Warsaw:20231114T174500
DTSTAMP:20260426T061400
CREATED:20231026T104025Z
LAST-MODIFIED:20231026T104025Z
UID:44651-1699981200-1699983900@gckib.iwanowice.pl
SUMMARY:Zumba kids
DESCRIPTION:
URL:https://gckib.iwanowice.pl/wydarzenie/zumba-kids-5/
LOCATION:mała sala przy ZS – P w Iwanowicach Włościańskich
CATEGORIES:Zumba kids
END:VEVENT
BEGIN:VEVENT
DTSTART;TZID=Europe/Warsaw:20231114T161500
DTEND;TZID=Europe/Warsaw:20231114T174500
DTSTAMP:20260426T061400
CREATED:20231026T102521Z
LAST-MODIFIED:20231026T102521Z
UID:44641-1699978500-1699983900@gckib.iwanowice.pl
SUMMARY:Warsztaty okazjonalne
DESCRIPTION:
URL:https://gckib.iwanowice.pl/wydarzenie/warsztaty-okazjonalne-3/
LOCATION:Gminne Centrum Kultury i Bibliotek w Iwanowicach\, Strażacka 5\, Iwanowice Włościańskie
CATEGORIES:Warsztaty okazjonalne
END:VEVENT
BEGIN:VEVENT
DTSTART;TZID=Europe/Warsaw:20231114T161500
DTEND;TZID=Europe/Warsaw:20231114T170000
DTSTAMP:20260426T061400
CREATED:20231026T103836Z
LAST-MODIFIED:20231026T103836Z
UID:44649-1699978500-1699981200@gckib.iwanowice.pl
SUMMARY:Szachy
DESCRIPTION:
URL:https://gckib.iwanowice.pl/wydarzenie/szachy-5/
LOCATION:Gminne Centrum Kultury i Bibliotek w Iwanowicach\, Strażacka 5\, Iwanowice Włościańskie
CATEGORIES:Szachy
END:VEVENT
BEGIN:VEVENT
DTSTART;TZID=Europe/Warsaw:20231114T160000
DTEND;TZID=Europe/Warsaw:20231114T170000
DTSTAMP:20260426T061400
CREATED:20231026T102223Z
LAST-MODIFIED:20231026T102223Z
UID:44639-1699977600-1699981200@gckib.iwanowice.pl
SUMMARY:Jump judo
DESCRIPTION:
URL:https://gckib.iwanowice.pl/wydarzenie/jump-judo-9/
LOCATION:mała sala przy ZS – P w Iwanowicach Włościańskich
END:VEVENT
BEGIN:VEVENT
DTSTART;TZID=Europe/Warsaw:20231114T143000
DTEND;TZID=Europe/Warsaw:20231114T150000
DTSTAMP:20260426T061400
CREATED:20231026T100750Z
LAST-MODIFIED:20231026T100750Z
UID:44637-1699972200-1699974000@gckib.iwanowice.pl
SUMMARY:Jump judo
DESCRIPTION:
URL:https://gckib.iwanowice.pl/wydarzenie/jump-judo-8/
LOCATION:mała sala przy ZS – P w Iwanowicach Włościańskich
END:VEVENT
BEGIN:VEVENT
DTSTART;TZID=Europe/Warsaw:20231113T183000
DTEND;TZID=Europe/Warsaw:20231113T193000
DTSTAMP:20260426T061400
CREATED:20231026T095952Z
LAST-MODIFIED:20231026T095952Z
UID:44635-1699900200-1699903800@gckib.iwanowice.pl
SUMMARY:Joga
DESCRIPTION:
URL:https://gckib.iwanowice.pl/wydarzenie/joga-3/
LOCATION:mała sala przy ZS – P w Iwanowicach Włościańskich
CATEGORIES:joga
END:VEVENT
BEGIN:VEVENT
DTSTART;TZID=Europe/Warsaw:20231113T170000
DTEND;TZID=Europe/Warsaw:20231113T183000
DTSTAMP:20260426T061400
CREATED:20231026T095826Z
LAST-MODIFIED:20231026T095854Z
UID:44633-1699894800-1699900200@gckib.iwanowice.pl
SUMMARY:Zręczne rączki
DESCRIPTION:
URL:https://gckib.iwanowice.pl/wydarzenie/zreczne-raczki-3/
LOCATION:Gminne Centrum Kultury i Bibliotek w Iwanowicach\, Strażacka 5\, Iwanowice Włościańskie
CATEGORIES:Zręczne rączki
END:VEVENT
BEGIN:VEVENT
DTSTART;TZID=Europe/Warsaw:20231113T160000
DTEND;TZID=Europe/Warsaw:20231113T170000
DTSTAMP:20260426T061400
CREATED:20231026T095438Z
LAST-MODIFIED:20231026T095619Z
UID:44629-1699891200-1699894800@gckib.iwanowice.pl
SUMMARY:Matematyka
DESCRIPTION:
URL:https://gckib.iwanowice.pl/wydarzenie/matematyka-3/
LOCATION:Gminne Centrum Kultury i Bibliotek w Iwanowicach\, Strażacka 5\, Iwanowice Włościańskie
CATEGORIES:Matematyka
END:VEVENT
BEGIN:VEVENT
DTSTART;TZID=Europe/Warsaw:20231110T160000
DTEND;TZID=Europe/Warsaw:20231110T170000
DTSTAMP:20260426T061400
CREATED:20231026T093844Z
LAST-MODIFIED:20231026T093844Z
UID:44618-1699632000-1699635600@gckib.iwanowice.pl
SUMMARY:Capoeira
DESCRIPTION:
URL:https://gckib.iwanowice.pl/wydarzenie/capoeira-6/
LOCATION:mała sala przy ZS – P w Iwanowicach Włościańskich
CATEGORIES:Capoeira
END:VEVENT
BEGIN:VEVENT
DTSTART;TZID=Europe/Warsaw:20231110T150000
DTEND;TZID=Europe/Warsaw:20231110T160000
DTSTAMP:20260426T061400
CREATED:20231026T093749Z
LAST-MODIFIED:20231026T093749Z
UID:44616-1699628400-1699632000@gckib.iwanowice.pl
SUMMARY:Capoeira
DESCRIPTION:
URL:https://gckib.iwanowice.pl/wydarzenie/capoeira-5/
LOCATION:mała sala przy ZS – P w Iwanowicach Włościańskich
CATEGORIES:Capoeira
END:VEVENT
BEGIN:VEVENT
DTSTART;TZID=Europe/Warsaw:20231110T120000
DTEND;TZID=Europe/Warsaw:20231110T180000
DTSTAMP:20260426T061400
CREATED:20231026T093636Z
LAST-MODIFIED:20231026T093636Z
UID:44614-1699617600-1699639200@gckib.iwanowice.pl
SUMMARY:Pianino
DESCRIPTION:
URL:https://gckib.iwanowice.pl/wydarzenie/pianino-3/
LOCATION:Gminne Centrum Kultury i Bibliotek w Iwanowicach\, Strażacka 5\, Iwanowice Włościańskie
CATEGORIES:Pianino
END:VEVENT
BEGIN:VEVENT
DTSTART;TZID=Europe/Warsaw:20231109T193000
DTEND;TZID=Europe/Warsaw:20231109T203000
DTSTAMP:20260426T061400
CREATED:20231026T083420Z
LAST-MODIFIED:20231026T083420Z
UID:44612-1699558200-1699561800@gckib.iwanowice.pl
SUMMARY:Pilates
DESCRIPTION:
URL:https://gckib.iwanowice.pl/wydarzenie/pilates-3/
LOCATION:mała sala przy ZS – P w Iwanowicach Włościańskich
CATEGORIES:Pilates
END:VEVENT
BEGIN:VEVENT
DTSTART;TZID=Europe/Warsaw:20231109T170000
DTEND;TZID=Europe/Warsaw:20231109T190000
DTSTAMP:20260426T061400
CREATED:20231026T083255Z
LAST-MODIFIED:20231026T083255Z
UID:44610-1699549200-1699556400@gckib.iwanowice.pl
SUMMARY:Planszówki
DESCRIPTION:
URL:https://gckib.iwanowice.pl/wydarzenie/planszowki-3/
LOCATION:Gminne Centrum Kultury i Bibliotek w Iwanowicach\, Strażacka 5\, Iwanowice Włościańskie
CATEGORIES:Planszówki
END:VEVENT
BEGIN:VEVENT
DTSTART;TZID=Europe/Warsaw:20231109T160000
DTEND;TZID=Europe/Warsaw:20231109T170000
DTSTAMP:20260426T061400
CREATED:20231026T083135Z
LAST-MODIFIED:20231026T083135Z
UID:44608-1699545600-1699549200@gckib.iwanowice.pl
SUMMARY:Jump judo
DESCRIPTION:
URL:https://gckib.iwanowice.pl/wydarzenie/jump-judo-7/
LOCATION:mała sala przy ZS – P w Iwanowicach Włościańskich
END:VEVENT
BEGIN:VEVENT
DTSTART;TZID=Europe/Warsaw:20231109T120000
DTEND;TZID=Europe/Warsaw:20231109T180000
DTSTAMP:20260426T061400
CREATED:20231026T083029Z
LAST-MODIFIED:20231026T083029Z
UID:44606-1699531200-1699552800@gckib.iwanowice.pl
SUMMARY:Zajęcia wokalne
DESCRIPTION:
URL:https://gckib.iwanowice.pl/wydarzenie/zajecia-wokalne-3/
LOCATION:Gminne Centrum Kultury i Bibliotek w Iwanowicach\, Strażacka 5\, Iwanowice Włościańskie
CATEGORIES:wokal
END:VEVENT
BEGIN:VEVENT
DTSTART;TZID=Europe/Warsaw:20231108T190000
DTEND;TZID=Europe/Warsaw:20231108T195500
DTSTAMP:20260426T061400
CREATED:20231026T082904Z
LAST-MODIFIED:20231026T082904Z
UID:44604-1699470000-1699473300@gckib.iwanowice.pl
SUMMARY:Zumba fitness
DESCRIPTION:
URL:https://gckib.iwanowice.pl/wydarzenie/zumba-fitness-6/
LOCATION:mała sala przy ZS – P w Iwanowicach Włościańskich
CATEGORIES:Zumba fitness
END:VEVENT
BEGIN:VEVENT
DTSTART;TZID=Europe/Warsaw:20231108T180000
DTEND;TZID=Europe/Warsaw:20231108T185500
DTSTAMP:20260426T061400
CREATED:20231026T082756Z
LAST-MODIFIED:20231026T082756Z
UID:44602-1699466400-1699469700@gckib.iwanowice.pl
SUMMARY:Zumba gold
DESCRIPTION:
URL:https://gckib.iwanowice.pl/wydarzenie/zumba-gold-4/
LOCATION:mała sala przy ZS – P w Iwanowicach Włościańskich
CATEGORIES:Zumba gold
END:VEVENT
BEGIN:VEVENT
DTSTART;TZID=Europe/Warsaw:20231108T170000
DTEND;TZID=Europe/Warsaw:20231108T174500
DTSTAMP:20260426T061400
CREATED:20231026T082645Z
LAST-MODIFIED:20231026T082645Z
UID:44600-1699462800-1699465500@gckib.iwanowice.pl
SUMMARY:Czarodziejski kuferek
DESCRIPTION:
URL:https://gckib.iwanowice.pl/wydarzenie/czarodziejski-kuferek-3/
LOCATION:Gminne Centrum Kultury i Bibliotek w Iwanowicach\, Strażacka 5\, Iwanowice Włościańskie
CATEGORIES:Czarodziejski kuferek
END:VEVENT
BEGIN:VEVENT
DTSTART;TZID=Europe/Warsaw:20231108T170000
DTEND;TZID=Europe/Warsaw:20231108T174500
DTSTAMP:20260426T061400
CREATED:20231026T082547Z
LAST-MODIFIED:20231026T082547Z
UID:44598-1699462800-1699465500@gckib.iwanowice.pl
SUMMARY:Balet
DESCRIPTION:
URL:https://gckib.iwanowice.pl/wydarzenie/balet-3/
LOCATION:mała sala przy ZS – P w Iwanowicach Włościańskich
END:VEVENT
BEGIN:VEVENT
DTSTART;TZID=Europe/Warsaw:20231107T174500
DTEND;TZID=Europe/Warsaw:20231107T184000
DTSTAMP:20260426T061400
CREATED:20231026T082445Z
LAST-MODIFIED:20231026T082445Z
UID:44596-1699379100-1699382400@gckib.iwanowice.pl
SUMMARY:Zumba junior
DESCRIPTION:
URL:https://gckib.iwanowice.pl/wydarzenie/zumba-junior-2/
LOCATION:mała sala przy ZS – P w Iwanowicach Włościańskich
CATEGORIES:Zumba junior
END:VEVENT
BEGIN:VEVENT
DTSTART;TZID=Europe/Warsaw:20231107T170000
DTEND;TZID=Europe/Warsaw:20231107T180000
DTSTAMP:20260426T061400
CREATED:20231026T081710Z
LAST-MODIFIED:20231026T081710Z
UID:44587-1699376400-1699380000@gckib.iwanowice.pl
SUMMARY:Komiks- zajęcia cykliczne
DESCRIPTION:
URL:https://gckib.iwanowice.pl/wydarzenie/komiks-zajecia-cykliczne-2/
LOCATION:Gminne Centrum Kultury i Bibliotek w Iwanowicach\, Strażacka 5\, Iwanowice Włościańskie
CATEGORIES:Komiks- zajęcia cykliczne
END:VEVENT
BEGIN:VEVENT
DTSTART;TZID=Europe/Warsaw:20231107T170000
DTEND;TZID=Europe/Warsaw:20231107T174500
DTSTAMP:20260426T061400
CREATED:20231026T082231Z
LAST-MODIFIED:20231026T082231Z
UID:44594-1699376400-1699379100@gckib.iwanowice.pl
SUMMARY:Szachy
DESCRIPTION:
URL:https://gckib.iwanowice.pl/wydarzenie/szachy-4/
LOCATION:Gminne Centrum Kultury i Bibliotek w Iwanowicach\, Strażacka 5\, Iwanowice Włościańskie
CATEGORIES:Szachy
END:VEVENT
BEGIN:VEVENT
DTSTART;TZID=Europe/Warsaw:20231107T170000
DTEND;TZID=Europe/Warsaw:20231107T174500
DTSTAMP:20260426T061400
CREATED:20231026T082021Z
LAST-MODIFIED:20231026T082112Z
UID:44591-1699376400-1699379100@gckib.iwanowice.pl
SUMMARY:Zumba kids
DESCRIPTION:
URL:https://gckib.iwanowice.pl/wydarzenie/zumba-kids-4/
LOCATION:mała sala przy ZS – P w Iwanowicach Włościańskich
CATEGORIES:Zumba kids
END:VEVENT
BEGIN:VEVENT
DTSTART;TZID=Europe/Warsaw:20231107T161500
DTEND;TZID=Europe/Warsaw:20231107T174500
DTSTAMP:20260426T061400
CREATED:20231026T081526Z
LAST-MODIFIED:20231026T102608Z
UID:44585-1699373700-1699379100@gckib.iwanowice.pl
SUMMARY:Warsztaty okazjonalne
DESCRIPTION:
URL:https://gckib.iwanowice.pl/wydarzenie/warsztaty-okazjonalne-2/
LOCATION:Gminne Centrum Kultury i Bibliotek w Iwanowicach\, Strażacka 5\, Iwanowice Włościańskie
CATEGORIES:Warsztaty okazjonalne
END:VEVENT
BEGIN:VEVENT
DTSTART;TZID=Europe/Warsaw:20231107T161500
DTEND;TZID=Europe/Warsaw:20231107T170000
DTSTAMP:20260426T061400
CREATED:20231026T081848Z
LAST-MODIFIED:20231026T081848Z
UID:44589-1699373700-1699376400@gckib.iwanowice.pl
SUMMARY:Szachy
DESCRIPTION:
URL:https://gckib.iwanowice.pl/wydarzenie/szachy-3/
LOCATION:Gminne Centrum Kultury i Bibliotek w Iwanowicach\, Strażacka 5\, Iwanowice Włościańskie
CATEGORIES:Szachy
END:VEVENT
BEGIN:VEVENT
DTSTART;TZID=Europe/Warsaw:20231107T160000
DTEND;TZID=Europe/Warsaw:20231107T170000
DTSTAMP:20260426T061400
CREATED:20231025T140741Z
LAST-MODIFIED:20231025T140741Z
UID:44582-1699372800-1699376400@gckib.iwanowice.pl
SUMMARY:Jump judo
DESCRIPTION:
URL:https://gckib.iwanowice.pl/wydarzenie/jump-judo-6/
LOCATION:mała sala przy ZS – P w Iwanowicach Włościańskich
END:VEVENT
BEGIN:VEVENT
DTSTART;TZID=Europe/Warsaw:20231107T143000
DTEND;TZID=Europe/Warsaw:20231107T150000
DTSTAMP:20260426T061400
CREATED:20231025T140614Z
LAST-MODIFIED:20231026T102106Z
UID:44580-1699367400-1699369200@gckib.iwanowice.pl
SUMMARY:Jump judo
DESCRIPTION:
URL:https://gckib.iwanowice.pl/wydarzenie/jump-judo-5/
LOCATION:mała sala przy ZS – P w Iwanowicach Włościańskich
END:VEVENT
BEGIN:VEVENT
DTSTART;TZID=Europe/Warsaw:20231106T183000
DTEND;TZID=Europe/Warsaw:20231106T193000
DTSTAMP:20260426T061400
CREATED:20231025T125616Z
LAST-MODIFIED:20231025T125616Z
UID:44577-1699295400-1699299000@gckib.iwanowice.pl
SUMMARY:Joga
DESCRIPTION:
URL:https://gckib.iwanowice.pl/wydarzenie/joga-2/
LOCATION:mała sala przy ZS – P w Iwanowicach Włościańskich
CATEGORIES:joga
END:VEVENT
BEGIN:VEVENT
DTSTART;TZID=Europe/Warsaw:20231106T170000
DTEND;TZID=Europe/Warsaw:20231106T183000
DTSTAMP:20260426T061400
CREATED:20231025T125247Z
LAST-MODIFIED:20231025T125247Z
UID:44575-1699290000-1699295400@gckib.iwanowice.pl
SUMMARY:Zręczne rączki
DESCRIPTION:
URL:https://gckib.iwanowice.pl/wydarzenie/zreczne-raczki-2/
LOCATION:Gminne Centrum Kultury i Bibliotek w Iwanowicach\, Strażacka 5\, Iwanowice Włościańskie
CATEGORIES:Zręczne rączki
END:VEVENT
BEGIN:VEVENT
DTSTART;TZID=Europe/Warsaw:20231106T160000
DTEND;TZID=Europe/Warsaw:20231106T170000
DTSTAMP:20260426T061400
CREATED:20231025T123448Z
LAST-MODIFIED:20231025T123448Z
UID:44571-1699286400-1699290000@gckib.iwanowice.pl
SUMMARY:Matematyka
DESCRIPTION:
URL:https://gckib.iwanowice.pl/wydarzenie/matematyka-2/
LOCATION:Gminne Centrum Kultury i Bibliotek w Iwanowicach\, Strażacka 5\, Iwanowice Włościańskie
CATEGORIES:Matematyka
END:VEVENT
END:VCALENDAR