BEGIN:VCALENDAR
VERSION:2.0
PRODID:-//GCKiB - ECPv6.15.20//NONSGML v1.0//EN
CALSCALE:GREGORIAN
METHOD:PUBLISH
X-ORIGINAL-URL:https://gckib.iwanowice.pl
X-WR-CALDESC:Wydarzenia dla GCKiB
REFRESH-INTERVAL;VALUE=DURATION:PT1H
X-Robots-Tag:noindex
X-PUBLISHED-TTL:PT1H
BEGIN:VTIMEZONE
TZID:Europe/Warsaw
BEGIN:DAYLIGHT
TZOFFSETFROM:+0100
TZOFFSETTO:+0200
TZNAME:CEST
DTSTART:20220327T010000
END:DAYLIGHT
BEGIN:STANDARD
TZOFFSETFROM:+0200
TZOFFSETTO:+0100
TZNAME:CET
DTSTART:20221030T010000
END:STANDARD
BEGIN:DAYLIGHT
TZOFFSETFROM:+0100
TZOFFSETTO:+0200
TZNAME:CEST
DTSTART:20230326T010000
END:DAYLIGHT
BEGIN:STANDARD
TZOFFSETFROM:+0200
TZOFFSETTO:+0100
TZNAME:CET
DTSTART:20231029T010000
END:STANDARD
BEGIN:DAYLIGHT
TZOFFSETFROM:+0100
TZOFFSETTO:+0200
TZNAME:CEST
DTSTART:20240331T010000
END:DAYLIGHT
BEGIN:STANDARD
TZOFFSETFROM:+0200
TZOFFSETTO:+0100
TZNAME:CET
DTSTART:20241027T010000
END:STANDARD
END:VTIMEZONE
BEGIN:VEVENT
DTSTART;TZID=Europe/Warsaw:20231121T161500
DTEND;TZID=Europe/Warsaw:20231121T170000
DTSTAMP:20260426T024347
CREATED:20231026T122444Z
LAST-MODIFIED:20231026T122444Z
UID:44697-1700583300-1700586000@gckib.iwanowice.pl
SUMMARY:Szachy
DESCRIPTION:
URL:https://gckib.iwanowice.pl/wydarzenie/szachy-7/
LOCATION:Gminne Centrum Kultury i Bibliotek w Iwanowicach\, Strażacka 5\, Iwanowice Włościańskie
CATEGORIES:Szachy
END:VEVENT
BEGIN:VEVENT
DTSTART;TZID=Europe/Warsaw:20231121T160000
DTEND;TZID=Europe/Warsaw:20231121T170000
DTSTAMP:20260426T024347
CREATED:20231026T122044Z
LAST-MODIFIED:20231026T122044Z
UID:44691-1700582400-1700586000@gckib.iwanowice.pl
SUMMARY:Jump judo
DESCRIPTION:
URL:https://gckib.iwanowice.pl/wydarzenie/jump-judo-12/
LOCATION:mała sala przy ZS – P w Iwanowicach Włościańskich
END:VEVENT
BEGIN:VEVENT
DTSTART;TZID=Europe/Warsaw:20231121T143000
DTEND;TZID=Europe/Warsaw:20231121T150000
DTSTAMP:20260426T024347
CREATED:20231026T121956Z
LAST-MODIFIED:20231026T121956Z
UID:44689-1700577000-1700578800@gckib.iwanowice.pl
SUMMARY:Jump judo
DESCRIPTION:
URL:https://gckib.iwanowice.pl/wydarzenie/jump-judo-11/
LOCATION:mała sala przy ZS – P w Iwanowicach Włościańskich
END:VEVENT
BEGIN:VEVENT
DTSTART;TZID=Europe/Warsaw:20231120T183000
DTEND;TZID=Europe/Warsaw:20231120T193000
DTSTAMP:20260426T024347
CREATED:20231026T121901Z
LAST-MODIFIED:20231026T121901Z
UID:44687-1700505000-1700508600@gckib.iwanowice.pl
SUMMARY:Joga
DESCRIPTION:
URL:https://gckib.iwanowice.pl/wydarzenie/joga-4/
LOCATION:mała sala przy ZS – P w Iwanowicach Włościańskich
CATEGORIES:joga
END:VEVENT
BEGIN:VEVENT
DTSTART;TZID=Europe/Warsaw:20231120T170000
DTEND;TZID=Europe/Warsaw:20231120T183000
DTSTAMP:20260426T024347
CREATED:20231026T121815Z
LAST-MODIFIED:20231026T121815Z
UID:44685-1700499600-1700505000@gckib.iwanowice.pl
SUMMARY:Zręczne rączki
DESCRIPTION:
URL:https://gckib.iwanowice.pl/wydarzenie/zreczne-raczki-4/
LOCATION:Gminne Centrum Kultury i Bibliotek w Iwanowicach\, Strażacka 5\, Iwanowice Włościańskie
CATEGORIES:Zręczne rączki
END:VEVENT
BEGIN:VEVENT
DTSTART;TZID=Europe/Warsaw:20231120T160000
DTEND;TZID=Europe/Warsaw:20231120T170000
DTSTAMP:20260426T024347
CREATED:20231026T121618Z
LAST-MODIFIED:20231026T121618Z
UID:44681-1700496000-1700499600@gckib.iwanowice.pl
SUMMARY:Matematyka
DESCRIPTION:
URL:https://gckib.iwanowice.pl/wydarzenie/matematyka-4/
LOCATION:Gminne Centrum Kultury i Bibliotek w Iwanowicach\, Strażacka 5\, Iwanowice Włościańskie
CATEGORIES:Matematyka
END:VEVENT
BEGIN:VEVENT
DTSTART;TZID=Europe/Warsaw:20231117T160000
DTEND;TZID=Europe/Warsaw:20231117T170000
DTSTAMP:20260426T024347
CREATED:20231026T105821Z
LAST-MODIFIED:20231026T105821Z
UID:44677-1700236800-1700240400@gckib.iwanowice.pl
SUMMARY:Capoeira
DESCRIPTION:
URL:https://gckib.iwanowice.pl/wydarzenie/capoeira-8/
LOCATION:mała sala przy ZS – P w Iwanowicach Włościańskich
CATEGORIES:Capoeira
END:VEVENT
BEGIN:VEVENT
DTSTART;TZID=Europe/Warsaw:20231117T150000
DTEND;TZID=Europe/Warsaw:20231117T160000
DTSTAMP:20260426T024347
CREATED:20231026T105724Z
LAST-MODIFIED:20231026T105724Z
UID:44675-1700233200-1700236800@gckib.iwanowice.pl
SUMMARY:Capoeira
DESCRIPTION:
URL:https://gckib.iwanowice.pl/wydarzenie/capoeira-7/
LOCATION:Gminne Centrum Kultury i Bibliotek w Iwanowicach\, Strażacka 5\, Iwanowice Włościańskie
CATEGORIES:Capoeira
END:VEVENT
BEGIN:VEVENT
DTSTART;TZID=Europe/Warsaw:20231117T120000
DTEND;TZID=Europe/Warsaw:20231117T180000
DTSTAMP:20260426T024347
CREATED:20231026T105619Z
LAST-MODIFIED:20231026T105619Z
UID:44673-1700222400-1700244000@gckib.iwanowice.pl
SUMMARY:Pianino
DESCRIPTION:
URL:https://gckib.iwanowice.pl/wydarzenie/pianino-4/
LOCATION:Gminne Centrum Kultury i Bibliotek w Iwanowicach\, Strażacka 5\, Iwanowice Włościańskie
CATEGORIES:Pianino
END:VEVENT
BEGIN:VEVENT
DTSTART;TZID=Europe/Warsaw:20231116T193000
DTEND;TZID=Europe/Warsaw:20231116T203000
DTSTAMP:20260426T024347
CREATED:20231026T105527Z
LAST-MODIFIED:20231026T105527Z
UID:44671-1700163000-1700166600@gckib.iwanowice.pl
SUMMARY:Pilates
DESCRIPTION:
URL:https://gckib.iwanowice.pl/wydarzenie/pilates-4/
LOCATION:mała sala przy ZS – P w Iwanowicach Włościańskich
CATEGORIES:Pilates
END:VEVENT
BEGIN:VEVENT
DTSTART;TZID=Europe/Warsaw:20231116T170000
DTEND;TZID=Europe/Warsaw:20231116T190000
DTSTAMP:20260426T024347
CREATED:20231026T105338Z
LAST-MODIFIED:20231026T105423Z
UID:44669-1700154000-1700161200@gckib.iwanowice.pl
SUMMARY:Planszówki
DESCRIPTION:
URL:https://gckib.iwanowice.pl/wydarzenie/planszowki-4/
CATEGORIES:Planszówki
END:VEVENT
BEGIN:VEVENT
DTSTART;TZID=Europe/Warsaw:20231116T160000
DTEND;TZID=Europe/Warsaw:20231116T170000
DTSTAMP:20260426T024347
CREATED:20231026T105216Z
LAST-MODIFIED:20231026T105216Z
UID:44667-1700150400-1700154000@gckib.iwanowice.pl
SUMMARY:Jump judo
DESCRIPTION:
URL:https://gckib.iwanowice.pl/wydarzenie/jump-judo-10/
LOCATION:mała sala przy ZS – P w Iwanowicach Włościańskich
END:VEVENT
BEGIN:VEVENT
DTSTART;TZID=Europe/Warsaw:20231116T120000
DTEND;TZID=Europe/Warsaw:20231116T180000
DTSTAMP:20260426T024347
CREATED:20231026T104842Z
LAST-MODIFIED:20231026T104842Z
UID:44665-1700136000-1700157600@gckib.iwanowice.pl
SUMMARY:Zajęcia wokalne
DESCRIPTION:
URL:https://gckib.iwanowice.pl/wydarzenie/zajecia-wokalne-4/
LOCATION:Gminne Centrum Kultury i Bibliotek w Iwanowicach\, Strażacka 5\, Iwanowice Włościańskie
CATEGORIES:wokal
END:VEVENT
BEGIN:VEVENT
DTSTART;TZID=Europe/Warsaw:20231115T190000
DTEND;TZID=Europe/Warsaw:20231115T195500
DTSTAMP:20260426T024347
CREATED:20231026T104741Z
LAST-MODIFIED:20231026T104741Z
UID:44663-1700074800-1700078100@gckib.iwanowice.pl
SUMMARY:Zumba fitness
DESCRIPTION:
URL:https://gckib.iwanowice.pl/wydarzenie/zumba-fitness-5/
LOCATION:mała sala przy ZS – P w Iwanowicach Włościańskich
CATEGORIES:Zumba fitness
END:VEVENT
BEGIN:VEVENT
DTSTART;TZID=Europe/Warsaw:20231115T180000
DTEND;TZID=Europe/Warsaw:20231115T185500
DTSTAMP:20260426T024347
CREATED:20231026T104644Z
LAST-MODIFIED:20231026T104644Z
UID:44661-1700071200-1700074500@gckib.iwanowice.pl
SUMMARY:Zumba gold
DESCRIPTION:
URL:https://gckib.iwanowice.pl/wydarzenie/zumba-gold-3/
LOCATION:mała sala przy ZS – P w Iwanowicach Włościańskich
CATEGORIES:Zumba gold
END:VEVENT
BEGIN:VEVENT
DTSTART;TZID=Europe/Warsaw:20231115T170000
DTEND;TZID=Europe/Warsaw:20231115T174500
DTSTAMP:20260426T024347
CREATED:20231026T104544Z
LAST-MODIFIED:20231026T104544Z
UID:44659-1700067600-1700070300@gckib.iwanowice.pl
SUMMARY:Czarodziejski kuferek
DESCRIPTION:
URL:https://gckib.iwanowice.pl/wydarzenie/czarodziejski-kuferek-4/
LOCATION:Gminne Centrum Kultury i Bibliotek w Iwanowicach\, Strażacka 5\, Iwanowice Włościańskie
CATEGORIES:Czarodziejski kuferek
END:VEVENT
BEGIN:VEVENT
DTSTART;TZID=Europe/Warsaw:20231115T170000
DTEND;TZID=Europe/Warsaw:20231115T174500
DTSTAMP:20260426T024347
CREATED:20231026T104449Z
LAST-MODIFIED:20231026T104449Z
UID:44657-1700067600-1700070300@gckib.iwanowice.pl
SUMMARY:Balet
DESCRIPTION:
URL:https://gckib.iwanowice.pl/wydarzenie/balet-4/
LOCATION:mała sala przy ZS – P w Iwanowicach Włościańskich
END:VEVENT
BEGIN:VEVENT
DTSTART;TZID=Europe/Warsaw:20231114T174500
DTEND;TZID=Europe/Warsaw:20231114T184000
DTSTAMP:20260426T024347
CREATED:20231026T104346Z
LAST-MODIFIED:20231026T104346Z
UID:44655-1699983900-1699987200@gckib.iwanowice.pl
SUMMARY:Zumba junior
DESCRIPTION:
URL:https://gckib.iwanowice.pl/wydarzenie/zumba-junior-3/
LOCATION:mała sala przy ZS – P w Iwanowicach Włościańskich
CATEGORIES:Zumba junior
END:VEVENT
BEGIN:VEVENT
DTSTART;TZID=Europe/Warsaw:20231114T170000
DTEND;TZID=Europe/Warsaw:20231114T180000
DTSTAMP:20260426T024347
CREATED:20231026T102951Z
LAST-MODIFIED:20231026T102951Z
UID:44644-1699981200-1699984800@gckib.iwanowice.pl
SUMMARY:Komiks- zajęcia cykliczne
DESCRIPTION:
URL:https://gckib.iwanowice.pl/wydarzenie/komiks-zajecia-cykliczne-3/
LOCATION:Gminne Centrum Kultury i Bibliotek w Iwanowicach\, Strażacka 5\, Iwanowice Włościańskie
CATEGORIES:Komiks- zajęcia cykliczne
END:VEVENT
BEGIN:VEVENT
DTSTART;TZID=Europe/Warsaw:20231114T170000
DTEND;TZID=Europe/Warsaw:20231114T174500
DTSTAMP:20260426T024347
CREATED:20231026T104153Z
LAST-MODIFIED:20231026T104153Z
UID:44653-1699981200-1699983900@gckib.iwanowice.pl
SUMMARY:Szachy
DESCRIPTION:
URL:https://gckib.iwanowice.pl/wydarzenie/szachy-6/
LOCATION:Gminne Centrum Kultury i Bibliotek w Iwanowicach\, Strażacka 5\, Iwanowice Włościańskie
CATEGORIES:Szachy
END:VEVENT
BEGIN:VEVENT
DTSTART;TZID=Europe/Warsaw:20231114T170000
DTEND;TZID=Europe/Warsaw:20231114T174500
DTSTAMP:20260426T024347
CREATED:20231026T104025Z
LAST-MODIFIED:20231026T104025Z
UID:44651-1699981200-1699983900@gckib.iwanowice.pl
SUMMARY:Zumba kids
DESCRIPTION:
URL:https://gckib.iwanowice.pl/wydarzenie/zumba-kids-5/
LOCATION:mała sala przy ZS – P w Iwanowicach Włościańskich
CATEGORIES:Zumba kids
END:VEVENT
BEGIN:VEVENT
DTSTART;TZID=Europe/Warsaw:20231114T161500
DTEND;TZID=Europe/Warsaw:20231114T174500
DTSTAMP:20260426T024347
CREATED:20231026T102521Z
LAST-MODIFIED:20231026T102521Z
UID:44641-1699978500-1699983900@gckib.iwanowice.pl
SUMMARY:Warsztaty okazjonalne
DESCRIPTION:
URL:https://gckib.iwanowice.pl/wydarzenie/warsztaty-okazjonalne-3/
LOCATION:Gminne Centrum Kultury i Bibliotek w Iwanowicach\, Strażacka 5\, Iwanowice Włościańskie
CATEGORIES:Warsztaty okazjonalne
END:VEVENT
BEGIN:VEVENT
DTSTART;TZID=Europe/Warsaw:20231114T161500
DTEND;TZID=Europe/Warsaw:20231114T170000
DTSTAMP:20260426T024347
CREATED:20231026T103836Z
LAST-MODIFIED:20231026T103836Z
UID:44649-1699978500-1699981200@gckib.iwanowice.pl
SUMMARY:Szachy
DESCRIPTION:
URL:https://gckib.iwanowice.pl/wydarzenie/szachy-5/
LOCATION:Gminne Centrum Kultury i Bibliotek w Iwanowicach\, Strażacka 5\, Iwanowice Włościańskie
CATEGORIES:Szachy
END:VEVENT
BEGIN:VEVENT
DTSTART;TZID=Europe/Warsaw:20231114T160000
DTEND;TZID=Europe/Warsaw:20231114T170000
DTSTAMP:20260426T024347
CREATED:20231026T102223Z
LAST-MODIFIED:20231026T102223Z
UID:44639-1699977600-1699981200@gckib.iwanowice.pl
SUMMARY:Jump judo
DESCRIPTION:
URL:https://gckib.iwanowice.pl/wydarzenie/jump-judo-9/
LOCATION:mała sala przy ZS – P w Iwanowicach Włościańskich
END:VEVENT
BEGIN:VEVENT
DTSTART;TZID=Europe/Warsaw:20231114T143000
DTEND;TZID=Europe/Warsaw:20231114T150000
DTSTAMP:20260426T024347
CREATED:20231026T100750Z
LAST-MODIFIED:20231026T100750Z
UID:44637-1699972200-1699974000@gckib.iwanowice.pl
SUMMARY:Jump judo
DESCRIPTION:
URL:https://gckib.iwanowice.pl/wydarzenie/jump-judo-8/
LOCATION:mała sala przy ZS – P w Iwanowicach Włościańskich
END:VEVENT
BEGIN:VEVENT
DTSTART;TZID=Europe/Warsaw:20231113T183000
DTEND;TZID=Europe/Warsaw:20231113T193000
DTSTAMP:20260426T024347
CREATED:20231026T095952Z
LAST-MODIFIED:20231026T095952Z
UID:44635-1699900200-1699903800@gckib.iwanowice.pl
SUMMARY:Joga
DESCRIPTION:
URL:https://gckib.iwanowice.pl/wydarzenie/joga-3/
LOCATION:mała sala przy ZS – P w Iwanowicach Włościańskich
CATEGORIES:joga
END:VEVENT
BEGIN:VEVENT
DTSTART;TZID=Europe/Warsaw:20231113T170000
DTEND;TZID=Europe/Warsaw:20231113T183000
DTSTAMP:20260426T024347
CREATED:20231026T095826Z
LAST-MODIFIED:20231026T095854Z
UID:44633-1699894800-1699900200@gckib.iwanowice.pl
SUMMARY:Zręczne rączki
DESCRIPTION:
URL:https://gckib.iwanowice.pl/wydarzenie/zreczne-raczki-3/
LOCATION:Gminne Centrum Kultury i Bibliotek w Iwanowicach\, Strażacka 5\, Iwanowice Włościańskie
CATEGORIES:Zręczne rączki
END:VEVENT
BEGIN:VEVENT
DTSTART;TZID=Europe/Warsaw:20231113T160000
DTEND;TZID=Europe/Warsaw:20231113T170000
DTSTAMP:20260426T024347
CREATED:20231026T095438Z
LAST-MODIFIED:20231026T095619Z
UID:44629-1699891200-1699894800@gckib.iwanowice.pl
SUMMARY:Matematyka
DESCRIPTION:
URL:https://gckib.iwanowice.pl/wydarzenie/matematyka-3/
LOCATION:Gminne Centrum Kultury i Bibliotek w Iwanowicach\, Strażacka 5\, Iwanowice Włościańskie
CATEGORIES:Matematyka
END:VEVENT
BEGIN:VEVENT
DTSTART;TZID=Europe/Warsaw:20231110T160000
DTEND;TZID=Europe/Warsaw:20231110T170000
DTSTAMP:20260426T024347
CREATED:20231026T093844Z
LAST-MODIFIED:20231026T093844Z
UID:44618-1699632000-1699635600@gckib.iwanowice.pl
SUMMARY:Capoeira
DESCRIPTION:
URL:https://gckib.iwanowice.pl/wydarzenie/capoeira-6/
LOCATION:mała sala przy ZS – P w Iwanowicach Włościańskich
CATEGORIES:Capoeira
END:VEVENT
BEGIN:VEVENT
DTSTART;TZID=Europe/Warsaw:20231110T150000
DTEND;TZID=Europe/Warsaw:20231110T160000
DTSTAMP:20260426T024347
CREATED:20231026T093749Z
LAST-MODIFIED:20231026T093749Z
UID:44616-1699628400-1699632000@gckib.iwanowice.pl
SUMMARY:Capoeira
DESCRIPTION:
URL:https://gckib.iwanowice.pl/wydarzenie/capoeira-5/
LOCATION:mała sala przy ZS – P w Iwanowicach Włościańskich
CATEGORIES:Capoeira
END:VEVENT
END:VCALENDAR