BEGIN:VCALENDAR
VERSION:2.0
PRODID:-//GCKiB - ECPv6.15.20//NONSGML v1.0//EN
CALSCALE:GREGORIAN
METHOD:PUBLISH
X-ORIGINAL-URL:https://gckib.iwanowice.pl
X-WR-CALDESC:Wydarzenia dla GCKiB
REFRESH-INTERVAL;VALUE=DURATION:PT1H
X-Robots-Tag:noindex
X-PUBLISHED-TTL:PT1H
BEGIN:VTIMEZONE
TZID:Europe/Warsaw
BEGIN:DAYLIGHT
TZOFFSETFROM:+0100
TZOFFSETTO:+0200
TZNAME:CEST
DTSTART:20220327T010000
END:DAYLIGHT
BEGIN:STANDARD
TZOFFSETFROM:+0200
TZOFFSETTO:+0100
TZNAME:CET
DTSTART:20221030T010000
END:STANDARD
BEGIN:DAYLIGHT
TZOFFSETFROM:+0100
TZOFFSETTO:+0200
TZNAME:CEST
DTSTART:20230326T010000
END:DAYLIGHT
BEGIN:STANDARD
TZOFFSETFROM:+0200
TZOFFSETTO:+0100
TZNAME:CET
DTSTART:20231029T010000
END:STANDARD
BEGIN:DAYLIGHT
TZOFFSETFROM:+0100
TZOFFSETTO:+0200
TZNAME:CEST
DTSTART:20240331T010000
END:DAYLIGHT
BEGIN:STANDARD
TZOFFSETFROM:+0200
TZOFFSETTO:+0100
TZNAME:CET
DTSTART:20241027T010000
END:STANDARD
END:VTIMEZONE
BEGIN:VEVENT
DTSTART;TZID=Europe/Warsaw:20231129T180000
DTEND;TZID=Europe/Warsaw:20231129T185500
DTSTAMP:20260425T211829
CREATED:20231026T132134Z
LAST-MODIFIED:20231026T132134Z
UID:44763-1701280800-1701284100@gckib.iwanowice.pl
SUMMARY:Zumba gold
DESCRIPTION:
URL:https://gckib.iwanowice.pl/wydarzenie/zumba-gold-6/
LOCATION:mała sala przy ZS – P w Iwanowicach Włościańskich
CATEGORIES:Zumba gold
END:VEVENT
BEGIN:VEVENT
DTSTART;TZID=Europe/Warsaw:20231129T170000
DTEND;TZID=Europe/Warsaw:20231129T174500
DTSTAMP:20260425T211829
CREATED:20231026T132021Z
LAST-MODIFIED:20231026T132021Z
UID:44761-1701277200-1701279900@gckib.iwanowice.pl
SUMMARY:Czarodziejski kuferek
DESCRIPTION:
URL:https://gckib.iwanowice.pl/wydarzenie/czarodziejski-kuferek-6/
LOCATION:Gminne Centrum Kultury i Bibliotek w Iwanowicach\, Strażacka 5\, Iwanowice Włościańskie
CATEGORIES:Czarodziejski kuferek
END:VEVENT
BEGIN:VEVENT
DTSTART;TZID=Europe/Warsaw:20231129T170000
DTEND;TZID=Europe/Warsaw:20231129T174500
DTSTAMP:20260425T211829
CREATED:20231026T131914Z
LAST-MODIFIED:20231026T131914Z
UID:44759-1701277200-1701279900@gckib.iwanowice.pl
SUMMARY:Balet
DESCRIPTION:
URL:https://gckib.iwanowice.pl/wydarzenie/balet-6/
LOCATION:mała sala przy ZS – P w Iwanowicach Włościańskich
END:VEVENT
BEGIN:VEVENT
DTSTART;TZID=Europe/Warsaw:20231128T174500
DTEND;TZID=Europe/Warsaw:20231128T184000
DTSTAMP:20260425T211829
CREATED:20231026T131715Z
LAST-MODIFIED:20231026T131715Z
UID:44757-1701193500-1701196800@gckib.iwanowice.pl
SUMMARY:Zumba junior
DESCRIPTION:
URL:https://gckib.iwanowice.pl/wydarzenie/zumba-junior-5/
LOCATION:mała sala przy ZS – P w Iwanowicach Włościańskich
CATEGORIES:Zumba junior
END:VEVENT
BEGIN:VEVENT
DTSTART;TZID=Europe/Warsaw:20231128T170000
DTEND;TZID=Europe/Warsaw:20231128T180000
DTSTAMP:20260425T211829
CREATED:20231026T125703Z
LAST-MODIFIED:20231026T125703Z
UID:44749-1701190800-1701194400@gckib.iwanowice.pl
SUMMARY:Komiks- zajęcia okazjonalne
DESCRIPTION:
URL:https://gckib.iwanowice.pl/wydarzenie/komiks-zajecia-okazjonalne/
LOCATION:Gminne Centrum Kultury i Bibliotek w Iwanowicach\, Strażacka 5\, Iwanowice Włościańskie
CATEGORIES:Komiks- zajęcia cykliczne
END:VEVENT
BEGIN:VEVENT
DTSTART;TZID=Europe/Warsaw:20231128T170000
DTEND;TZID=Europe/Warsaw:20231128T174500
DTSTAMP:20260425T211829
CREATED:20231026T130004Z
LAST-MODIFIED:20231026T130004Z
UID:44755-1701190800-1701193500@gckib.iwanowice.pl
SUMMARY:Szachy
DESCRIPTION:
URL:https://gckib.iwanowice.pl/wydarzenie/szachy-10/
LOCATION:Gminne Centrum Kultury i Bibliotek w Iwanowicach\, Strażacka 5\, Iwanowice Włościańskie
CATEGORIES:Szachy
END:VEVENT
BEGIN:VEVENT
DTSTART;TZID=Europe/Warsaw:20231128T170000
DTEND;TZID=Europe/Warsaw:20231128T174500
DTSTAMP:20260425T211829
CREATED:20231026T125851Z
LAST-MODIFIED:20231026T125851Z
UID:44753-1701190800-1701193500@gckib.iwanowice.pl
SUMMARY:Zumba kids
DESCRIPTION:
URL:https://gckib.iwanowice.pl/wydarzenie/zumba-kids-7/
LOCATION:mała sala przy ZS – P w Iwanowicach Włościańskich
CATEGORIES:Zumba kids
END:VEVENT
BEGIN:VEVENT
DTSTART;TZID=Europe/Warsaw:20231128T161500
DTEND;TZID=Europe/Warsaw:20231128T174500
DTSTAMP:20260425T211829
CREATED:20231026T125557Z
LAST-MODIFIED:20231026T125557Z
UID:44747-1701188100-1701193500@gckib.iwanowice.pl
SUMMARY:Warsztaty okazjonalne
DESCRIPTION:
URL:https://gckib.iwanowice.pl/wydarzenie/warsztaty-okazjonalne-6/
LOCATION:Gminne Centrum Kultury i Bibliotek w Iwanowicach\, Strażacka 5\, Iwanowice Włościańskie
CATEGORIES:Warsztaty okazjonalne
END:VEVENT
BEGIN:VEVENT
DTSTART;TZID=Europe/Warsaw:20231128T161500
DTEND;TZID=Europe/Warsaw:20231128T170000
DTSTAMP:20260425T211829
CREATED:20231026T125800Z
LAST-MODIFIED:20231026T125800Z
UID:44751-1701188100-1701190800@gckib.iwanowice.pl
SUMMARY:Szachy
DESCRIPTION:
URL:https://gckib.iwanowice.pl/wydarzenie/szachy-9/
LOCATION:Gminne Centrum Kultury i Bibliotek w Iwanowicach\, Strażacka 5\, Iwanowice Włościańskie
CATEGORIES:Szachy
END:VEVENT
BEGIN:VEVENT
DTSTART;TZID=Europe/Warsaw:20231128T160000
DTEND;TZID=Europe/Warsaw:20231128T170000
DTSTAMP:20260425T211829
CREATED:20231026T125436Z
LAST-MODIFIED:20231026T125436Z
UID:44745-1701187200-1701190800@gckib.iwanowice.pl
SUMMARY:Jump judo
DESCRIPTION:
URL:https://gckib.iwanowice.pl/wydarzenie/jump-judo-15/
LOCATION:mała sala przy ZS – P w Iwanowicach Włościańskich
END:VEVENT
BEGIN:VEVENT
DTSTART;TZID=Europe/Warsaw:20231128T143000
DTEND;TZID=Europe/Warsaw:20231128T150000
DTSTAMP:20260425T211829
CREATED:20231026T125340Z
LAST-MODIFIED:20231026T125340Z
UID:44743-1701181800-1701183600@gckib.iwanowice.pl
SUMMARY:Jump judo
DESCRIPTION:
URL:https://gckib.iwanowice.pl/wydarzenie/jump-judo-14/
LOCATION:mała sala przy ZS – P w Iwanowicach Włościańskich
END:VEVENT
BEGIN:VEVENT
DTSTART;TZID=Europe/Warsaw:20231127T183000
DTEND;TZID=Europe/Warsaw:20231127T193000
DTSTAMP:20260425T211829
CREATED:20231026T125239Z
LAST-MODIFIED:20231026T125239Z
UID:44741-1701109800-1701113400@gckib.iwanowice.pl
SUMMARY:Joga
DESCRIPTION:
URL:https://gckib.iwanowice.pl/wydarzenie/joga-5/
LOCATION:mała sala przy ZS – P w Iwanowicach Włościańskich
CATEGORIES:joga
END:VEVENT
BEGIN:VEVENT
DTSTART;TZID=Europe/Warsaw:20231127T170000
DTEND;TZID=Europe/Warsaw:20231127T183000
DTSTAMP:20260425T211829
CREATED:20231026T125140Z
LAST-MODIFIED:20231026T125140Z
UID:44739-1701104400-1701109800@gckib.iwanowice.pl
SUMMARY:Zręczne rączki
DESCRIPTION:
URL:https://gckib.iwanowice.pl/wydarzenie/zreczne-raczki-5/
LOCATION:Gminne Centrum Kultury i Bibliotek w Iwanowicach\, Strażacka 5\, Iwanowice Włościańskie
CATEGORIES:Zręczne rączki
END:VEVENT
BEGIN:VEVENT
DTSTART;TZID=Europe/Warsaw:20231127T160000
DTEND;TZID=Europe/Warsaw:20231127T170000
DTSTAMP:20260425T211829
CREATED:20231026T124944Z
LAST-MODIFIED:20231026T124944Z
UID:44735-1701100800-1701104400@gckib.iwanowice.pl
SUMMARY:Matematyka
DESCRIPTION:
URL:https://gckib.iwanowice.pl/wydarzenie/matematyka-5/
LOCATION:Gminne Centrum Kultury i Bibliotek w Iwanowicach\, Strażacka 5\, Iwanowice Włościańskie
CATEGORIES:Matematyka
END:VEVENT
BEGIN:VEVENT
DTSTART;TZID=Europe/Warsaw:20231124T160000
DTEND;TZID=Europe/Warsaw:20231124T170000
DTSTAMP:20260425T211829
CREATED:20231026T124740Z
LAST-MODIFIED:20231026T124740Z
UID:44731-1700841600-1700845200@gckib.iwanowice.pl
SUMMARY:Capoeira
DESCRIPTION:
URL:https://gckib.iwanowice.pl/wydarzenie/capoeira-10/
LOCATION:mała sala przy ZS – P w Iwanowicach Włościańskich
CATEGORIES:Capoeira
END:VEVENT
BEGIN:VEVENT
DTSTART;TZID=Europe/Warsaw:20231124T150000
DTEND;TZID=Europe/Warsaw:20231124T160000
DTSTAMP:20260425T211829
CREATED:20231026T124654Z
LAST-MODIFIED:20231026T124654Z
UID:44729-1700838000-1700841600@gckib.iwanowice.pl
SUMMARY:Capoeira
DESCRIPTION:
URL:https://gckib.iwanowice.pl/wydarzenie/capoeira-9/
LOCATION:mała sala przy ZS – P w Iwanowicach Włościańskich
CATEGORIES:Capoeira
END:VEVENT
BEGIN:VEVENT
DTSTART;TZID=Europe/Warsaw:20231124T120000
DTEND;TZID=Europe/Warsaw:20231124T180000
DTSTAMP:20260425T211829
CREATED:20231026T124559Z
LAST-MODIFIED:20231026T124559Z
UID:44727-1700827200-1700848800@gckib.iwanowice.pl
SUMMARY:Pianino
DESCRIPTION:
URL:https://gckib.iwanowice.pl/wydarzenie/pianino-5/
LOCATION:Gminne Centrum Kultury i Bibliotek w Iwanowicach\, Strażacka 5\, Iwanowice Włościańskie
CATEGORIES:Pianino
END:VEVENT
BEGIN:VEVENT
DTSTART;TZID=Europe/Warsaw:20231123T193000
DTEND;TZID=Europe/Warsaw:20231123T203000
DTSTAMP:20260425T211829
CREATED:20231026T124503Z
LAST-MODIFIED:20231026T124503Z
UID:44725-1700767800-1700771400@gckib.iwanowice.pl
SUMMARY:Pilates
DESCRIPTION:
URL:https://gckib.iwanowice.pl/wydarzenie/pilates-5/
LOCATION:mała sala przy ZS – P w Iwanowicach Włościańskich
CATEGORIES:Pilates
END:VEVENT
BEGIN:VEVENT
DTSTART;TZID=Europe/Warsaw:20231123T173000
DTEND;TZID=Europe/Warsaw:20231123T190000
DTSTAMP:20260425T211829
CREATED:20231026T124408Z
LAST-MODIFIED:20231026T124408Z
UID:44723-1700760600-1700766000@gckib.iwanowice.pl
SUMMARY:Planszówki
DESCRIPTION:
URL:https://gckib.iwanowice.pl/wydarzenie/planszowki-5/
LOCATION:Gminne Centrum Kultury i Bibliotek w Iwanowicach\, Strażacka 5\, Iwanowice Włościańskie
CATEGORIES:Planszówki
END:VEVENT
BEGIN:VEVENT
DTSTART;TZID=Europe/Warsaw:20231123T160000
DTEND;TZID=Europe/Warsaw:20231123T170000
DTSTAMP:20260425T211829
CREATED:20231026T124257Z
LAST-MODIFIED:20231026T124257Z
UID:44721-1700755200-1700758800@gckib.iwanowice.pl
SUMMARY:Jump judo
DESCRIPTION:
URL:https://gckib.iwanowice.pl/wydarzenie/jump-judo-13/
LOCATION:mała sala przy ZS – P w Iwanowicach Włościańskich
END:VEVENT
BEGIN:VEVENT
DTSTART;TZID=Europe/Warsaw:20231123T120000
DTEND;TZID=Europe/Warsaw:20231123T180000
DTSTAMP:20260425T211829
CREATED:20231026T124143Z
LAST-MODIFIED:20231026T124143Z
UID:44719-1700740800-1700762400@gckib.iwanowice.pl
SUMMARY:Zajęcia wokalne
DESCRIPTION:
URL:https://gckib.iwanowice.pl/wydarzenie/zajecia-wokalne-5/
LOCATION:Gminne Centrum Kultury i Bibliotek w Iwanowicach\, Strażacka 5\, Iwanowice Włościańskie
CATEGORIES:wokal
END:VEVENT
BEGIN:VEVENT
DTSTART;TZID=Europe/Warsaw:20231122T190000
DTEND;TZID=Europe/Warsaw:20231122T195500
DTSTAMP:20260425T211829
CREATED:20231026T124024Z
LAST-MODIFIED:20231026T124024Z
UID:44717-1700679600-1700682900@gckib.iwanowice.pl
SUMMARY:Zumba fitness
DESCRIPTION:
URL:https://gckib.iwanowice.pl/wydarzenie/zumba-fitness-7/
LOCATION:mała sala przy ZS – P w Iwanowicach Włościańskich
CATEGORIES:Zumba fitness
END:VEVENT
BEGIN:VEVENT
DTSTART;TZID=Europe/Warsaw:20231122T180000
DTEND;TZID=Europe/Warsaw:20231122T185500
DTSTAMP:20260425T211829
CREATED:20231026T123925Z
LAST-MODIFIED:20231026T123925Z
UID:44715-1700676000-1700679300@gckib.iwanowice.pl
SUMMARY:Zumba gold
DESCRIPTION:
URL:https://gckib.iwanowice.pl/wydarzenie/zumba-gold-5/
LOCATION:mała sala przy ZS – P w Iwanowicach Włościańskich
CATEGORIES:Zumba gold
END:VEVENT
BEGIN:VEVENT
DTSTART;TZID=Europe/Warsaw:20231122T170000
DTEND;TZID=Europe/Warsaw:20231122T174500
DTSTAMP:20260425T211829
CREATED:20231026T123818Z
LAST-MODIFIED:20231026T123818Z
UID:44713-1700672400-1700675100@gckib.iwanowice.pl
SUMMARY:Czarodziejski kuferek
DESCRIPTION:
URL:https://gckib.iwanowice.pl/wydarzenie/czarodziejski-kuferek-5/
LOCATION:Gminne Centrum Kultury i Bibliotek w Iwanowicach\, Strażacka 5\, Iwanowice Włościańskie
CATEGORIES:Czarodziejski kuferek
END:VEVENT
BEGIN:VEVENT
DTSTART;TZID=Europe/Warsaw:20231122T170000
DTEND;TZID=Europe/Warsaw:20231122T174500
DTSTAMP:20260425T211829
CREATED:20231026T123150Z
LAST-MODIFIED:20231026T123150Z
UID:44705-1700672400-1700675100@gckib.iwanowice.pl
SUMMARY:Balet
DESCRIPTION:
URL:https://gckib.iwanowice.pl/wydarzenie/balet-5/
LOCATION:mała sala przy ZS – P w Iwanowicach Włościańskich
END:VEVENT
BEGIN:VEVENT
DTSTART;TZID=Europe/Warsaw:20231121T174500
DTEND;TZID=Europe/Warsaw:20231121T184000
DTSTAMP:20260425T211829
CREATED:20231026T122811Z
LAST-MODIFIED:20231026T122811Z
UID:44703-1700588700-1700592000@gckib.iwanowice.pl
SUMMARY:Zumba junior
DESCRIPTION:
URL:https://gckib.iwanowice.pl/wydarzenie/zumba-junior-4/
LOCATION:mała sala przy ZS – P w Iwanowicach Włościańskich
CATEGORIES:Zumba junior
END:VEVENT
BEGIN:VEVENT
DTSTART;TZID=Europe/Warsaw:20231121T170000
DTEND;TZID=Europe/Warsaw:20231121T180000
DTSTAMP:20260425T211829
CREATED:20231026T122303Z
LAST-MODIFIED:20231026T122303Z
UID:44695-1700586000-1700589600@gckib.iwanowice.pl
SUMMARY:Komiks- zajęcia cykliczne
DESCRIPTION:
URL:https://gckib.iwanowice.pl/wydarzenie/komiks-zajecia-cykliczne-4/
LOCATION:Gminne Centrum Kultury i Bibliotek w Iwanowicach\, Strażacka 5\, Iwanowice Włościańskie
CATEGORIES:Komiks- zajęcia cykliczne
END:VEVENT
BEGIN:VEVENT
DTSTART;TZID=Europe/Warsaw:20231121T170000
DTEND;TZID=Europe/Warsaw:20231121T174500
DTSTAMP:20260425T211829
CREATED:20231026T122644Z
LAST-MODIFIED:20231026T122644Z
UID:44701-1700586000-1700588700@gckib.iwanowice.pl
SUMMARY:Szachy
DESCRIPTION:
URL:https://gckib.iwanowice.pl/wydarzenie/szachy-8/
LOCATION:Gminne Centrum Kultury i Bibliotek w Iwanowicach\, Strażacka 5\, Iwanowice Włościańskie
CATEGORIES:Szachy
END:VEVENT
BEGIN:VEVENT
DTSTART;TZID=Europe/Warsaw:20231121T170000
DTEND;TZID=Europe/Warsaw:20231121T174500
DTSTAMP:20260425T211829
CREATED:20231026T122547Z
LAST-MODIFIED:20231026T122547Z
UID:44699-1700586000-1700588700@gckib.iwanowice.pl
SUMMARY:Zumba kids
DESCRIPTION:
URL:https://gckib.iwanowice.pl/wydarzenie/zumba-kids-6/
LOCATION:mała sala przy ZS – P w Iwanowicach Włościańskich
CATEGORIES:Zumba kids
END:VEVENT
BEGIN:VEVENT
DTSTART;TZID=Europe/Warsaw:20231121T161500
DTEND;TZID=Europe/Warsaw:20231121T174500
DTSTAMP:20260425T211829
CREATED:20231026T122204Z
LAST-MODIFIED:20231026T122204Z
UID:44693-1700583300-1700588700@gckib.iwanowice.pl
SUMMARY:Warsztaty okazjonalne
DESCRIPTION:
URL:https://gckib.iwanowice.pl/wydarzenie/warsztaty-okazjonalne-5/
LOCATION:Gminne Centrum Kultury i Bibliotek w Iwanowicach\, Strażacka 5\, Iwanowice Włościańskie
CATEGORIES:Warsztaty okazjonalne
END:VEVENT
END:VCALENDAR