BEGIN:VCALENDAR
VERSION:2.0
PRODID:-//GCKiB - ECPv6.15.20//NONSGML v1.0//EN
CALSCALE:GREGORIAN
METHOD:PUBLISH
X-ORIGINAL-URL:https://gckib.iwanowice.pl
X-WR-CALDESC:Wydarzenia dla GCKiB
REFRESH-INTERVAL;VALUE=DURATION:PT1H
X-Robots-Tag:noindex
X-PUBLISHED-TTL:PT1H
BEGIN:VTIMEZONE
TZID:Europe/Warsaw
BEGIN:DAYLIGHT
TZOFFSETFROM:+0100
TZOFFSETTO:+0200
TZNAME:CEST
DTSTART:20220327T010000
END:DAYLIGHT
BEGIN:STANDARD
TZOFFSETFROM:+0200
TZOFFSETTO:+0100
TZNAME:CET
DTSTART:20221030T010000
END:STANDARD
BEGIN:DAYLIGHT
TZOFFSETFROM:+0100
TZOFFSETTO:+0200
TZNAME:CEST
DTSTART:20230326T010000
END:DAYLIGHT
BEGIN:STANDARD
TZOFFSETFROM:+0200
TZOFFSETTO:+0100
TZNAME:CET
DTSTART:20231029T010000
END:STANDARD
BEGIN:DAYLIGHT
TZOFFSETFROM:+0100
TZOFFSETTO:+0200
TZNAME:CEST
DTSTART:20240331T010000
END:DAYLIGHT
BEGIN:STANDARD
TZOFFSETFROM:+0200
TZOFFSETTO:+0100
TZNAME:CET
DTSTART:20241027T010000
END:STANDARD
END:VTIMEZONE
BEGIN:VEVENT
DTSTART;TZID=Europe/Warsaw:20231212T170000
DTEND;TZID=Europe/Warsaw:20231212T180000
DTSTAMP:20260425T134944
CREATED:20231027T100338Z
LAST-MODIFIED:20231027T100338Z
UID:44900-1702400400-1702404000@gckib.iwanowice.pl
SUMMARY:Komiks- zajęcia cykliczne
DESCRIPTION:
URL:https://gckib.iwanowice.pl/wydarzenie/komiks-zajecia-cykliczne-6/
LOCATION:Centrum Turystyki i Rekreacji w Iwanowicach\, Iwanowice Włościańskie\, małopolskie\, 32-095\, Polska
CATEGORIES:Komiks- zajęcia cykliczne
END:VEVENT
BEGIN:VEVENT
DTSTART;TZID=Europe/Warsaw:20231212T170000
DTEND;TZID=Europe/Warsaw:20231212T174500
DTSTAMP:20260425T134944
CREATED:20231027T100749Z
LAST-MODIFIED:20231027T100749Z
UID:44906-1702400400-1702403100@gckib.iwanowice.pl
SUMMARY:Szachy
DESCRIPTION:
URL:https://gckib.iwanowice.pl/wydarzenie/szachy-14/
LOCATION:Gminne Centrum Kultury i Bibliotek w Iwanowicach\, Strażacka 5\, Iwanowice Włościańskie
CATEGORIES:Szachy
END:VEVENT
BEGIN:VEVENT
DTSTART;TZID=Europe/Warsaw:20231212T170000
DTEND;TZID=Europe/Warsaw:20231212T174500
DTSTAMP:20260425T134944
CREATED:20231027T100656Z
LAST-MODIFIED:20231027T100656Z
UID:44904-1702400400-1702403100@gckib.iwanowice.pl
SUMMARY:Zumba kids
DESCRIPTION:
URL:https://gckib.iwanowice.pl/wydarzenie/zumba-kids-9/
LOCATION:mała sala przy ZS – P w Iwanowicach Włościańskich
CATEGORIES:Zumba kids
END:VEVENT
BEGIN:VEVENT
DTSTART;TZID=Europe/Warsaw:20231212T161500
DTEND;TZID=Europe/Warsaw:20231212T174500
DTSTAMP:20260425T134944
CREATED:20231027T100215Z
LAST-MODIFIED:20231027T100215Z
UID:44898-1702397700-1702403100@gckib.iwanowice.pl
SUMMARY:Warsztaty okazjonalne
DESCRIPTION:
URL:https://gckib.iwanowice.pl/wydarzenie/warsztaty-okazjonalne-8/
LOCATION:mała sala przy ZS – P w Iwanowicach Włościańskich
CATEGORIES:Warsztaty okazjonalne
END:VEVENT
BEGIN:VEVENT
DTSTART;TZID=Europe/Warsaw:20231212T161500
DTEND;TZID=Europe/Warsaw:20231212T170000
DTSTAMP:20260425T134944
CREATED:20231027T100528Z
LAST-MODIFIED:20231027T100528Z
UID:44902-1702397700-1702400400@gckib.iwanowice.pl
SUMMARY:Szachy
DESCRIPTION:
URL:https://gckib.iwanowice.pl/wydarzenie/szachy-13/
LOCATION:Gminne Centrum Kultury i Bibliotek w Iwanowicach\, Strażacka 5\, Iwanowice Włościańskie
CATEGORIES:Szachy
END:VEVENT
BEGIN:VEVENT
DTSTART;TZID=Europe/Warsaw:20231212T160000
DTEND;TZID=Europe/Warsaw:20231212T170000
DTSTAMP:20260425T134944
CREATED:20231027T100023Z
LAST-MODIFIED:20231027T100023Z
UID:44896-1702396800-1702400400@gckib.iwanowice.pl
SUMMARY:Jump judo
DESCRIPTION:
URL:https://gckib.iwanowice.pl/wydarzenie/jump-judo-20/
LOCATION:mała sala przy ZS – P w Iwanowicach Włościańskich
END:VEVENT
BEGIN:VEVENT
DTSTART;TZID=Europe/Warsaw:20231212T143000
DTEND;TZID=Europe/Warsaw:20231212T150000
DTSTAMP:20260425T134944
CREATED:20231027T095649Z
LAST-MODIFIED:20231027T095925Z
UID:44894-1702391400-1702393200@gckib.iwanowice.pl
SUMMARY:Jump judo
DESCRIPTION:
URL:https://gckib.iwanowice.pl/wydarzenie/jump-judo-19/
LOCATION:mała sala przy ZS – P w Iwanowicach Włościańskich
END:VEVENT
BEGIN:VEVENT
DTSTART;TZID=Europe/Warsaw:20231211T183000
DTEND;TZID=Europe/Warsaw:20231211T193000
DTSTAMP:20260425T134944
CREATED:20231027T095507Z
LAST-MODIFIED:20231027T095507Z
UID:44892-1702319400-1702323000@gckib.iwanowice.pl
SUMMARY:Joga
DESCRIPTION:
URL:https://gckib.iwanowice.pl/wydarzenie/joga-7/
LOCATION:mała sala przy ZS – P w Iwanowicach Włościańskich
CATEGORIES:joga
END:VEVENT
BEGIN:VEVENT
DTSTART;TZID=Europe/Warsaw:20231211T170000
DTEND;TZID=Europe/Warsaw:20231211T183000
DTSTAMP:20260425T134944
CREATED:20231027T095417Z
LAST-MODIFIED:20231027T095417Z
UID:44890-1702314000-1702319400@gckib.iwanowice.pl
SUMMARY:Zręczne rączki
DESCRIPTION:
URL:https://gckib.iwanowice.pl/wydarzenie/zreczne-raczki-7/
LOCATION:Gminne Centrum Kultury i Bibliotek w Iwanowicach\, Strażacka 5\, Iwanowice Włościańskie
CATEGORIES:Zręczne rączki
END:VEVENT
BEGIN:VEVENT
DTSTART;TZID=Europe/Warsaw:20231211T160000
DTEND;TZID=Europe/Warsaw:20231211T170000
DTSTAMP:20260425T134944
CREATED:20231027T095048Z
LAST-MODIFIED:20231027T095048Z
UID:44886-1702310400-1702314000@gckib.iwanowice.pl
SUMMARY:Matematyka
DESCRIPTION:
URL:https://gckib.iwanowice.pl/wydarzenie/matematyka-7/
LOCATION:Gminne Centrum Kultury i Bibliotek w Iwanowicach\, Strażacka 5\, Iwanowice Włościańskie
CATEGORIES:Matematyka
END:VEVENT
BEGIN:VEVENT
DTSTART;TZID=Europe/Warsaw:20231208T160000
DTEND;TZID=Europe/Warsaw:20231208T170000
DTSTAMP:20260425T134944
CREATED:20231026T135746Z
LAST-MODIFIED:20231026T135746Z
UID:44828-1702051200-1702054800@gckib.iwanowice.pl
SUMMARY:Capoeira
DESCRIPTION:
URL:https://gckib.iwanowice.pl/wydarzenie/capoeira-14/
LOCATION:mała sala przy ZS – P w Iwanowicach Włościańskich
CATEGORIES:Capoeira
END:VEVENT
BEGIN:VEVENT
DTSTART;TZID=Europe/Warsaw:20231208T150000
DTEND;TZID=Europe/Warsaw:20231208T160000
DTSTAMP:20260425T134944
CREATED:20231026T135659Z
LAST-MODIFIED:20231026T135659Z
UID:44826-1702047600-1702051200@gckib.iwanowice.pl
SUMMARY:Capoeira
DESCRIPTION:
URL:https://gckib.iwanowice.pl/wydarzenie/capoeira-13/
LOCATION:mała sala przy ZS – P w Iwanowicach Włościańskich
CATEGORIES:Capoeira
END:VEVENT
BEGIN:VEVENT
DTSTART;TZID=Europe/Warsaw:20231208T120000
DTEND;TZID=Europe/Warsaw:20231208T180000
DTSTAMP:20260425T134944
CREATED:20231026T135605Z
LAST-MODIFIED:20231026T135605Z
UID:44823-1702036800-1702058400@gckib.iwanowice.pl
SUMMARY:Pianino
DESCRIPTION:
URL:https://gckib.iwanowice.pl/wydarzenie/pianino-7/
LOCATION:Gminne Centrum Kultury i Bibliotek w Iwanowicach\, Strażacka 5\, Iwanowice Włościańskie
CATEGORIES:Pianino
END:VEVENT
BEGIN:VEVENT
DTSTART;TZID=Europe/Warsaw:20231207T193000
DTEND;TZID=Europe/Warsaw:20231207T203000
DTSTAMP:20260425T134944
CREATED:20231026T135523Z
LAST-MODIFIED:20231026T135523Z
UID:44821-1701977400-1701981000@gckib.iwanowice.pl
SUMMARY:Pilates
DESCRIPTION:
URL:https://gckib.iwanowice.pl/wydarzenie/pilates-7/
LOCATION:mała sala przy ZS – P w Iwanowicach Włościańskich
CATEGORIES:Pilates
END:VEVENT
BEGIN:VEVENT
DTSTART;TZID=Europe/Warsaw:20231207T170000
DTEND;TZID=Europe/Warsaw:20231207T190000
DTSTAMP:20260425T134944
CREATED:20231026T135423Z
LAST-MODIFIED:20231026T135423Z
UID:44819-1701968400-1701975600@gckib.iwanowice.pl
SUMMARY:Planszówki
DESCRIPTION:
URL:https://gckib.iwanowice.pl/wydarzenie/planszowki-7/
LOCATION:Gminne Centrum Kultury i Bibliotek w Iwanowicach\, Strażacka 5\, Iwanowice Włościańskie
CATEGORIES:Planszówki
END:VEVENT
BEGIN:VEVENT
DTSTART;TZID=Europe/Warsaw:20231207T160000
DTEND;TZID=Europe/Warsaw:20231207T170000
DTSTAMP:20260425T134944
CREATED:20231026T135327Z
LAST-MODIFIED:20231026T135327Z
UID:44817-1701964800-1701968400@gckib.iwanowice.pl
SUMMARY:Jump judo
DESCRIPTION:
URL:https://gckib.iwanowice.pl/wydarzenie/jump-judo-18/
LOCATION:mała sala przy ZS – P w Iwanowicach Włościańskich
END:VEVENT
BEGIN:VEVENT
DTSTART;TZID=Europe/Warsaw:20231207T120000
DTEND;TZID=Europe/Warsaw:20231207T180000
DTSTAMP:20260425T134944
CREATED:20231026T135222Z
LAST-MODIFIED:20231026T135222Z
UID:44815-1701950400-1701972000@gckib.iwanowice.pl
SUMMARY:Zajęcia wokalne
DESCRIPTION:
URL:https://gckib.iwanowice.pl/wydarzenie/zajecia-wokalne-7/
LOCATION:Gminne Centrum Kultury i Bibliotek w Iwanowicach\, Strażacka 5\, Iwanowice Włościańskie
CATEGORIES:wokal
END:VEVENT
BEGIN:VEVENT
DTSTART;TZID=Europe/Warsaw:20231206T190000
DTEND;TZID=Europe/Warsaw:20231206T195500
DTSTAMP:20260425T134944
CREATED:20231026T135126Z
LAST-MODIFIED:20231026T135126Z
UID:44813-1701889200-1701892500@gckib.iwanowice.pl
SUMMARY:Zumba fitness
DESCRIPTION:
URL:https://gckib.iwanowice.pl/wydarzenie/zumba-fitness-3/
LOCATION:mała sala przy ZS – P w Iwanowicach Włościańskich
CATEGORIES:Zumba fitness
END:VEVENT
BEGIN:VEVENT
DTSTART;TZID=Europe/Warsaw:20231206T180000
DTEND;TZID=Europe/Warsaw:20231206T185500
DTSTAMP:20260425T134944
CREATED:20231026T135032Z
LAST-MODIFIED:20231026T135032Z
UID:44811-1701885600-1701888900@gckib.iwanowice.pl
SUMMARY:Zumba gold
DESCRIPTION:
URL:https://gckib.iwanowice.pl/wydarzenie/zumba-gold-7/
LOCATION:mała sala przy ZS – P w Iwanowicach Włościańskich
CATEGORIES:Zumba gold
END:VEVENT
BEGIN:VEVENT
DTSTART;TZID=Europe/Warsaw:20231206T170000
DTEND;TZID=Europe/Warsaw:20231206T174500
DTSTAMP:20260425T134944
CREATED:20231026T134929Z
LAST-MODIFIED:20231026T134929Z
UID:44809-1701882000-1701884700@gckib.iwanowice.pl
SUMMARY:Czarodziejski kuferek
DESCRIPTION:
URL:https://gckib.iwanowice.pl/wydarzenie/czarodziejski-kuferek-7/
LOCATION:Gminne Centrum Kultury i Bibliotek w Iwanowicach\, Strażacka 5\, Iwanowice Włościańskie
CATEGORIES:Czarodziejski kuferek
END:VEVENT
BEGIN:VEVENT
DTSTART;TZID=Europe/Warsaw:20231206T170000
DTEND;TZID=Europe/Warsaw:20231206T174500
DTSTAMP:20260425T134944
CREATED:20231026T134835Z
LAST-MODIFIED:20231026T134835Z
UID:44807-1701882000-1701884700@gckib.iwanowice.pl
SUMMARY:Balet
DESCRIPTION:
URL:https://gckib.iwanowice.pl/wydarzenie/balet-7/
LOCATION:mała sala przy ZS – P w Iwanowicach Włościańskich
END:VEVENT
BEGIN:VEVENT
DTSTART;TZID=Europe/Warsaw:20231205T174500
DTEND;TZID=Europe/Warsaw:20231205T184000
DTSTAMP:20260425T134944
CREATED:20231026T134743Z
LAST-MODIFIED:20231026T134743Z
UID:44805-1701798300-1701801600@gckib.iwanowice.pl
SUMMARY:Zumba junior
DESCRIPTION:
URL:https://gckib.iwanowice.pl/wydarzenie/zumba-junior-6/
LOCATION:mała sala przy ZS – P w Iwanowicach Włościańskich
CATEGORIES:Zumba junior
END:VEVENT
BEGIN:VEVENT
DTSTART;TZID=Europe/Warsaw:20231205T170000
DTEND;TZID=Europe/Warsaw:20231205T180000
DTSTAMP:20260425T134944
CREATED:20231026T134359Z
LAST-MODIFIED:20231026T134359Z
UID:44797-1701795600-1701799200@gckib.iwanowice.pl
SUMMARY:Komiks- zajęcia cykliczne
DESCRIPTION:
URL:https://gckib.iwanowice.pl/wydarzenie/komiks-zajecia-cykliczne-5/
LOCATION:Gminne Centrum Kultury i Bibliotek w Iwanowicach\, Strażacka 5\, Iwanowice Włościańskie
CATEGORIES:Komiks- zajęcia cykliczne
END:VEVENT
BEGIN:VEVENT
DTSTART;TZID=Europe/Warsaw:20231205T170000
DTEND;TZID=Europe/Warsaw:20231205T174500
DTSTAMP:20260425T134944
CREATED:20231026T134648Z
LAST-MODIFIED:20231026T134648Z
UID:44803-1701795600-1701798300@gckib.iwanowice.pl
SUMMARY:Szachy
DESCRIPTION:
URL:https://gckib.iwanowice.pl/wydarzenie/szachy-12/
LOCATION:Gminne Centrum Kultury i Bibliotek w Iwanowicach\, Strażacka 5\, Iwanowice Włościańskie
CATEGORIES:Szachy
END:VEVENT
BEGIN:VEVENT
DTSTART;TZID=Europe/Warsaw:20231205T170000
DTEND;TZID=Europe/Warsaw:20231205T174500
DTSTAMP:20260425T134944
CREATED:20231026T134558Z
LAST-MODIFIED:20231026T134558Z
UID:44801-1701795600-1701798300@gckib.iwanowice.pl
SUMMARY:Zumba kids
DESCRIPTION:
URL:https://gckib.iwanowice.pl/wydarzenie/zumba-kids-8/
LOCATION:mała sala przy ZS – P w Iwanowicach Włościańskich
CATEGORIES:Zumba kids
END:VEVENT
BEGIN:VEVENT
DTSTART;TZID=Europe/Warsaw:20231205T161500
DTEND;TZID=Europe/Warsaw:20231205T174500
DTSTAMP:20260425T134944
CREATED:20231026T134304Z
LAST-MODIFIED:20231026T134304Z
UID:44795-1701792900-1701798300@gckib.iwanowice.pl
SUMMARY:Warsztaty okazjonalne
DESCRIPTION:
URL:https://gckib.iwanowice.pl/wydarzenie/warsztaty-okazjonalne-7/
LOCATION:mała sala przy ZS – P w Iwanowicach Włościańskich
CATEGORIES:Warsztaty okazjonalne
END:VEVENT
BEGIN:VEVENT
DTSTART;TZID=Europe/Warsaw:20231205T161500
DTEND;TZID=Europe/Warsaw:20231205T170000
DTSTAMP:20260425T134944
CREATED:20231026T134459Z
LAST-MODIFIED:20231026T134459Z
UID:44799-1701792900-1701795600@gckib.iwanowice.pl
SUMMARY:Szachy
DESCRIPTION:
URL:https://gckib.iwanowice.pl/wydarzenie/szachy-11/
LOCATION:Gminne Centrum Kultury i Bibliotek w Iwanowicach\, Strażacka 5\, Iwanowice Włościańskie
CATEGORIES:Szachy
END:VEVENT
BEGIN:VEVENT
DTSTART;TZID=Europe/Warsaw:20231205T160000
DTEND;TZID=Europe/Warsaw:20231205T170000
DTSTAMP:20260425T134944
CREATED:20231026T134145Z
LAST-MODIFIED:20231026T134145Z
UID:44793-1701792000-1701795600@gckib.iwanowice.pl
SUMMARY:Jumo judo
DESCRIPTION:
URL:https://gckib.iwanowice.pl/wydarzenie/jumo-judo/
LOCATION:mała sala przy ZS – P w Iwanowicach Włościańskich
END:VEVENT
BEGIN:VEVENT
DTSTART;TZID=Europe/Warsaw:20231205T143000
DTEND;TZID=Europe/Warsaw:20231205T150000
DTSTAMP:20260425T134944
CREATED:20231026T134051Z
LAST-MODIFIED:20231026T134051Z
UID:44791-1701786600-1701788400@gckib.iwanowice.pl
SUMMARY:Jump judo
DESCRIPTION:
URL:https://gckib.iwanowice.pl/wydarzenie/jump-judo-17/
LOCATION:mała sala przy ZS – P w Iwanowicach Włościańskich
END:VEVENT
BEGIN:VEVENT
DTSTART;TZID=Europe/Warsaw:20231204T183000
DTEND;TZID=Europe/Warsaw:20231204T193000
DTSTAMP:20260425T134944
CREATED:20231026T133945Z
LAST-MODIFIED:20231026T133945Z
UID:44789-1701714600-1701718200@gckib.iwanowice.pl
SUMMARY:Joga
DESCRIPTION:
URL:https://gckib.iwanowice.pl/wydarzenie/joga-6/
LOCATION:mała sala przy ZS – P w Iwanowicach Włościańskich
CATEGORIES:joga
END:VEVENT
END:VCALENDAR