BEGIN:VCALENDAR
VERSION:2.0
PRODID:-//GCKiB - ECPv6.15.20//NONSGML v1.0//EN
CALSCALE:GREGORIAN
METHOD:PUBLISH
X-ORIGINAL-URL:https://gckib.iwanowice.pl
X-WR-CALDESC:Wydarzenia dla GCKiB
REFRESH-INTERVAL;VALUE=DURATION:PT1H
X-Robots-Tag:noindex
X-PUBLISHED-TTL:PT1H
BEGIN:VTIMEZONE
TZID:Europe/Warsaw
BEGIN:DAYLIGHT
TZOFFSETFROM:+0100
TZOFFSETTO:+0200
TZNAME:CEST
DTSTART:20210328T010000
END:DAYLIGHT
BEGIN:STANDARD
TZOFFSETFROM:+0200
TZOFFSETTO:+0100
TZNAME:CET
DTSTART:20211031T010000
END:STANDARD
BEGIN:DAYLIGHT
TZOFFSETFROM:+0100
TZOFFSETTO:+0200
TZNAME:CEST
DTSTART:20220327T010000
END:DAYLIGHT
BEGIN:STANDARD
TZOFFSETFROM:+0200
TZOFFSETTO:+0100
TZNAME:CET
DTSTART:20221030T010000
END:STANDARD
BEGIN:DAYLIGHT
TZOFFSETFROM:+0100
TZOFFSETTO:+0200
TZNAME:CEST
DTSTART:20230326T010000
END:DAYLIGHT
BEGIN:STANDARD
TZOFFSETFROM:+0200
TZOFFSETTO:+0100
TZNAME:CET
DTSTART:20231029T010000
END:STANDARD
END:VTIMEZONE
BEGIN:VEVENT
DTSTART;TZID=Europe/Warsaw:20220502T160000
DTEND;TZID=Europe/Warsaw:20220502T170000
DTSTAMP:20260420T214752
CREATED:20220408T064821Z
LAST-MODIFIED:20220408T105246Z
UID:38721-1651507200-1651510800@gckib.iwanowice.pl
SUMMARY:Robotyka dla dzieci
DESCRIPTION:Zajęcia skierowane są do dzieci w wieku 6-8 lat. Lekcje są przeprowadzane raz w tygodniu\, w poniedziałki. \nRobotyka 6 – 8 r.ż.: 16:00-17:00 \nMiejscem spotkań jest Gminne Centrum Kultury i Bibliotek w Iwanowicach. \nKoszt miesięczny – 60 zł \nWięcej informacji pod numerem: 12 388 45 16. \nhttps://gckib.iwanowice.pl/wp-content/uploads/2022/02/DEKLARACJA-i-RODO-ROBOTYKA-I-PROGRAMOWANIE-2022.pdf
URL:https://gckib.iwanowice.pl/wydarzenie/robotyka-i-programowanie-dla-dzieci-2022-05-02/
ATTACH;FMTTYPE=image/png:https://gckib.iwanowice.pl/wp-content/uploads/2022/02/robotyka_2-Medium.png
END:VEVENT
BEGIN:VEVENT
DTSTART;TZID=Europe/Warsaw:20220502T160000
DTEND;TZID=Europe/Warsaw:20220502T170000
DTSTAMP:20260420T214752
CREATED:20220408T065637Z
LAST-MODIFIED:20220408T105025Z
UID:38748-1651507200-1651510800@gckib.iwanowice.pl
SUMMARY:Programowanie dla dzieci
DESCRIPTION:Zajęcia skierowane są do dzieci w wieku 9 -13 lat. Lekcje są przeprowadzane raz w tygodniu\, w poniedziałki. \nProgramowanie 9 – 13 r.ż.: 16:00-17:15 \nMiejscem spotkań jest Gminne Centrum Kultury i Bibliotek w Iwanowicach. \nKoszt miesięczny – 60 zł \nWięcej informacji pod numerem: 12 388 45 16. \nDeklarację udziału w zajęciach pobrać należy z: https://gckib.iwanowice.pl/wp-content/uploads/2022/02/DEKLARACJA-i-RODO-ROBOTYKA-I-PROGRAMOWANIE-2022.pdf
URL:https://gckib.iwanowice.pl/wydarzenie/programowanie-dla-dzieci-2022-05-02/
LOCATION:Gminne Centrum Kultury i Bibliotek w Iwanowicach\, Strażacka 5\, Iwanowice Włościańskie
ATTACH;FMTTYPE=image/png:https://gckib.iwanowice.pl/wp-content/uploads/2022/02/robotyka_2-Medium.png
END:VEVENT
BEGIN:VEVENT
DTSTART;TZID=Europe/Warsaw:20220502T180000
DTEND;TZID=Europe/Warsaw:20220502T190000
DTSTAMP:20260420T214752
CREATED:20220408T063958Z
LAST-MODIFIED:20220408T105454Z
UID:38695-1651514400-1651518000@gckib.iwanowice.pl
SUMMARY:Warsztaty Jogi dla dorosłych
DESCRIPTION:Warsztaty dedykowane są osobom dorosłym. Będą się odbywać raz w tygodniu w poniedziałki. \nWarsztaty JOGI:Zajęcia 18:00 – 19:00SP Iwanowice sala gimnastyczna / Orlik w IwanowicachKoszt miesięczny: 60 zł \nDeklarację uczestnictwa w Warsztatach JOGI w formie papierowej należy dostarczyć do siedziby GCKiB w Iwanowicach. \nWięcej informacji pod numerem: 12 388 45 16. \nDeklarację uczestnictwa pobrać można z: https://gckib.iwanowice.pl/wp-content/uploads/2022/03/Deklaracja-Joga-2022-2.pdf
URL:https://gckib.iwanowice.pl/wydarzenie/warsztaty-jogi-dla-doroslych-2022-05-02/
LOCATION:SP/ Orlik w Iwanowicach
ATTACH;FMTTYPE=image/png:https://gckib.iwanowice.pl/wp-content/uploads/2022/03/Yoga-i-Stretching3.png
END:VEVENT
BEGIN:VEVENT
DTSTART;TZID=Europe/Warsaw:20220503T093000
DTEND;TZID=Europe/Warsaw:20220503T120000
DTSTAMP:20260420T214752
CREATED:20220428T065310Z
LAST-MODIFIED:20220428T065356Z
UID:38915-1651570200-1651579200@gckib.iwanowice.pl
SUMMARY:Obchody Święta 3 Maja
DESCRIPTION:Zapraszamy Mieszkańców Gminy Iwanowice do udziału w uroczystościach związanych z obchodami Święta 3 Maja. \nProgram Uroczystości: \nGODZ. 09:30 ZBIÓRKA NA RYNKU W IWANOWICACH \nGODZ. 09:50 ZŁOŻENIE KWIATÓW POD POMNIKIEM PAMIĘCI \nGODZ. 10:00 UROCZYSTA MSZA ŚWIĘTA W KOŚCIELE P.W. TRÓJCY ŚWIĘTEJ W IWANOWICACH \nGODZ. 11:00 KONCERT ORKIESTRY „HEJNAŁ” Z SIECIECHOWIC
URL:https://gckib.iwanowice.pl/wydarzenie/obchody-swieta-3-maja-2/
LOCATION:Iwanowice Rynek
ATTACH;FMTTYPE=image/png:https://gckib.iwanowice.pl/wp-content/uploads/2022/04/WOJT-GMINY-IWANOWICE-PRZEWODNICZACY-RADY-GMINY-IWANOWICE-4.png
END:VEVENT
BEGIN:VEVENT
DTSTART;TZID=Europe/Warsaw:20220503T160000
DTEND;TZID=Europe/Warsaw:20220503T170000
DTSTAMP:20260420T214752
CREATED:20220408T062519Z
LAST-MODIFIED:20220408T105616Z
UID:38660-1651593600-1651597200@gckib.iwanowice.pl
SUMMARY:Szachy dla dzieci
DESCRIPTION:Zapraszamy do zapisów na zajęcia szachowe. Zajęcia skierowane są do dzieci w wieku 7 – 12 lat. Lekcje są przeprowadzane raz w tygodniu\, we wtorki: \nGrupa zaawansowana: 16:00 – 16:45 \nGrupa początkująca  – zachęcamy do zapisów \nMiejscem spotkań Gminne Centrum Kultury i Bibliotek w Iwanowicach. \nKoszt miesięczny –  60 zł \nWięcej informacji pod numerem: 12 388 45 16 \nDeklarację uczestnictwa do wypełnienia można pobrać z: https://gckib.iwanowice.pl/wp-content/uploads/2022/03/DEKLARACJA-i-RODO-SZACHY-1.pdf
URL:https://gckib.iwanowice.pl/wydarzenie/szachy-dla-dzieci-2022-05-03/
LOCATION:Gminne Centrum Kultury i Bibliotek w Iwanowicach\, Strażacka 5\, Iwanowice Włościańskie
CATEGORIES:Szachy
ATTACH;FMTTYPE=image/png:https://gckib.iwanowice.pl/wp-content/uploads/2022/03/Szachy_2.png
END:VEVENT
BEGIN:VEVENT
DTSTART;TZID=Europe/Warsaw:20220504T170000
DTEND;TZID=Europe/Warsaw:20220504T174500
DTSTAMP:20260420T214752
CREATED:20220428T075329Z
LAST-MODIFIED:20220428T075329Z
UID:40247-1651683600-1651686300@gckib.iwanowice.pl
SUMMARY:Zumba kids
DESCRIPTION:Zumba dla dzieci. Choreografie łatwe do powtórzenia i zapamiętania. Dzieci uczą się różnych tańców np. cumbia\, reggaeton\, hip-hop\, merengue\, salsa itd. Czas trwania zajęć 45 minut. Koszt 60 zł za miesiąc.
URL:https://gckib.iwanowice.pl/wydarzenie/zumba-kids-2-2022-05-04/
LOCATION:SP/ Orlik w Iwanowicach
CATEGORIES:Zumba
ATTACH;FMTTYPE=image/png:https://gckib.iwanowice.pl/wp-content/uploads/2021/06/UWAGA-Nowe-deklaracje-i-nowa-oplata-Zumba-dla-doroslych-od-1-stycznia-2022.png
END:VEVENT
BEGIN:VEVENT
DTSTART;TZID=Europe/Warsaw:20220504T175000
DTEND;TZID=Europe/Warsaw:20220504T185000
DTSTAMP:20260420T214752
CREATED:20220428T075804Z
LAST-MODIFIED:20220428T075804Z
UID:40004-1651686600-1651690200@gckib.iwanowice.pl
SUMMARY:Zumba Gold
DESCRIPTION:Zajęcia o mniejszej intensywności i wolniejszym tempie. W ramach tego programu wykorzystywane są eleementy merengue\, salsy\, cumbii\, tańca brzucha\, flamenco\, tanga i nie tylko. \nZajęcia odbywają się w środy od godziny 17:50 do 18:50. \n  \n 
URL:https://gckib.iwanowice.pl/wydarzenie/zumba-gold-2022-05-04/
LOCATION:Gminne Centrum Kultury i Bibliotek w Iwanowicach\, Strażacka 5\, Iwanowice Włościańskie
CATEGORIES:Zumba
ATTACH;FMTTYPE=image/png:https://gckib.iwanowice.pl/wp-content/uploads/2021/06/UWAGA-Nowe-deklaracje-i-nowa-oplata-Zumba-dla-doroslych-od-1-stycznia-2022.png
END:VEVENT
BEGIN:VEVENT
DTSTART;TZID=Europe/Warsaw:20220504T185000
DTEND;TZID=Europe/Warsaw:20220504T195000
DTSTAMP:20260420T214752
CREATED:20220428T080324Z
LAST-MODIFIED:20220428T080829Z
UID:40212-1651690200-1651693800@gckib.iwanowice.pl
SUMMARY:Zumba Fitness
DESCRIPTION:Połączenie tańców latynoamerykańskich z fitnessem. Rytmy salsy\, cumbii\, reggaetonu\, morengue\, cha-chy i innych. Zumba Fitness poprawia sylwetkę i pozwala na zrzucenie wagi w przyjemny sposób. \nZajęcia odbywają się w środy od godziny 18:50 do 19:50.
URL:https://gckib.iwanowice.pl/wydarzenie/zumba-fitness-2-2022-05-04/
LOCATION:SP/ Orlik w Iwanowicach
CATEGORIES:Zumba
ATTACH;FMTTYPE=image/png:https://gckib.iwanowice.pl/wp-content/uploads/2021/06/UWAGA-Nowe-deklaracje-i-nowa-oplata-Zumba-dla-doroslych-od-1-stycznia-2022.png
END:VEVENT
BEGIN:VEVENT
DTSTART;TZID=Europe/Warsaw:20220505T160000
DTEND;TZID=Europe/Warsaw:20220505T164500
DTSTAMP:20260420T214752
CREATED:20211020T143916Z
LAST-MODIFIED:20211020T144925Z
UID:36791-1651766400-1651769100@gckib.iwanowice.pl
SUMMARY:Balet dla dzieci Grupa 4 - 5 lat
DESCRIPTION:Balet dla dzieci w wieku od 4 do 5 roku życia. Opłata za zajęcia wynosi 60 zł za miesiąc. Aby zapisać dziecko na zajęcia należy złożyć deklarację https://gckib.iwanowice.pl/wp-content/uploads/2021/09/Zajecia-baletowe-deklaracja-uczestnictwa-1.pdf oraz uiścić opłatę\, przelewem na konto Gminnego Centrum Kultury i Bibliotek w Iwanowicach. \nW razie pytań prosimy o kontakt telefoniczny 12 388 45 16 lub mailowy gckib@iwanowice.pl \nSerdecznie zapraszamy wszystkie chętne dzieci.
URL:https://gckib.iwanowice.pl/wydarzenie/balet-dla-dzieci-grupa-4-5-r-z-2022-05-05/
LOCATION:mała sala przy ZS – P w Iwanowicach Włościańskich
ATTACH;FMTTYPE=image/png:https://gckib.iwanowice.pl/wp-content/uploads/2021/09/balet-jesien-amitiel.png
END:VEVENT
BEGIN:VEVENT
DTSTART;TZID=Europe/Warsaw:20220505T165500
DTEND;TZID=Europe/Warsaw:20220505T175500
DTSTAMP:20260420T214752
CREATED:20211020T144821Z
LAST-MODIFIED:20211020T144821Z
UID:37107-1651769700-1651773300@gckib.iwanowice.pl
SUMMARY:Balet dla dzieci GRUPA 6 - 7 lat
DESCRIPTION:Balet dla dzieci w wieku od 6 do 7 roku życia. Opłata za zajęcia wynosi 60 zł za miesiąc. Aby zapisać dziecko na zajęcia należy złożyć deklarację https://gckib.iwanowice.pl/wp-content/uploads/2021/09/Zajecia-baletowe-deklaracja-uczestnictwa-1.pdf oraz uiścić opłatę\, przelewem na konto Gminnego Centrum Kultury i Bibliotek w Iwanowicach. \nW razie pytań prosimy o kontakt telefoniczny 12 388 45 16 lub mailowy gckib@iwanowice.pl \nSerdecznie zapraszamy wszystkie chętne dzieci.
URL:https://gckib.iwanowice.pl/wydarzenie/balet-dla-dzieci-grupa-6-7-lat-2022-05-05/
LOCATION:mała sala przy ZS – P w Iwanowicach Włościańskich
ATTACH;FMTTYPE=image/png:https://gckib.iwanowice.pl/wp-content/uploads/2021/09/balet-jesien-amitiel.png
END:VEVENT
BEGIN:VEVENT
DTSTART;TZID=Europe/Warsaw:20220509T160000
DTEND;TZID=Europe/Warsaw:20220509T170000
DTSTAMP:20260420T214752
CREATED:20220408T064821Z
LAST-MODIFIED:20220408T105246Z
UID:38722-1652112000-1652115600@gckib.iwanowice.pl
SUMMARY:Robotyka dla dzieci
DESCRIPTION:Zajęcia skierowane są do dzieci w wieku 6-8 lat. Lekcje są przeprowadzane raz w tygodniu\, w poniedziałki. \nRobotyka 6 – 8 r.ż.: 16:00-17:00 \nMiejscem spotkań jest Gminne Centrum Kultury i Bibliotek w Iwanowicach. \nKoszt miesięczny – 60 zł \nWięcej informacji pod numerem: 12 388 45 16. \nhttps://gckib.iwanowice.pl/wp-content/uploads/2022/02/DEKLARACJA-i-RODO-ROBOTYKA-I-PROGRAMOWANIE-2022.pdf
URL:https://gckib.iwanowice.pl/wydarzenie/robotyka-i-programowanie-dla-dzieci-2022-05-09/
ATTACH;FMTTYPE=image/png:https://gckib.iwanowice.pl/wp-content/uploads/2022/02/robotyka_2-Medium.png
END:VEVENT
BEGIN:VEVENT
DTSTART;TZID=Europe/Warsaw:20220509T160000
DTEND;TZID=Europe/Warsaw:20220509T170000
DTSTAMP:20260420T214752
CREATED:20220408T065637Z
LAST-MODIFIED:20220408T105025Z
UID:38749-1652112000-1652115600@gckib.iwanowice.pl
SUMMARY:Programowanie dla dzieci
DESCRIPTION:Zajęcia skierowane są do dzieci w wieku 9 -13 lat. Lekcje są przeprowadzane raz w tygodniu\, w poniedziałki. \nProgramowanie 9 – 13 r.ż.: 16:00-17:15 \nMiejscem spotkań jest Gminne Centrum Kultury i Bibliotek w Iwanowicach. \nKoszt miesięczny – 60 zł \nWięcej informacji pod numerem: 12 388 45 16. \nDeklarację udziału w zajęciach pobrać należy z: https://gckib.iwanowice.pl/wp-content/uploads/2022/02/DEKLARACJA-i-RODO-ROBOTYKA-I-PROGRAMOWANIE-2022.pdf
URL:https://gckib.iwanowice.pl/wydarzenie/programowanie-dla-dzieci-2022-05-09/
LOCATION:Gminne Centrum Kultury i Bibliotek w Iwanowicach\, Strażacka 5\, Iwanowice Włościańskie
ATTACH;FMTTYPE=image/png:https://gckib.iwanowice.pl/wp-content/uploads/2022/02/robotyka_2-Medium.png
END:VEVENT
BEGIN:VEVENT
DTSTART;TZID=Europe/Warsaw:20220509T180000
DTEND;TZID=Europe/Warsaw:20220509T190000
DTSTAMP:20260420T214752
CREATED:20220408T063958Z
LAST-MODIFIED:20220408T105454Z
UID:38696-1652119200-1652122800@gckib.iwanowice.pl
SUMMARY:Warsztaty Jogi dla dorosłych
DESCRIPTION:Warsztaty dedykowane są osobom dorosłym. Będą się odbywać raz w tygodniu w poniedziałki. \nWarsztaty JOGI:Zajęcia 18:00 – 19:00SP Iwanowice sala gimnastyczna / Orlik w IwanowicachKoszt miesięczny: 60 zł \nDeklarację uczestnictwa w Warsztatach JOGI w formie papierowej należy dostarczyć do siedziby GCKiB w Iwanowicach. \nWięcej informacji pod numerem: 12 388 45 16. \nDeklarację uczestnictwa pobrać można z: https://gckib.iwanowice.pl/wp-content/uploads/2022/03/Deklaracja-Joga-2022-2.pdf
URL:https://gckib.iwanowice.pl/wydarzenie/warsztaty-jogi-dla-doroslych-2022-05-09/
LOCATION:SP/ Orlik w Iwanowicach
ATTACH;FMTTYPE=image/png:https://gckib.iwanowice.pl/wp-content/uploads/2022/03/Yoga-i-Stretching3.png
END:VEVENT
BEGIN:VEVENT
DTSTART;TZID=Europe/Warsaw:20220510T160000
DTEND;TZID=Europe/Warsaw:20220510T170000
DTSTAMP:20260420T214752
CREATED:20220408T062519Z
LAST-MODIFIED:20220408T105616Z
UID:38661-1652198400-1652202000@gckib.iwanowice.pl
SUMMARY:Szachy dla dzieci
DESCRIPTION:Zapraszamy do zapisów na zajęcia szachowe. Zajęcia skierowane są do dzieci w wieku 7 – 12 lat. Lekcje są przeprowadzane raz w tygodniu\, we wtorki: \nGrupa zaawansowana: 16:00 – 16:45 \nGrupa początkująca  – zachęcamy do zapisów \nMiejscem spotkań Gminne Centrum Kultury i Bibliotek w Iwanowicach. \nKoszt miesięczny –  60 zł \nWięcej informacji pod numerem: 12 388 45 16 \nDeklarację uczestnictwa do wypełnienia można pobrać z: https://gckib.iwanowice.pl/wp-content/uploads/2022/03/DEKLARACJA-i-RODO-SZACHY-1.pdf
URL:https://gckib.iwanowice.pl/wydarzenie/szachy-dla-dzieci-2022-05-10/
LOCATION:Gminne Centrum Kultury i Bibliotek w Iwanowicach\, Strażacka 5\, Iwanowice Włościańskie
CATEGORIES:Szachy
ATTACH;FMTTYPE=image/png:https://gckib.iwanowice.pl/wp-content/uploads/2022/03/Szachy_2.png
END:VEVENT
BEGIN:VEVENT
DTSTART;TZID=Europe/Warsaw:20220511T170000
DTEND;TZID=Europe/Warsaw:20220511T174500
DTSTAMP:20260420T214752
CREATED:20220428T075329Z
LAST-MODIFIED:20220509T124831Z
UID:40248-1652288400-1652291100@gckib.iwanowice.pl
SUMMARY:Zumba kids
DESCRIPTION:Zumba dla dzieci. Choreografie łatwe do powtórzenia i zapamiętania. Dzieci uczą się różnych tańców np. cumbia\, reggaeton\, hip-hop\, merengue\, salsa itd. Czas trwania zajęć 45 minut. Koszt 60 zł za miesiąc.
URL:https://gckib.iwanowice.pl/wydarzenie/zumba-kids-2-2022-05-11/
LOCATION:SP/ Orlik w Iwanowicach
CATEGORIES:Zumba
ATTACH;FMTTYPE=image/png:https://gckib.iwanowice.pl/wp-content/uploads/2022/05/ZUMBA_NEW.png
END:VEVENT
BEGIN:VEVENT
DTSTART;TZID=Europe/Warsaw:20220511T175000
DTEND;TZID=Europe/Warsaw:20220511T185000
DTSTAMP:20260420T214752
CREATED:20220428T075804Z
LAST-MODIFIED:20220509T125102Z
UID:40005-1652291400-1652295000@gckib.iwanowice.pl
SUMMARY:Zumba Gold
DESCRIPTION:Zajęcia o mniejszej intensywności i wolniejszym tempie. W ramach tego programu wykorzystywane są eleementy merengue\, salsy\, cumbii\, tańca brzucha\, flamenco\, tanga i nie tylko. \nZajęcia odbywają się w środy od godziny 17:50 do 18:50. \n  \n 
URL:https://gckib.iwanowice.pl/wydarzenie/zumba-gold-2022-05-11/
LOCATION:Gminne Centrum Kultury i Bibliotek w Iwanowicach\, Strażacka 5\, Iwanowice Włościańskie
CATEGORIES:Zumba
ATTACH;FMTTYPE=image/png:https://gckib.iwanowice.pl/wp-content/uploads/2022/05/ZUMBA_NEW.png
END:VEVENT
BEGIN:VEVENT
DTSTART;TZID=Europe/Warsaw:20220511T185000
DTEND;TZID=Europe/Warsaw:20220511T195000
DTSTAMP:20260420T214752
CREATED:20220428T080324Z
LAST-MODIFIED:20220509T124954Z
UID:40213-1652295000-1652298600@gckib.iwanowice.pl
SUMMARY:Zumba Fitness
DESCRIPTION:Połączenie tańców latynoamerykańskich z fitnessem. Rytmy salsy\, cumbii\, reggaetonu\, morengue\, cha-chy i innych. Zumba Fitness poprawia sylwetkę i pozwala na zrzucenie wagi w przyjemny sposób. \nZajęcia odbywają się w środy od godziny 18:50 do 19:50.
URL:https://gckib.iwanowice.pl/wydarzenie/zumba-fitness-2-2022-05-11/
LOCATION:SP/ Orlik w Iwanowicach
CATEGORIES:Zumba
ATTACH;FMTTYPE=image/png:https://gckib.iwanowice.pl/wp-content/uploads/2022/05/ZUMBA_NEW.png
END:VEVENT
BEGIN:VEVENT
DTSTART;TZID=Europe/Warsaw:20220512T160000
DTEND;TZID=Europe/Warsaw:20220512T164500
DTSTAMP:20260420T214752
CREATED:20211020T143916Z
LAST-MODIFIED:20211020T144925Z
UID:36792-1652371200-1652373900@gckib.iwanowice.pl
SUMMARY:Balet dla dzieci Grupa 4 - 5 lat
DESCRIPTION:Balet dla dzieci w wieku od 4 do 5 roku życia. Opłata za zajęcia wynosi 60 zł za miesiąc. Aby zapisać dziecko na zajęcia należy złożyć deklarację https://gckib.iwanowice.pl/wp-content/uploads/2021/09/Zajecia-baletowe-deklaracja-uczestnictwa-1.pdf oraz uiścić opłatę\, przelewem na konto Gminnego Centrum Kultury i Bibliotek w Iwanowicach. \nW razie pytań prosimy o kontakt telefoniczny 12 388 45 16 lub mailowy gckib@iwanowice.pl \nSerdecznie zapraszamy wszystkie chętne dzieci.
URL:https://gckib.iwanowice.pl/wydarzenie/balet-dla-dzieci-grupa-4-5-r-z-2022-05-12/
LOCATION:mała sala przy ZS – P w Iwanowicach Włościańskich
ATTACH;FMTTYPE=image/png:https://gckib.iwanowice.pl/wp-content/uploads/2021/09/balet-jesien-amitiel.png
END:VEVENT
BEGIN:VEVENT
DTSTART;TZID=Europe/Warsaw:20220512T165500
DTEND;TZID=Europe/Warsaw:20220512T175500
DTSTAMP:20260420T214752
CREATED:20211020T144821Z
LAST-MODIFIED:20211020T144821Z
UID:37108-1652374500-1652378100@gckib.iwanowice.pl
SUMMARY:Balet dla dzieci GRUPA 6 - 7 lat
DESCRIPTION:Balet dla dzieci w wieku od 6 do 7 roku życia. Opłata za zajęcia wynosi 60 zł za miesiąc. Aby zapisać dziecko na zajęcia należy złożyć deklarację https://gckib.iwanowice.pl/wp-content/uploads/2021/09/Zajecia-baletowe-deklaracja-uczestnictwa-1.pdf oraz uiścić opłatę\, przelewem na konto Gminnego Centrum Kultury i Bibliotek w Iwanowicach. \nW razie pytań prosimy o kontakt telefoniczny 12 388 45 16 lub mailowy gckib@iwanowice.pl \nSerdecznie zapraszamy wszystkie chętne dzieci.
URL:https://gckib.iwanowice.pl/wydarzenie/balet-dla-dzieci-grupa-6-7-lat-2022-05-12/
LOCATION:mała sala przy ZS – P w Iwanowicach Włościańskich
ATTACH;FMTTYPE=image/png:https://gckib.iwanowice.pl/wp-content/uploads/2021/09/balet-jesien-amitiel.png
END:VEVENT
BEGIN:VEVENT
DTSTART;TZID=Europe/Warsaw:20220513T080000
DTEND;TZID=Europe/Warsaw:20220513T170000
DTSTAMP:20260420T214752
CREATED:20220428T065721Z
LAST-MODIFIED:20220518T092404Z
UID:38917-1652428800-1652461200@gckib.iwanowice.pl
SUMMARY:Pocztówka dla Mamy - konkurs literacki dla dzieci
DESCRIPTION:Zapraszamy wszystkie dzieci ze szkół podstawowych w Gminie Iwanowice do udziału w konkursie LITERACKIM.\nZadaniem Uczestnika konkursu jest stworzenie wierszyka na kartce pocztowej zaadresowanej do Mamy. Pocztówkę można ozdobić\, jednak nie będzie to podlegało ocenie przez Jury. Pracę wraz z wypełnionymi dokumentami zamieszczonymi poniżej\, należy złożyć osobiście GCKiB ul. Strażacka 5\, 32 – 095 Iwanowice Włościańskie do 23.05.2022r.
URL:https://gckib.iwanowice.pl/wydarzenie/pocztowka-dla-mamy-konkurs-literacki-dla-dzieci-szczegoly-wkrotce/
LOCATION:Gminne Centrum Kultury i Bibliotek w Iwanowicach\, Strażacka 5\, Iwanowice Włościańskie
ATTACH;FMTTYPE=image/png:https://gckib.iwanowice.pl/wp-content/uploads/2022/05/Pocztowka-dla-Mamy-1.png
END:VEVENT
BEGIN:VEVENT
DTSTART;TZID=Europe/Warsaw:20220516T160000
DTEND;TZID=Europe/Warsaw:20220516T170000
DTSTAMP:20260420T214752
CREATED:20220408T064821Z
LAST-MODIFIED:20220408T105246Z
UID:38723-1652716800-1652720400@gckib.iwanowice.pl
SUMMARY:Robotyka dla dzieci
DESCRIPTION:Zajęcia skierowane są do dzieci w wieku 6-8 lat. Lekcje są przeprowadzane raz w tygodniu\, w poniedziałki. \nRobotyka 6 – 8 r.ż.: 16:00-17:00 \nMiejscem spotkań jest Gminne Centrum Kultury i Bibliotek w Iwanowicach. \nKoszt miesięczny – 60 zł \nWięcej informacji pod numerem: 12 388 45 16. \nhttps://gckib.iwanowice.pl/wp-content/uploads/2022/02/DEKLARACJA-i-RODO-ROBOTYKA-I-PROGRAMOWANIE-2022.pdf
URL:https://gckib.iwanowice.pl/wydarzenie/robotyka-i-programowanie-dla-dzieci-2022-05-16/
ATTACH;FMTTYPE=image/png:https://gckib.iwanowice.pl/wp-content/uploads/2022/02/robotyka_2-Medium.png
END:VEVENT
BEGIN:VEVENT
DTSTART;TZID=Europe/Warsaw:20220516T160000
DTEND;TZID=Europe/Warsaw:20220516T170000
DTSTAMP:20260420T214752
CREATED:20220408T065637Z
LAST-MODIFIED:20220408T105025Z
UID:38750-1652716800-1652720400@gckib.iwanowice.pl
SUMMARY:Programowanie dla dzieci
DESCRIPTION:Zajęcia skierowane są do dzieci w wieku 9 -13 lat. Lekcje są przeprowadzane raz w tygodniu\, w poniedziałki. \nProgramowanie 9 – 13 r.ż.: 16:00-17:15 \nMiejscem spotkań jest Gminne Centrum Kultury i Bibliotek w Iwanowicach. \nKoszt miesięczny – 60 zł \nWięcej informacji pod numerem: 12 388 45 16. \nDeklarację udziału w zajęciach pobrać należy z: https://gckib.iwanowice.pl/wp-content/uploads/2022/02/DEKLARACJA-i-RODO-ROBOTYKA-I-PROGRAMOWANIE-2022.pdf
URL:https://gckib.iwanowice.pl/wydarzenie/programowanie-dla-dzieci-2022-05-16/
LOCATION:Gminne Centrum Kultury i Bibliotek w Iwanowicach\, Strażacka 5\, Iwanowice Włościańskie
ATTACH;FMTTYPE=image/png:https://gckib.iwanowice.pl/wp-content/uploads/2022/02/robotyka_2-Medium.png
END:VEVENT
BEGIN:VEVENT
DTSTART;TZID=Europe/Warsaw:20220516T180000
DTEND;TZID=Europe/Warsaw:20220516T190000
DTSTAMP:20260420T214752
CREATED:20220408T063958Z
LAST-MODIFIED:20220408T105454Z
UID:38697-1652724000-1652727600@gckib.iwanowice.pl
SUMMARY:Warsztaty Jogi dla dorosłych
DESCRIPTION:Warsztaty dedykowane są osobom dorosłym. Będą się odbywać raz w tygodniu w poniedziałki. \nWarsztaty JOGI:Zajęcia 18:00 – 19:00SP Iwanowice sala gimnastyczna / Orlik w IwanowicachKoszt miesięczny: 60 zł \nDeklarację uczestnictwa w Warsztatach JOGI w formie papierowej należy dostarczyć do siedziby GCKiB w Iwanowicach. \nWięcej informacji pod numerem: 12 388 45 16. \nDeklarację uczestnictwa pobrać można z: https://gckib.iwanowice.pl/wp-content/uploads/2022/03/Deklaracja-Joga-2022-2.pdf
URL:https://gckib.iwanowice.pl/wydarzenie/warsztaty-jogi-dla-doroslych-2022-05-16/
LOCATION:SP/ Orlik w Iwanowicach
ATTACH;FMTTYPE=image/png:https://gckib.iwanowice.pl/wp-content/uploads/2022/03/Yoga-i-Stretching3.png
END:VEVENT
BEGIN:VEVENT
DTSTART;TZID=Europe/Warsaw:20220517T160000
DTEND;TZID=Europe/Warsaw:20220517T170000
DTSTAMP:20260420T214752
CREATED:20220408T062519Z
LAST-MODIFIED:20220408T105616Z
UID:38662-1652803200-1652806800@gckib.iwanowice.pl
SUMMARY:Szachy dla dzieci
DESCRIPTION:Zapraszamy do zapisów na zajęcia szachowe. Zajęcia skierowane są do dzieci w wieku 7 – 12 lat. Lekcje są przeprowadzane raz w tygodniu\, we wtorki: \nGrupa zaawansowana: 16:00 – 16:45 \nGrupa początkująca  – zachęcamy do zapisów \nMiejscem spotkań Gminne Centrum Kultury i Bibliotek w Iwanowicach. \nKoszt miesięczny –  60 zł \nWięcej informacji pod numerem: 12 388 45 16 \nDeklarację uczestnictwa do wypełnienia można pobrać z: https://gckib.iwanowice.pl/wp-content/uploads/2022/03/DEKLARACJA-i-RODO-SZACHY-1.pdf
URL:https://gckib.iwanowice.pl/wydarzenie/szachy-dla-dzieci-2022-05-17/
LOCATION:Gminne Centrum Kultury i Bibliotek w Iwanowicach\, Strażacka 5\, Iwanowice Włościańskie
CATEGORIES:Szachy
ATTACH;FMTTYPE=image/png:https://gckib.iwanowice.pl/wp-content/uploads/2022/03/Szachy_2.png
END:VEVENT
BEGIN:VEVENT
DTSTART;TZID=Europe/Warsaw:20220518T170000
DTEND;TZID=Europe/Warsaw:20220518T174500
DTSTAMP:20260420T214752
CREATED:20220428T075329Z
LAST-MODIFIED:20220509T124833Z
UID:40249-1652893200-1652895900@gckib.iwanowice.pl
SUMMARY:Zumba kids
DESCRIPTION:Zumba dla dzieci. Choreografie łatwe do powtórzenia i zapamiętania. Dzieci uczą się różnych tańców np. cumbia\, reggaeton\, hip-hop\, merengue\, salsa itd. Czas trwania zajęć 45 minut. Koszt 60 zł za miesiąc.
URL:https://gckib.iwanowice.pl/wydarzenie/zumba-kids-2-2022-05-18/
LOCATION:SP/ Orlik w Iwanowicach
CATEGORIES:Zumba
ATTACH;FMTTYPE=image/png:https://gckib.iwanowice.pl/wp-content/uploads/2022/05/ZUMBA_NEW.png
END:VEVENT
BEGIN:VEVENT
DTSTART;TZID=Europe/Warsaw:20220518T175000
DTEND;TZID=Europe/Warsaw:20220518T185000
DTSTAMP:20260420T214752
CREATED:20220428T075804Z
LAST-MODIFIED:20220509T125103Z
UID:40006-1652896200-1652899800@gckib.iwanowice.pl
SUMMARY:Zumba Gold
DESCRIPTION:Zajęcia o mniejszej intensywności i wolniejszym tempie. W ramach tego programu wykorzystywane są eleementy merengue\, salsy\, cumbii\, tańca brzucha\, flamenco\, tanga i nie tylko. \nZajęcia odbywają się w środy od godziny 17:50 do 18:50. \n  \n 
URL:https://gckib.iwanowice.pl/wydarzenie/zumba-gold-2022-05-18/
LOCATION:Gminne Centrum Kultury i Bibliotek w Iwanowicach\, Strażacka 5\, Iwanowice Włościańskie
CATEGORIES:Zumba
ATTACH;FMTTYPE=image/png:https://gckib.iwanowice.pl/wp-content/uploads/2022/05/ZUMBA_NEW.png
END:VEVENT
BEGIN:VEVENT
DTSTART;TZID=Europe/Warsaw:20220518T185000
DTEND;TZID=Europe/Warsaw:20220518T195000
DTSTAMP:20260420T214752
CREATED:20220428T080324Z
LAST-MODIFIED:20220509T124955Z
UID:40214-1652899800-1652903400@gckib.iwanowice.pl
SUMMARY:Zumba Fitness
DESCRIPTION:Połączenie tańców latynoamerykańskich z fitnessem. Rytmy salsy\, cumbii\, reggaetonu\, morengue\, cha-chy i innych. Zumba Fitness poprawia sylwetkę i pozwala na zrzucenie wagi w przyjemny sposób. \nZajęcia odbywają się w środy od godziny 18:50 do 19:50.
URL:https://gckib.iwanowice.pl/wydarzenie/zumba-fitness-2-2022-05-18/
LOCATION:SP/ Orlik w Iwanowicach
CATEGORIES:Zumba
ATTACH;FMTTYPE=image/png:https://gckib.iwanowice.pl/wp-content/uploads/2022/05/ZUMBA_NEW.png
END:VEVENT
BEGIN:VEVENT
DTSTART;TZID=Europe/Warsaw:20220519T150000
DTEND;TZID=Europe/Warsaw:20220519T163000
DTSTAMP:20260420T214752
CREATED:20220428T070004Z
LAST-MODIFIED:20220519T073803Z
UID:38919-1652972400-1652977800@gckib.iwanowice.pl
SUMMARY:III spotkanie z cyklu EKO warsztatów - domki dla owadów
DESCRIPTION:Zapraszamy dzieci w wieku 4-12 lat do udziału w plenerowych warsztatach organizowanych przez GCKiB w Iwanowicach oraz Zespół Parków Krajobrazowych Województwa Małopolskiego. \nTermin: 19 maja w godzinach 15:00-16:30. \nMiejsce: Gminne Centrum Kultury i Bibliotek w Iwanowicach. \nZapraszamy do zapisów nr tel. (12) 388 45 16. Ilość miejsc ograniczona. \nPoniżej dokumenty do pobrania\, należy złożyć je w GCKiB w dniu warsztatów. \nREGULAMIN-WARSZTATOW \nDEKLARACJA-UCZESTNICTWA-DOMKI-DLA-OWADOW \nZALACZNIK-2-RODO
URL:https://gckib.iwanowice.pl/wydarzenie/iii-spotkanie-z-cyklu-eko-warsztatow-domki-dla-owadow-szczegoly-wkrotce/
LOCATION:Gminne Centrum Kultury i Bibliotek w Iwanowicach\, Strażacka 5\, Iwanowice Włościańskie
ATTACH;FMTTYPE=image/png:https://gckib.iwanowice.pl/wp-content/uploads/2022/05/ekowarsztaty_19.05-2.png
END:VEVENT
BEGIN:VEVENT
DTSTART;TZID=Europe/Warsaw:20220519T165500
DTEND;TZID=Europe/Warsaw:20220519T175500
DTSTAMP:20260420T214752
CREATED:20211020T144821Z
LAST-MODIFIED:20211020T144821Z
UID:37109-1652979300-1652982900@gckib.iwanowice.pl
SUMMARY:Balet dla dzieci GRUPA 6 - 7 lat
DESCRIPTION:Balet dla dzieci w wieku od 6 do 7 roku życia. Opłata za zajęcia wynosi 60 zł za miesiąc. Aby zapisać dziecko na zajęcia należy złożyć deklarację https://gckib.iwanowice.pl/wp-content/uploads/2021/09/Zajecia-baletowe-deklaracja-uczestnictwa-1.pdf oraz uiścić opłatę\, przelewem na konto Gminnego Centrum Kultury i Bibliotek w Iwanowicach. \nW razie pytań prosimy o kontakt telefoniczny 12 388 45 16 lub mailowy gckib@iwanowice.pl \nSerdecznie zapraszamy wszystkie chętne dzieci.
URL:https://gckib.iwanowice.pl/wydarzenie/balet-dla-dzieci-grupa-6-7-lat-2022-05-19/
LOCATION:mała sala przy ZS – P w Iwanowicach Włościańskich
ATTACH;FMTTYPE=image/png:https://gckib.iwanowice.pl/wp-content/uploads/2021/09/balet-jesien-amitiel.png
END:VEVENT
BEGIN:VEVENT
DTSTART;TZID=Europe/Warsaw:20220523T160000
DTEND;TZID=Europe/Warsaw:20220523T170000
DTSTAMP:20260420T214752
CREATED:20220408T064821Z
LAST-MODIFIED:20220408T105246Z
UID:38724-1653321600-1653325200@gckib.iwanowice.pl
SUMMARY:Robotyka dla dzieci
DESCRIPTION:Zajęcia skierowane są do dzieci w wieku 6-8 lat. Lekcje są przeprowadzane raz w tygodniu\, w poniedziałki. \nRobotyka 6 – 8 r.ż.: 16:00-17:00 \nMiejscem spotkań jest Gminne Centrum Kultury i Bibliotek w Iwanowicach. \nKoszt miesięczny – 60 zł \nWięcej informacji pod numerem: 12 388 45 16. \nhttps://gckib.iwanowice.pl/wp-content/uploads/2022/02/DEKLARACJA-i-RODO-ROBOTYKA-I-PROGRAMOWANIE-2022.pdf
URL:https://gckib.iwanowice.pl/wydarzenie/robotyka-i-programowanie-dla-dzieci-2022-05-23/
ATTACH;FMTTYPE=image/png:https://gckib.iwanowice.pl/wp-content/uploads/2022/02/robotyka_2-Medium.png
END:VEVENT
END:VCALENDAR