BEGIN:VCALENDAR
VERSION:2.0
PRODID:-//GCKiB - ECPv6.15.20//NONSGML v1.0//EN
CALSCALE:GREGORIAN
METHOD:PUBLISH
X-ORIGINAL-URL:https://gckib.iwanowice.pl
X-WR-CALDESC:Wydarzenia dla GCKiB
REFRESH-INTERVAL;VALUE=DURATION:PT1H
X-Robots-Tag:noindex
X-PUBLISHED-TTL:PT1H
BEGIN:VTIMEZONE
TZID:Europe/Warsaw
BEGIN:DAYLIGHT
TZOFFSETFROM:+0100
TZOFFSETTO:+0200
TZNAME:CEST
DTSTART:20200329T010000
END:DAYLIGHT
BEGIN:STANDARD
TZOFFSETFROM:+0200
TZOFFSETTO:+0100
TZNAME:CET
DTSTART:20201025T010000
END:STANDARD
BEGIN:DAYLIGHT
TZOFFSETFROM:+0100
TZOFFSETTO:+0200
TZNAME:CEST
DTSTART:20210328T010000
END:DAYLIGHT
BEGIN:STANDARD
TZOFFSETFROM:+0200
TZOFFSETTO:+0100
TZNAME:CET
DTSTART:20211031T010000
END:STANDARD
BEGIN:DAYLIGHT
TZOFFSETFROM:+0100
TZOFFSETTO:+0200
TZNAME:CEST
DTSTART:20220327T010000
END:DAYLIGHT
BEGIN:STANDARD
TZOFFSETFROM:+0200
TZOFFSETTO:+0100
TZNAME:CET
DTSTART:20221030T010000
END:STANDARD
END:VTIMEZONE
BEGIN:VEVENT
DTSTART;VALUE=DATE:20210601
DTEND;VALUE=DATE:20210602
DTSTAMP:20260421T173747
CREATED:20210712T065351Z
LAST-MODIFIED:20210712T065351Z
UID:34621-1622505600-1622591999@gckib.iwanowice.pl
SUMMARY:Dzień Dziecka w GCKiB
DESCRIPTION:
URL:https://gckib.iwanowice.pl/wydarzenie/dzien-dziecka-w-gckib/
LOCATION:Ogród GCKiB
ATTACH;FMTTYPE=image/png:https://gckib.iwanowice.pl/wp-content/uploads/2021/05/konkurs-na-bombke.png
END:VEVENT
BEGIN:VEVENT
DTSTART;TZID=Europe/Warsaw:20210602T170000
DTEND;TZID=Europe/Warsaw:20210602T174500
DTSTAMP:20260421T173747
CREATED:20220428T075329Z
LAST-MODIFIED:20220428T075329Z
UID:39886-1622653200-1622655900@gckib.iwanowice.pl
SUMMARY:Zumba kids
DESCRIPTION:Zumba dla dzieci. Choreografie łatwe do powtórzenia i zapamiętania. Dzieci uczą się różnych tańców np. cumbia\, reggaeton\, hip-hop\, merengue\, salsa itd. Czas trwania zajęć 45 minut. Koszt 60 zł za miesiąc.
URL:https://gckib.iwanowice.pl/wydarzenie/zumba-kids-2-2021-06-02/
CATEGORIES:Zumba
ATTACH;FMTTYPE=image/png:https://gckib.iwanowice.pl/wp-content/uploads/2021/06/UWAGA-Nowe-deklaracje-i-nowa-oplata-Zumba-dla-doroslych-od-1-stycznia-2022.png
END:VEVENT
BEGIN:VEVENT
DTSTART;TZID=Europe/Warsaw:20210602T175000
DTEND;TZID=Europe/Warsaw:20210602T185000
DTSTAMP:20260421T173747
CREATED:20220428T075804Z
LAST-MODIFIED:20220428T075804Z
UID:39956-1622656200-1622659800@gckib.iwanowice.pl
SUMMARY:Zumba Gold
DESCRIPTION:Zajęcia o mniejszej intensywności i wolniejszym tempie. W ramach tego programu wykorzystywane są eleementy merengue\, salsy\, cumbii\, tańca brzucha\, flamenco\, tanga i nie tylko. \nZajęcia odbywają się w środy od godziny 17:50 do 18:50. \n  \n 
URL:https://gckib.iwanowice.pl/wydarzenie/zumba-gold-2021-06-02/
LOCATION:Gminne Centrum Kultury i Bibliotek w Iwanowicach\, Strażacka 5\, Iwanowice Włościańskie
CATEGORIES:Zumba
ATTACH;FMTTYPE=image/png:https://gckib.iwanowice.pl/wp-content/uploads/2021/06/UWAGA-Nowe-deklaracje-i-nowa-oplata-Zumba-dla-doroslych-od-1-stycznia-2022.png
END:VEVENT
BEGIN:VEVENT
DTSTART;TZID=Europe/Warsaw:20210602T185000
DTEND;TZID=Europe/Warsaw:20210602T195000
DTSTAMP:20260421T173747
CREATED:20220428T080324Z
LAST-MODIFIED:20220428T080324Z
UID:40164-1622659800-1622663400@gckib.iwanowice.pl
SUMMARY:Zumba Fitness
DESCRIPTION:Połączenie tańców latynoamerykańskich z fitnessem. Rytmy salsy\, cumbii\, reggaetonu\, morengue\, cha-chy i innych. Zumba Fitness poprawia sylwetkę i pozwala na zrzucenie wagi w przyjemny sposób. \nZajęcia odbywają się w środy od godziny 18:50 do 19:50.
URL:https://gckib.iwanowice.pl/wydarzenie/zumba-fitness-2-2021-06-02/
LOCATION:SP/ Orlik w Iwanowicach
CATEGORIES:Zumba
ATTACH;FMTTYPE=image/png:https://gckib.iwanowice.pl/wp-content/uploads/2021/06/UWAGA-Nowe-deklaracje-i-nowa-oplata-Zumba-dla-doroslych-od-1-stycznia-2022.png
END:VEVENT
BEGIN:VEVENT
DTSTART;TZID=Europe/Warsaw:20210603T185000
DTEND;TZID=Europe/Warsaw:20210603T195000
DTSTAMP:20260421T173747
CREATED:20220428T080324Z
LAST-MODIFIED:20220428T080324Z
UID:40062-1622746200-1622749800@gckib.iwanowice.pl
SUMMARY:Zumba Fitness
DESCRIPTION:Połączenie tańców latynoamerykańskich z fitnessem. Rytmy salsy\, cumbii\, reggaetonu\, morengue\, cha-chy i innych. Zumba Fitness poprawia sylwetkę i pozwala na zrzucenie wagi w przyjemny sposób. \nZajęcia odbywają się w środy od godziny 18:50 do 19:50.
URL:https://gckib.iwanowice.pl/wydarzenie/zumba-fitness-2-2021-06-03/
LOCATION:SP/ Orlik w Iwanowicach
CATEGORIES:Zumba
ATTACH;FMTTYPE=image/png:https://gckib.iwanowice.pl/wp-content/uploads/2021/06/UWAGA-Nowe-deklaracje-i-nowa-oplata-Zumba-dla-doroslych-od-1-stycznia-2022.png
END:VEVENT
BEGIN:VEVENT
DTSTART;VALUE=DATE:20210604
DTEND;VALUE=DATE:20210605
DTSTAMP:20260421T173747
CREATED:20210712T061748Z
LAST-MODIFIED:20210712T061748Z
UID:34566-1622764800-1622851199@gckib.iwanowice.pl
SUMMARY:Rekrutacja na Półkolonię w Iwanowicach
DESCRIPTION:
URL:https://gckib.iwanowice.pl/wydarzenie/rekrutacja-na-polkolonie-w-iwanowicach/
ATTACH;FMTTYPE=image/png:https://gckib.iwanowice.pl/wp-content/uploads/2021/06/polkolonia-w-iwanowicach-.png
END:VEVENT
BEGIN:VEVENT
DTSTART;VALUE=DATE:20210605
DTEND;VALUE=DATE:20210606
DTSTAMP:20260421T173747
CREATED:20210712T061748Z
LAST-MODIFIED:20210712T061748Z
UID:34569-1622851200-1622937599@gckib.iwanowice.pl
SUMMARY:Rekrutacja na Półkolonię w Iwanowicach
DESCRIPTION:
URL:https://gckib.iwanowice.pl/wydarzenie/rekrutacja-na-polkolonie-w-iwanowicach-2021-06-05/
ATTACH;FMTTYPE=image/png:https://gckib.iwanowice.pl/wp-content/uploads/2021/06/polkolonia-w-iwanowicach-.png
END:VEVENT
BEGIN:VEVENT
DTSTART;VALUE=DATE:20210606
DTEND;VALUE=DATE:20210607
DTSTAMP:20260421T173747
CREATED:20210712T061748Z
LAST-MODIFIED:20210712T061748Z
UID:34570-1622937600-1623023999@gckib.iwanowice.pl
SUMMARY:Rekrutacja na Półkolonię w Iwanowicach
DESCRIPTION:
URL:https://gckib.iwanowice.pl/wydarzenie/rekrutacja-na-polkolonie-w-iwanowicach-2021-06-06/
ATTACH;FMTTYPE=image/png:https://gckib.iwanowice.pl/wp-content/uploads/2021/06/polkolonia-w-iwanowicach-.png
END:VEVENT
BEGIN:VEVENT
DTSTART;VALUE=DATE:20210607
DTEND;VALUE=DATE:20210608
DTSTAMP:20260421T173747
CREATED:20210712T061748Z
LAST-MODIFIED:20210712T061748Z
UID:34571-1623024000-1623110399@gckib.iwanowice.pl
SUMMARY:Rekrutacja na Półkolonię w Iwanowicach
DESCRIPTION:
URL:https://gckib.iwanowice.pl/wydarzenie/rekrutacja-na-polkolonie-w-iwanowicach-2021-06-07/
ATTACH;FMTTYPE=image/png:https://gckib.iwanowice.pl/wp-content/uploads/2021/06/polkolonia-w-iwanowicach-.png
END:VEVENT
BEGIN:VEVENT
DTSTART;VALUE=DATE:20210608
DTEND;VALUE=DATE:20210609
DTSTAMP:20260421T173747
CREATED:20210712T061748Z
LAST-MODIFIED:20210712T061748Z
UID:34572-1623110400-1623196799@gckib.iwanowice.pl
SUMMARY:Rekrutacja na Półkolonię w Iwanowicach
DESCRIPTION:
URL:https://gckib.iwanowice.pl/wydarzenie/rekrutacja-na-polkolonie-w-iwanowicach-2021-06-08/
ATTACH;FMTTYPE=image/png:https://gckib.iwanowice.pl/wp-content/uploads/2021/06/polkolonia-w-iwanowicach-.png
END:VEVENT
BEGIN:VEVENT
DTSTART;VALUE=DATE:20210609
DTEND;VALUE=DATE:20210610
DTSTAMP:20260421T173747
CREATED:20210712T061748Z
LAST-MODIFIED:20210712T061748Z
UID:34573-1623196800-1623283199@gckib.iwanowice.pl
SUMMARY:Rekrutacja na Półkolonię w Iwanowicach
DESCRIPTION:
URL:https://gckib.iwanowice.pl/wydarzenie/rekrutacja-na-polkolonie-w-iwanowicach-2021-06-09/
ATTACH;FMTTYPE=image/png:https://gckib.iwanowice.pl/wp-content/uploads/2021/06/polkolonia-w-iwanowicach-.png
END:VEVENT
BEGIN:VEVENT
DTSTART;TZID=Europe/Warsaw:20210609T170000
DTEND;TZID=Europe/Warsaw:20210609T174500
DTSTAMP:20260421T173747
CREATED:20220428T075329Z
LAST-MODIFIED:20220428T075329Z
UID:39887-1623258000-1623260700@gckib.iwanowice.pl
SUMMARY:Zumba kids
DESCRIPTION:Zumba dla dzieci. Choreografie łatwe do powtórzenia i zapamiętania. Dzieci uczą się różnych tańców np. cumbia\, reggaeton\, hip-hop\, merengue\, salsa itd. Czas trwania zajęć 45 minut. Koszt 60 zł za miesiąc.
URL:https://gckib.iwanowice.pl/wydarzenie/zumba-kids-2-2021-06-09/
CATEGORIES:Zumba
ATTACH;FMTTYPE=image/png:https://gckib.iwanowice.pl/wp-content/uploads/2021/06/UWAGA-Nowe-deklaracje-i-nowa-oplata-Zumba-dla-doroslych-od-1-stycznia-2022.png
END:VEVENT
BEGIN:VEVENT
DTSTART;TZID=Europe/Warsaw:20210609T175000
DTEND;TZID=Europe/Warsaw:20210609T185000
DTSTAMP:20260421T173747
CREATED:20220428T075804Z
LAST-MODIFIED:20220428T075804Z
UID:39957-1623261000-1623264600@gckib.iwanowice.pl
SUMMARY:Zumba Gold
DESCRIPTION:Zajęcia o mniejszej intensywności i wolniejszym tempie. W ramach tego programu wykorzystywane są eleementy merengue\, salsy\, cumbii\, tańca brzucha\, flamenco\, tanga i nie tylko. \nZajęcia odbywają się w środy od godziny 17:50 do 18:50. \n  \n 
URL:https://gckib.iwanowice.pl/wydarzenie/zumba-gold-2021-06-09/
LOCATION:Gminne Centrum Kultury i Bibliotek w Iwanowicach\, Strażacka 5\, Iwanowice Włościańskie
CATEGORIES:Zumba
ATTACH;FMTTYPE=image/png:https://gckib.iwanowice.pl/wp-content/uploads/2021/06/UWAGA-Nowe-deklaracje-i-nowa-oplata-Zumba-dla-doroslych-od-1-stycznia-2022.png
END:VEVENT
BEGIN:VEVENT
DTSTART;TZID=Europe/Warsaw:20210609T185000
DTEND;TZID=Europe/Warsaw:20210609T195000
DTSTAMP:20260421T173747
CREATED:20220428T080324Z
LAST-MODIFIED:20220428T080324Z
UID:40165-1623264600-1623268200@gckib.iwanowice.pl
SUMMARY:Zumba Fitness
DESCRIPTION:Połączenie tańców latynoamerykańskich z fitnessem. Rytmy salsy\, cumbii\, reggaetonu\, morengue\, cha-chy i innych. Zumba Fitness poprawia sylwetkę i pozwala na zrzucenie wagi w przyjemny sposób. \nZajęcia odbywają się w środy od godziny 18:50 do 19:50.
URL:https://gckib.iwanowice.pl/wydarzenie/zumba-fitness-2-2021-06-09/
LOCATION:SP/ Orlik w Iwanowicach
CATEGORIES:Zumba
ATTACH;FMTTYPE=image/png:https://gckib.iwanowice.pl/wp-content/uploads/2021/06/UWAGA-Nowe-deklaracje-i-nowa-oplata-Zumba-dla-doroslych-od-1-stycznia-2022.png
END:VEVENT
BEGIN:VEVENT
DTSTART;VALUE=DATE:20210610
DTEND;VALUE=DATE:20210611
DTSTAMP:20260421T173747
CREATED:20210712T064247Z
LAST-MODIFIED:20210712T064247Z
UID:34612-1623283200-1623369599@gckib.iwanowice.pl
SUMMARY:Rozgrywki o Puchar Wójta Gminy Iwanowice cz. 1
DESCRIPTION:
URL:https://gckib.iwanowice.pl/wydarzenie/rozgrywki-o-puchar-wojta-gminy-iwanowice-cz-1/
LOCATION:Sieciechowice
ATTACH;FMTTYPE=image/png:https://gckib.iwanowice.pl/wp-content/uploads/2021/06/plakat-puchar-wojta.png
END:VEVENT
BEGIN:VEVENT
DTSTART;VALUE=DATE:20210610
DTEND;VALUE=DATE:20210611
DTSTAMP:20260421T173747
CREATED:20210712T061748Z
LAST-MODIFIED:20210712T061748Z
UID:34574-1623283200-1623369599@gckib.iwanowice.pl
SUMMARY:Rekrutacja na Półkolonię w Iwanowicach
DESCRIPTION:
URL:https://gckib.iwanowice.pl/wydarzenie/rekrutacja-na-polkolonie-w-iwanowicach-2021-06-10/
ATTACH;FMTTYPE=image/png:https://gckib.iwanowice.pl/wp-content/uploads/2021/06/polkolonia-w-iwanowicach-.png
END:VEVENT
BEGIN:VEVENT
DTSTART;TZID=Europe/Warsaw:20210610T185000
DTEND;TZID=Europe/Warsaw:20210610T195000
DTSTAMP:20260421T173747
CREATED:20220428T080324Z
LAST-MODIFIED:20220428T080324Z
UID:40063-1623351000-1623354600@gckib.iwanowice.pl
SUMMARY:Zumba Fitness
DESCRIPTION:Połączenie tańców latynoamerykańskich z fitnessem. Rytmy salsy\, cumbii\, reggaetonu\, morengue\, cha-chy i innych. Zumba Fitness poprawia sylwetkę i pozwala na zrzucenie wagi w przyjemny sposób. \nZajęcia odbywają się w środy od godziny 18:50 do 19:50.
URL:https://gckib.iwanowice.pl/wydarzenie/zumba-fitness-2-2021-06-10/
LOCATION:SP/ Orlik w Iwanowicach
CATEGORIES:Zumba
ATTACH;FMTTYPE=image/png:https://gckib.iwanowice.pl/wp-content/uploads/2021/06/UWAGA-Nowe-deklaracje-i-nowa-oplata-Zumba-dla-doroslych-od-1-stycznia-2022.png
END:VEVENT
BEGIN:VEVENT
DTSTART;VALUE=DATE:20210611
DTEND;VALUE=DATE:20210612
DTSTAMP:20260421T173747
CREATED:20210712T061944Z
LAST-MODIFIED:20210712T061944Z
UID:34576-1623369600-1623455999@gckib.iwanowice.pl
SUMMARY:Rekrutacja na Półkolonię w Grzegorzowicach
DESCRIPTION:
URL:https://gckib.iwanowice.pl/wydarzenie/rekrutacja-na-polkolonie-w-grzegorzowicach/
ATTACH;FMTTYPE=image/png:https://gckib.iwanowice.pl/wp-content/uploads/2021/06/polkolonia-w-grzegorzowicach-1.png
END:VEVENT
BEGIN:VEVENT
DTSTART;VALUE=DATE:20210611
DTEND;VALUE=DATE:20210612
DTSTAMP:20260421T173747
CREATED:20210712T061748Z
LAST-MODIFIED:20210712T061748Z
UID:34575-1623369600-1623455999@gckib.iwanowice.pl
SUMMARY:Rekrutacja na Półkolonię w Iwanowicach
DESCRIPTION:
URL:https://gckib.iwanowice.pl/wydarzenie/rekrutacja-na-polkolonie-w-iwanowicach-2021-06-11/
ATTACH;FMTTYPE=image/png:https://gckib.iwanowice.pl/wp-content/uploads/2021/06/polkolonia-w-iwanowicach-.png
END:VEVENT
BEGIN:VEVENT
DTSTART;VALUE=DATE:20210612
DTEND;VALUE=DATE:20210613
DTSTAMP:20260421T173747
CREATED:20210712T061944Z
LAST-MODIFIED:20210712T061944Z
UID:34578-1623456000-1623542399@gckib.iwanowice.pl
SUMMARY:Rekrutacja na Półkolonię w Grzegorzowicach
DESCRIPTION:
URL:https://gckib.iwanowice.pl/wydarzenie/rekrutacja-na-polkolonie-w-grzegorzowicach-2021-06-12/
ATTACH;FMTTYPE=image/png:https://gckib.iwanowice.pl/wp-content/uploads/2021/06/polkolonia-w-grzegorzowicach-1.png
END:VEVENT
BEGIN:VEVENT
DTSTART;VALUE=DATE:20210613
DTEND;VALUE=DATE:20210614
DTSTAMP:20260421T173747
CREATED:20210712T061944Z
LAST-MODIFIED:20210712T061944Z
UID:34579-1623542400-1623628799@gckib.iwanowice.pl
SUMMARY:Rekrutacja na Półkolonię w Grzegorzowicach
DESCRIPTION:
URL:https://gckib.iwanowice.pl/wydarzenie/rekrutacja-na-polkolonie-w-grzegorzowicach-2021-06-13/
ATTACH;FMTTYPE=image/png:https://gckib.iwanowice.pl/wp-content/uploads/2021/06/polkolonia-w-grzegorzowicach-1.png
END:VEVENT
BEGIN:VEVENT
DTSTART;VALUE=DATE:20210614
DTEND;VALUE=DATE:20210615
DTSTAMP:20260421T173747
CREATED:20210712T064321Z
LAST-MODIFIED:20210712T064321Z
UID:34615-1623628800-1623715199@gckib.iwanowice.pl
SUMMARY:Rozgrywki o Puchar Wójta Gminy Iwanowice cz. 2
DESCRIPTION:
URL:https://gckib.iwanowice.pl/wydarzenie/rozgrywki-o-puchar-wojta-gminy-iwanowice-cz-2/
ATTACH;FMTTYPE=image/png:https://gckib.iwanowice.pl/wp-content/uploads/2021/06/plakat-puchar-wojta.png
END:VEVENT
BEGIN:VEVENT
DTSTART;VALUE=DATE:20210614
DTEND;VALUE=DATE:20210615
DTSTAMP:20260421T173747
CREATED:20210712T061944Z
LAST-MODIFIED:20210712T061944Z
UID:34580-1623628800-1623715199@gckib.iwanowice.pl
SUMMARY:Rekrutacja na Półkolonię w Grzegorzowicach
DESCRIPTION:
URL:https://gckib.iwanowice.pl/wydarzenie/rekrutacja-na-polkolonie-w-grzegorzowicach-2021-06-14/
ATTACH;FMTTYPE=image/png:https://gckib.iwanowice.pl/wp-content/uploads/2021/06/polkolonia-w-grzegorzowicach-1.png
END:VEVENT
BEGIN:VEVENT
DTSTART;VALUE=DATE:20210615
DTEND;VALUE=DATE:20210616
DTSTAMP:20260421T173747
CREATED:20210712T061944Z
LAST-MODIFIED:20210712T061944Z
UID:34581-1623715200-1623801599@gckib.iwanowice.pl
SUMMARY:Rekrutacja na Półkolonię w Grzegorzowicach
DESCRIPTION:
URL:https://gckib.iwanowice.pl/wydarzenie/rekrutacja-na-polkolonie-w-grzegorzowicach-2021-06-15/
ATTACH;FMTTYPE=image/png:https://gckib.iwanowice.pl/wp-content/uploads/2021/06/polkolonia-w-grzegorzowicach-1.png
END:VEVENT
BEGIN:VEVENT
DTSTART;VALUE=DATE:20210616
DTEND;VALUE=DATE:20210617
DTSTAMP:20260421T173747
CREATED:20210712T061944Z
LAST-MODIFIED:20210712T061944Z
UID:34582-1623801600-1623887999@gckib.iwanowice.pl
SUMMARY:Rekrutacja na Półkolonię w Grzegorzowicach
DESCRIPTION:
URL:https://gckib.iwanowice.pl/wydarzenie/rekrutacja-na-polkolonie-w-grzegorzowicach-2021-06-16/
ATTACH;FMTTYPE=image/png:https://gckib.iwanowice.pl/wp-content/uploads/2021/06/polkolonia-w-grzegorzowicach-1.png
END:VEVENT
BEGIN:VEVENT
DTSTART;TZID=Europe/Warsaw:20210616T170000
DTEND;TZID=Europe/Warsaw:20210616T174500
DTSTAMP:20260421T173747
CREATED:20220428T075329Z
LAST-MODIFIED:20220428T075329Z
UID:39888-1623862800-1623865500@gckib.iwanowice.pl
SUMMARY:Zumba kids
DESCRIPTION:Zumba dla dzieci. Choreografie łatwe do powtórzenia i zapamiętania. Dzieci uczą się różnych tańców np. cumbia\, reggaeton\, hip-hop\, merengue\, salsa itd. Czas trwania zajęć 45 minut. Koszt 60 zł za miesiąc.
URL:https://gckib.iwanowice.pl/wydarzenie/zumba-kids-2-2021-06-16/
CATEGORIES:Zumba
ATTACH;FMTTYPE=image/png:https://gckib.iwanowice.pl/wp-content/uploads/2021/06/UWAGA-Nowe-deklaracje-i-nowa-oplata-Zumba-dla-doroslych-od-1-stycznia-2022.png
END:VEVENT
BEGIN:VEVENT
DTSTART;TZID=Europe/Warsaw:20210616T175000
DTEND;TZID=Europe/Warsaw:20210616T185000
DTSTAMP:20260421T173747
CREATED:20220428T075804Z
LAST-MODIFIED:20220428T075804Z
UID:39958-1623865800-1623869400@gckib.iwanowice.pl
SUMMARY:Zumba Gold
DESCRIPTION:Zajęcia o mniejszej intensywności i wolniejszym tempie. W ramach tego programu wykorzystywane są eleementy merengue\, salsy\, cumbii\, tańca brzucha\, flamenco\, tanga i nie tylko. \nZajęcia odbywają się w środy od godziny 17:50 do 18:50. \n  \n 
URL:https://gckib.iwanowice.pl/wydarzenie/zumba-gold-2021-06-16/
LOCATION:Gminne Centrum Kultury i Bibliotek w Iwanowicach\, Strażacka 5\, Iwanowice Włościańskie
CATEGORIES:Zumba
ATTACH;FMTTYPE=image/png:https://gckib.iwanowice.pl/wp-content/uploads/2021/06/UWAGA-Nowe-deklaracje-i-nowa-oplata-Zumba-dla-doroslych-od-1-stycznia-2022.png
END:VEVENT
BEGIN:VEVENT
DTSTART;TZID=Europe/Warsaw:20210616T185000
DTEND;TZID=Europe/Warsaw:20210616T195000
DTSTAMP:20260421T173747
CREATED:20220428T080324Z
LAST-MODIFIED:20220428T080324Z
UID:40166-1623869400-1623873000@gckib.iwanowice.pl
SUMMARY:Zumba Fitness
DESCRIPTION:Połączenie tańców latynoamerykańskich z fitnessem. Rytmy salsy\, cumbii\, reggaetonu\, morengue\, cha-chy i innych. Zumba Fitness poprawia sylwetkę i pozwala na zrzucenie wagi w przyjemny sposób. \nZajęcia odbywają się w środy od godziny 18:50 do 19:50.
URL:https://gckib.iwanowice.pl/wydarzenie/zumba-fitness-2-2021-06-16/
LOCATION:SP/ Orlik w Iwanowicach
CATEGORIES:Zumba
ATTACH;FMTTYPE=image/png:https://gckib.iwanowice.pl/wp-content/uploads/2021/06/UWAGA-Nowe-deklaracje-i-nowa-oplata-Zumba-dla-doroslych-od-1-stycznia-2022.png
END:VEVENT
BEGIN:VEVENT
DTSTART;VALUE=DATE:20210617
DTEND;VALUE=DATE:20210618
DTSTAMP:20260421T173747
CREATED:20210712T061944Z
LAST-MODIFIED:20210712T061944Z
UID:34583-1623888000-1623974399@gckib.iwanowice.pl
SUMMARY:Rekrutacja na Półkolonię w Grzegorzowicach
DESCRIPTION:
URL:https://gckib.iwanowice.pl/wydarzenie/rekrutacja-na-polkolonie-w-grzegorzowicach-2021-06-17/
ATTACH;FMTTYPE=image/png:https://gckib.iwanowice.pl/wp-content/uploads/2021/06/polkolonia-w-grzegorzowicach-1.png
END:VEVENT
BEGIN:VEVENT
DTSTART;TZID=Europe/Warsaw:20210617T185000
DTEND;TZID=Europe/Warsaw:20210617T195000
DTSTAMP:20260421T173747
CREATED:20220428T080324Z
LAST-MODIFIED:20220428T080324Z
UID:40064-1623955800-1623959400@gckib.iwanowice.pl
SUMMARY:Zumba Fitness
DESCRIPTION:Połączenie tańców latynoamerykańskich z fitnessem. Rytmy salsy\, cumbii\, reggaetonu\, morengue\, cha-chy i innych. Zumba Fitness poprawia sylwetkę i pozwala na zrzucenie wagi w przyjemny sposób. \nZajęcia odbywają się w środy od godziny 18:50 do 19:50.
URL:https://gckib.iwanowice.pl/wydarzenie/zumba-fitness-2-2021-06-17/
LOCATION:SP/ Orlik w Iwanowicach
CATEGORIES:Zumba
ATTACH;FMTTYPE=image/png:https://gckib.iwanowice.pl/wp-content/uploads/2021/06/UWAGA-Nowe-deklaracje-i-nowa-oplata-Zumba-dla-doroslych-od-1-stycznia-2022.png
END:VEVENT
END:VCALENDAR