BEGIN:VCALENDAR
VERSION:2.0
PRODID:-//GCKiB - ECPv6.15.20//NONSGML v1.0//EN
CALSCALE:GREGORIAN
METHOD:PUBLISH
X-ORIGINAL-URL:https://gckib.iwanowice.pl
X-WR-CALDESC:Wydarzenia dla GCKiB
REFRESH-INTERVAL;VALUE=DURATION:PT1H
X-Robots-Tag:noindex
X-PUBLISHED-TTL:PT1H
BEGIN:VTIMEZONE
TZID:Europe/Warsaw
BEGIN:DAYLIGHT
TZOFFSETFROM:+0100
TZOFFSETTO:+0200
TZNAME:CEST
DTSTART:20200329T010000
END:DAYLIGHT
BEGIN:STANDARD
TZOFFSETFROM:+0200
TZOFFSETTO:+0100
TZNAME:CET
DTSTART:20201025T010000
END:STANDARD
BEGIN:DAYLIGHT
TZOFFSETFROM:+0100
TZOFFSETTO:+0200
TZNAME:CEST
DTSTART:20210328T010000
END:DAYLIGHT
BEGIN:STANDARD
TZOFFSETFROM:+0200
TZOFFSETTO:+0100
TZNAME:CET
DTSTART:20211031T010000
END:STANDARD
BEGIN:DAYLIGHT
TZOFFSETFROM:+0100
TZOFFSETTO:+0200
TZNAME:CEST
DTSTART:20220327T010000
END:DAYLIGHT
BEGIN:STANDARD
TZOFFSETFROM:+0200
TZOFFSETTO:+0100
TZNAME:CET
DTSTART:20221030T010000
END:STANDARD
END:VTIMEZONE
BEGIN:VEVENT
DTSTART;TZID=Europe/Warsaw:20210203T170000
DTEND;TZID=Europe/Warsaw:20210203T174500
DTSTAMP:20260422T024249
CREATED:20220428T075329Z
LAST-MODIFIED:20220428T075329Z
UID:39869-1612371600-1612374300@gckib.iwanowice.pl
SUMMARY:Zumba kids
DESCRIPTION:Zumba dla dzieci. Choreografie łatwe do powtórzenia i zapamiętania. Dzieci uczą się różnych tańców np. cumbia\, reggaeton\, hip-hop\, merengue\, salsa itd. Czas trwania zajęć 45 minut. Koszt 60 zł za miesiąc.
URL:https://gckib.iwanowice.pl/wydarzenie/zumba-kids-2-2021-02-03/
CATEGORIES:Zumba
ATTACH;FMTTYPE=image/png:https://gckib.iwanowice.pl/wp-content/uploads/2021/06/UWAGA-Nowe-deklaracje-i-nowa-oplata-Zumba-dla-doroslych-od-1-stycznia-2022.png
END:VEVENT
BEGIN:VEVENT
DTSTART;TZID=Europe/Warsaw:20210203T175000
DTEND;TZID=Europe/Warsaw:20210203T185000
DTSTAMP:20260422T024249
CREATED:20220428T075804Z
LAST-MODIFIED:20220428T075804Z
UID:39939-1612374600-1612378200@gckib.iwanowice.pl
SUMMARY:Zumba Gold
DESCRIPTION:Zajęcia o mniejszej intensywności i wolniejszym tempie. W ramach tego programu wykorzystywane są eleementy merengue\, salsy\, cumbii\, tańca brzucha\, flamenco\, tanga i nie tylko. \nZajęcia odbywają się w środy od godziny 17:50 do 18:50. \n  \n 
URL:https://gckib.iwanowice.pl/wydarzenie/zumba-gold-2021-02-03/
LOCATION:Gminne Centrum Kultury i Bibliotek w Iwanowicach\, Strażacka 5\, Iwanowice Włościańskie
CATEGORIES:Zumba
ATTACH;FMTTYPE=image/png:https://gckib.iwanowice.pl/wp-content/uploads/2021/06/UWAGA-Nowe-deklaracje-i-nowa-oplata-Zumba-dla-doroslych-od-1-stycznia-2022.png
END:VEVENT
BEGIN:VEVENT
DTSTART;TZID=Europe/Warsaw:20210203T185000
DTEND;TZID=Europe/Warsaw:20210203T195000
DTSTAMP:20260422T024249
CREATED:20220428T080324Z
LAST-MODIFIED:20220428T080324Z
UID:40147-1612378200-1612381800@gckib.iwanowice.pl
SUMMARY:Zumba Fitness
DESCRIPTION:Połączenie tańców latynoamerykańskich z fitnessem. Rytmy salsy\, cumbii\, reggaetonu\, morengue\, cha-chy i innych. Zumba Fitness poprawia sylwetkę i pozwala na zrzucenie wagi w przyjemny sposób. \nZajęcia odbywają się w środy od godziny 18:50 do 19:50.
URL:https://gckib.iwanowice.pl/wydarzenie/zumba-fitness-2-2021-02-03/
LOCATION:SP/ Orlik w Iwanowicach
CATEGORIES:Zumba
ATTACH;FMTTYPE=image/png:https://gckib.iwanowice.pl/wp-content/uploads/2021/06/UWAGA-Nowe-deklaracje-i-nowa-oplata-Zumba-dla-doroslych-od-1-stycznia-2022.png
END:VEVENT
BEGIN:VEVENT
DTSTART;TZID=Europe/Warsaw:20210204T185000
DTEND;TZID=Europe/Warsaw:20210204T195000
DTSTAMP:20260422T024249
CREATED:20220428T080324Z
LAST-MODIFIED:20220428T080324Z
UID:40045-1612464600-1612468200@gckib.iwanowice.pl
SUMMARY:Zumba Fitness
DESCRIPTION:Połączenie tańców latynoamerykańskich z fitnessem. Rytmy salsy\, cumbii\, reggaetonu\, morengue\, cha-chy i innych. Zumba Fitness poprawia sylwetkę i pozwala na zrzucenie wagi w przyjemny sposób. \nZajęcia odbywają się w środy od godziny 18:50 do 19:50.
URL:https://gckib.iwanowice.pl/wydarzenie/zumba-fitness-2-2021-02-04/
LOCATION:SP/ Orlik w Iwanowicach
CATEGORIES:Zumba
ATTACH;FMTTYPE=image/png:https://gckib.iwanowice.pl/wp-content/uploads/2021/06/UWAGA-Nowe-deklaracje-i-nowa-oplata-Zumba-dla-doroslych-od-1-stycznia-2022.png
END:VEVENT
BEGIN:VEVENT
DTSTART;TZID=Europe/Warsaw:20210210T170000
DTEND;TZID=Europe/Warsaw:20210210T174500
DTSTAMP:20260422T024249
CREATED:20220428T075329Z
LAST-MODIFIED:20220428T075329Z
UID:39870-1612976400-1612979100@gckib.iwanowice.pl
SUMMARY:Zumba kids
DESCRIPTION:Zumba dla dzieci. Choreografie łatwe do powtórzenia i zapamiętania. Dzieci uczą się różnych tańców np. cumbia\, reggaeton\, hip-hop\, merengue\, salsa itd. Czas trwania zajęć 45 minut. Koszt 60 zł za miesiąc.
URL:https://gckib.iwanowice.pl/wydarzenie/zumba-kids-2-2021-02-10/
CATEGORIES:Zumba
ATTACH;FMTTYPE=image/png:https://gckib.iwanowice.pl/wp-content/uploads/2021/06/UWAGA-Nowe-deklaracje-i-nowa-oplata-Zumba-dla-doroslych-od-1-stycznia-2022.png
END:VEVENT
BEGIN:VEVENT
DTSTART;TZID=Europe/Warsaw:20210210T175000
DTEND;TZID=Europe/Warsaw:20210210T185000
DTSTAMP:20260422T024249
CREATED:20220428T075804Z
LAST-MODIFIED:20220428T075804Z
UID:39940-1612979400-1612983000@gckib.iwanowice.pl
SUMMARY:Zumba Gold
DESCRIPTION:Zajęcia o mniejszej intensywności i wolniejszym tempie. W ramach tego programu wykorzystywane są eleementy merengue\, salsy\, cumbii\, tańca brzucha\, flamenco\, tanga i nie tylko. \nZajęcia odbywają się w środy od godziny 17:50 do 18:50. \n  \n 
URL:https://gckib.iwanowice.pl/wydarzenie/zumba-gold-2021-02-10/
LOCATION:Gminne Centrum Kultury i Bibliotek w Iwanowicach\, Strażacka 5\, Iwanowice Włościańskie
CATEGORIES:Zumba
ATTACH;FMTTYPE=image/png:https://gckib.iwanowice.pl/wp-content/uploads/2021/06/UWAGA-Nowe-deklaracje-i-nowa-oplata-Zumba-dla-doroslych-od-1-stycznia-2022.png
END:VEVENT
BEGIN:VEVENT
DTSTART;TZID=Europe/Warsaw:20210210T185000
DTEND;TZID=Europe/Warsaw:20210210T195000
DTSTAMP:20260422T024249
CREATED:20220428T080324Z
LAST-MODIFIED:20220428T080324Z
UID:40148-1612983000-1612986600@gckib.iwanowice.pl
SUMMARY:Zumba Fitness
DESCRIPTION:Połączenie tańców latynoamerykańskich z fitnessem. Rytmy salsy\, cumbii\, reggaetonu\, morengue\, cha-chy i innych. Zumba Fitness poprawia sylwetkę i pozwala na zrzucenie wagi w przyjemny sposób. \nZajęcia odbywają się w środy od godziny 18:50 do 19:50.
URL:https://gckib.iwanowice.pl/wydarzenie/zumba-fitness-2-2021-02-10/
LOCATION:SP/ Orlik w Iwanowicach
CATEGORIES:Zumba
ATTACH;FMTTYPE=image/png:https://gckib.iwanowice.pl/wp-content/uploads/2021/06/UWAGA-Nowe-deklaracje-i-nowa-oplata-Zumba-dla-doroslych-od-1-stycznia-2022.png
END:VEVENT
BEGIN:VEVENT
DTSTART;TZID=Europe/Warsaw:20210211T185000
DTEND;TZID=Europe/Warsaw:20210211T195000
DTSTAMP:20260422T024249
CREATED:20220428T080324Z
LAST-MODIFIED:20220428T080324Z
UID:40046-1613069400-1613073000@gckib.iwanowice.pl
SUMMARY:Zumba Fitness
DESCRIPTION:Połączenie tańców latynoamerykańskich z fitnessem. Rytmy salsy\, cumbii\, reggaetonu\, morengue\, cha-chy i innych. Zumba Fitness poprawia sylwetkę i pozwala na zrzucenie wagi w przyjemny sposób. \nZajęcia odbywają się w środy od godziny 18:50 do 19:50.
URL:https://gckib.iwanowice.pl/wydarzenie/zumba-fitness-2-2021-02-11/
LOCATION:SP/ Orlik w Iwanowicach
CATEGORIES:Zumba
ATTACH;FMTTYPE=image/png:https://gckib.iwanowice.pl/wp-content/uploads/2021/06/UWAGA-Nowe-deklaracje-i-nowa-oplata-Zumba-dla-doroslych-od-1-stycznia-2022.png
END:VEVENT
BEGIN:VEVENT
DTSTART;TZID=Europe/Warsaw:20210217T170000
DTEND;TZID=Europe/Warsaw:20210217T174500
DTSTAMP:20260422T024249
CREATED:20220428T075329Z
LAST-MODIFIED:20220428T075329Z
UID:39871-1613581200-1613583900@gckib.iwanowice.pl
SUMMARY:Zumba kids
DESCRIPTION:Zumba dla dzieci. Choreografie łatwe do powtórzenia i zapamiętania. Dzieci uczą się różnych tańców np. cumbia\, reggaeton\, hip-hop\, merengue\, salsa itd. Czas trwania zajęć 45 minut. Koszt 60 zł za miesiąc.
URL:https://gckib.iwanowice.pl/wydarzenie/zumba-kids-2-2021-02-17/
CATEGORIES:Zumba
ATTACH;FMTTYPE=image/png:https://gckib.iwanowice.pl/wp-content/uploads/2021/06/UWAGA-Nowe-deklaracje-i-nowa-oplata-Zumba-dla-doroslych-od-1-stycznia-2022.png
END:VEVENT
BEGIN:VEVENT
DTSTART;TZID=Europe/Warsaw:20210217T175000
DTEND;TZID=Europe/Warsaw:20210217T185000
DTSTAMP:20260422T024249
CREATED:20220428T075804Z
LAST-MODIFIED:20220428T075804Z
UID:39941-1613584200-1613587800@gckib.iwanowice.pl
SUMMARY:Zumba Gold
DESCRIPTION:Zajęcia o mniejszej intensywności i wolniejszym tempie. W ramach tego programu wykorzystywane są eleementy merengue\, salsy\, cumbii\, tańca brzucha\, flamenco\, tanga i nie tylko. \nZajęcia odbywają się w środy od godziny 17:50 do 18:50. \n  \n 
URL:https://gckib.iwanowice.pl/wydarzenie/zumba-gold-2021-02-17/
LOCATION:Gminne Centrum Kultury i Bibliotek w Iwanowicach\, Strażacka 5\, Iwanowice Włościańskie
CATEGORIES:Zumba
ATTACH;FMTTYPE=image/png:https://gckib.iwanowice.pl/wp-content/uploads/2021/06/UWAGA-Nowe-deklaracje-i-nowa-oplata-Zumba-dla-doroslych-od-1-stycznia-2022.png
END:VEVENT
BEGIN:VEVENT
DTSTART;TZID=Europe/Warsaw:20210217T185000
DTEND;TZID=Europe/Warsaw:20210217T195000
DTSTAMP:20260422T024249
CREATED:20220428T080324Z
LAST-MODIFIED:20220428T080324Z
UID:40149-1613587800-1613591400@gckib.iwanowice.pl
SUMMARY:Zumba Fitness
DESCRIPTION:Połączenie tańców latynoamerykańskich z fitnessem. Rytmy salsy\, cumbii\, reggaetonu\, morengue\, cha-chy i innych. Zumba Fitness poprawia sylwetkę i pozwala na zrzucenie wagi w przyjemny sposób. \nZajęcia odbywają się w środy od godziny 18:50 do 19:50.
URL:https://gckib.iwanowice.pl/wydarzenie/zumba-fitness-2-2021-02-17/
LOCATION:SP/ Orlik w Iwanowicach
CATEGORIES:Zumba
ATTACH;FMTTYPE=image/png:https://gckib.iwanowice.pl/wp-content/uploads/2021/06/UWAGA-Nowe-deklaracje-i-nowa-oplata-Zumba-dla-doroslych-od-1-stycznia-2022.png
END:VEVENT
BEGIN:VEVENT
DTSTART;TZID=Europe/Warsaw:20210218T185000
DTEND;TZID=Europe/Warsaw:20210218T195000
DTSTAMP:20260422T024249
CREATED:20220428T080324Z
LAST-MODIFIED:20220428T080324Z
UID:40047-1613674200-1613677800@gckib.iwanowice.pl
SUMMARY:Zumba Fitness
DESCRIPTION:Połączenie tańców latynoamerykańskich z fitnessem. Rytmy salsy\, cumbii\, reggaetonu\, morengue\, cha-chy i innych. Zumba Fitness poprawia sylwetkę i pozwala na zrzucenie wagi w przyjemny sposób. \nZajęcia odbywają się w środy od godziny 18:50 do 19:50.
URL:https://gckib.iwanowice.pl/wydarzenie/zumba-fitness-2-2021-02-18/
LOCATION:SP/ Orlik w Iwanowicach
CATEGORIES:Zumba
ATTACH;FMTTYPE=image/png:https://gckib.iwanowice.pl/wp-content/uploads/2021/06/UWAGA-Nowe-deklaracje-i-nowa-oplata-Zumba-dla-doroslych-od-1-stycznia-2022.png
END:VEVENT
BEGIN:VEVENT
DTSTART;TZID=Europe/Warsaw:20210224T170000
DTEND;TZID=Europe/Warsaw:20210224T174500
DTSTAMP:20260422T024249
CREATED:20220428T075329Z
LAST-MODIFIED:20220428T075329Z
UID:39872-1614186000-1614188700@gckib.iwanowice.pl
SUMMARY:Zumba kids
DESCRIPTION:Zumba dla dzieci. Choreografie łatwe do powtórzenia i zapamiętania. Dzieci uczą się różnych tańców np. cumbia\, reggaeton\, hip-hop\, merengue\, salsa itd. Czas trwania zajęć 45 minut. Koszt 60 zł za miesiąc.
URL:https://gckib.iwanowice.pl/wydarzenie/zumba-kids-2-2021-02-24/
CATEGORIES:Zumba
ATTACH;FMTTYPE=image/png:https://gckib.iwanowice.pl/wp-content/uploads/2021/06/UWAGA-Nowe-deklaracje-i-nowa-oplata-Zumba-dla-doroslych-od-1-stycznia-2022.png
END:VEVENT
BEGIN:VEVENT
DTSTART;TZID=Europe/Warsaw:20210224T175000
DTEND;TZID=Europe/Warsaw:20210224T185000
DTSTAMP:20260422T024249
CREATED:20220428T075804Z
LAST-MODIFIED:20220428T075804Z
UID:39942-1614189000-1614192600@gckib.iwanowice.pl
SUMMARY:Zumba Gold
DESCRIPTION:Zajęcia o mniejszej intensywności i wolniejszym tempie. W ramach tego programu wykorzystywane są eleementy merengue\, salsy\, cumbii\, tańca brzucha\, flamenco\, tanga i nie tylko. \nZajęcia odbywają się w środy od godziny 17:50 do 18:50. \n  \n 
URL:https://gckib.iwanowice.pl/wydarzenie/zumba-gold-2021-02-24/
LOCATION:Gminne Centrum Kultury i Bibliotek w Iwanowicach\, Strażacka 5\, Iwanowice Włościańskie
CATEGORIES:Zumba
ATTACH;FMTTYPE=image/png:https://gckib.iwanowice.pl/wp-content/uploads/2021/06/UWAGA-Nowe-deklaracje-i-nowa-oplata-Zumba-dla-doroslych-od-1-stycznia-2022.png
END:VEVENT
BEGIN:VEVENT
DTSTART;TZID=Europe/Warsaw:20210224T185000
DTEND;TZID=Europe/Warsaw:20210224T195000
DTSTAMP:20260422T024249
CREATED:20220428T080324Z
LAST-MODIFIED:20220428T080324Z
UID:40150-1614192600-1614196200@gckib.iwanowice.pl
SUMMARY:Zumba Fitness
DESCRIPTION:Połączenie tańców latynoamerykańskich z fitnessem. Rytmy salsy\, cumbii\, reggaetonu\, morengue\, cha-chy i innych. Zumba Fitness poprawia sylwetkę i pozwala na zrzucenie wagi w przyjemny sposób. \nZajęcia odbywają się w środy od godziny 18:50 do 19:50.
URL:https://gckib.iwanowice.pl/wydarzenie/zumba-fitness-2-2021-02-24/
LOCATION:SP/ Orlik w Iwanowicach
CATEGORIES:Zumba
ATTACH;FMTTYPE=image/png:https://gckib.iwanowice.pl/wp-content/uploads/2021/06/UWAGA-Nowe-deklaracje-i-nowa-oplata-Zumba-dla-doroslych-od-1-stycznia-2022.png
END:VEVENT
BEGIN:VEVENT
DTSTART;TZID=Europe/Warsaw:20210225T185000
DTEND;TZID=Europe/Warsaw:20210225T195000
DTSTAMP:20260422T024249
CREATED:20220428T080324Z
LAST-MODIFIED:20220428T080324Z
UID:40048-1614279000-1614282600@gckib.iwanowice.pl
SUMMARY:Zumba Fitness
DESCRIPTION:Połączenie tańców latynoamerykańskich z fitnessem. Rytmy salsy\, cumbii\, reggaetonu\, morengue\, cha-chy i innych. Zumba Fitness poprawia sylwetkę i pozwala na zrzucenie wagi w przyjemny sposób. \nZajęcia odbywają się w środy od godziny 18:50 do 19:50.
URL:https://gckib.iwanowice.pl/wydarzenie/zumba-fitness-2-2021-02-25/
LOCATION:SP/ Orlik w Iwanowicach
CATEGORIES:Zumba
ATTACH;FMTTYPE=image/png:https://gckib.iwanowice.pl/wp-content/uploads/2021/06/UWAGA-Nowe-deklaracje-i-nowa-oplata-Zumba-dla-doroslych-od-1-stycznia-2022.png
END:VEVENT
BEGIN:VEVENT
DTSTART;TZID=Europe/Warsaw:20210303T170000
DTEND;TZID=Europe/Warsaw:20210303T174500
DTSTAMP:20260422T024249
CREATED:20220428T075329Z
LAST-MODIFIED:20220428T075329Z
UID:39873-1614790800-1614793500@gckib.iwanowice.pl
SUMMARY:Zumba kids
DESCRIPTION:Zumba dla dzieci. Choreografie łatwe do powtórzenia i zapamiętania. Dzieci uczą się różnych tańców np. cumbia\, reggaeton\, hip-hop\, merengue\, salsa itd. Czas trwania zajęć 45 minut. Koszt 60 zł za miesiąc.
URL:https://gckib.iwanowice.pl/wydarzenie/zumba-kids-2-2021-03-03/
CATEGORIES:Zumba
ATTACH;FMTTYPE=image/png:https://gckib.iwanowice.pl/wp-content/uploads/2021/06/UWAGA-Nowe-deklaracje-i-nowa-oplata-Zumba-dla-doroslych-od-1-stycznia-2022.png
END:VEVENT
BEGIN:VEVENT
DTSTART;TZID=Europe/Warsaw:20210303T175000
DTEND;TZID=Europe/Warsaw:20210303T185000
DTSTAMP:20260422T024249
CREATED:20220428T075804Z
LAST-MODIFIED:20220428T075804Z
UID:39943-1614793800-1614797400@gckib.iwanowice.pl
SUMMARY:Zumba Gold
DESCRIPTION:Zajęcia o mniejszej intensywności i wolniejszym tempie. W ramach tego programu wykorzystywane są eleementy merengue\, salsy\, cumbii\, tańca brzucha\, flamenco\, tanga i nie tylko. \nZajęcia odbywają się w środy od godziny 17:50 do 18:50. \n  \n 
URL:https://gckib.iwanowice.pl/wydarzenie/zumba-gold-2021-03-03/
LOCATION:Gminne Centrum Kultury i Bibliotek w Iwanowicach\, Strażacka 5\, Iwanowice Włościańskie
CATEGORIES:Zumba
ATTACH;FMTTYPE=image/png:https://gckib.iwanowice.pl/wp-content/uploads/2021/06/UWAGA-Nowe-deklaracje-i-nowa-oplata-Zumba-dla-doroslych-od-1-stycznia-2022.png
END:VEVENT
BEGIN:VEVENT
DTSTART;TZID=Europe/Warsaw:20210303T185000
DTEND;TZID=Europe/Warsaw:20210303T195000
DTSTAMP:20260422T024249
CREATED:20220428T080324Z
LAST-MODIFIED:20220428T080324Z
UID:40151-1614797400-1614801000@gckib.iwanowice.pl
SUMMARY:Zumba Fitness
DESCRIPTION:Połączenie tańców latynoamerykańskich z fitnessem. Rytmy salsy\, cumbii\, reggaetonu\, morengue\, cha-chy i innych. Zumba Fitness poprawia sylwetkę i pozwala na zrzucenie wagi w przyjemny sposób. \nZajęcia odbywają się w środy od godziny 18:50 do 19:50.
URL:https://gckib.iwanowice.pl/wydarzenie/zumba-fitness-2-2021-03-03/
LOCATION:SP/ Orlik w Iwanowicach
CATEGORIES:Zumba
ATTACH;FMTTYPE=image/png:https://gckib.iwanowice.pl/wp-content/uploads/2021/06/UWAGA-Nowe-deklaracje-i-nowa-oplata-Zumba-dla-doroslych-od-1-stycznia-2022.png
END:VEVENT
BEGIN:VEVENT
DTSTART;TZID=Europe/Warsaw:20210304T185000
DTEND;TZID=Europe/Warsaw:20210304T195000
DTSTAMP:20260422T024249
CREATED:20220428T080324Z
LAST-MODIFIED:20220428T080324Z
UID:40049-1614883800-1614887400@gckib.iwanowice.pl
SUMMARY:Zumba Fitness
DESCRIPTION:Połączenie tańców latynoamerykańskich z fitnessem. Rytmy salsy\, cumbii\, reggaetonu\, morengue\, cha-chy i innych. Zumba Fitness poprawia sylwetkę i pozwala na zrzucenie wagi w przyjemny sposób. \nZajęcia odbywają się w środy od godziny 18:50 do 19:50.
URL:https://gckib.iwanowice.pl/wydarzenie/zumba-fitness-2-2021-03-04/
LOCATION:SP/ Orlik w Iwanowicach
CATEGORIES:Zumba
ATTACH;FMTTYPE=image/png:https://gckib.iwanowice.pl/wp-content/uploads/2021/06/UWAGA-Nowe-deklaracje-i-nowa-oplata-Zumba-dla-doroslych-od-1-stycznia-2022.png
END:VEVENT
BEGIN:VEVENT
DTSTART;TZID=Europe/Warsaw:20210310T170000
DTEND;TZID=Europe/Warsaw:20210310T174500
DTSTAMP:20260422T024249
CREATED:20220428T075329Z
LAST-MODIFIED:20220428T075329Z
UID:39874-1615395600-1615398300@gckib.iwanowice.pl
SUMMARY:Zumba kids
DESCRIPTION:Zumba dla dzieci. Choreografie łatwe do powtórzenia i zapamiętania. Dzieci uczą się różnych tańców np. cumbia\, reggaeton\, hip-hop\, merengue\, salsa itd. Czas trwania zajęć 45 minut. Koszt 60 zł za miesiąc.
URL:https://gckib.iwanowice.pl/wydarzenie/zumba-kids-2-2021-03-10/
CATEGORIES:Zumba
ATTACH;FMTTYPE=image/png:https://gckib.iwanowice.pl/wp-content/uploads/2021/06/UWAGA-Nowe-deklaracje-i-nowa-oplata-Zumba-dla-doroslych-od-1-stycznia-2022.png
END:VEVENT
BEGIN:VEVENT
DTSTART;TZID=Europe/Warsaw:20210310T175000
DTEND;TZID=Europe/Warsaw:20210310T185000
DTSTAMP:20260422T024249
CREATED:20220428T075804Z
LAST-MODIFIED:20220428T075804Z
UID:39944-1615398600-1615402200@gckib.iwanowice.pl
SUMMARY:Zumba Gold
DESCRIPTION:Zajęcia o mniejszej intensywności i wolniejszym tempie. W ramach tego programu wykorzystywane są eleementy merengue\, salsy\, cumbii\, tańca brzucha\, flamenco\, tanga i nie tylko. \nZajęcia odbywają się w środy od godziny 17:50 do 18:50. \n  \n 
URL:https://gckib.iwanowice.pl/wydarzenie/zumba-gold-2021-03-10/
LOCATION:Gminne Centrum Kultury i Bibliotek w Iwanowicach\, Strażacka 5\, Iwanowice Włościańskie
CATEGORIES:Zumba
ATTACH;FMTTYPE=image/png:https://gckib.iwanowice.pl/wp-content/uploads/2021/06/UWAGA-Nowe-deklaracje-i-nowa-oplata-Zumba-dla-doroslych-od-1-stycznia-2022.png
END:VEVENT
BEGIN:VEVENT
DTSTART;TZID=Europe/Warsaw:20210310T185000
DTEND;TZID=Europe/Warsaw:20210310T195000
DTSTAMP:20260422T024249
CREATED:20220428T080324Z
LAST-MODIFIED:20220428T080324Z
UID:40152-1615402200-1615405800@gckib.iwanowice.pl
SUMMARY:Zumba Fitness
DESCRIPTION:Połączenie tańców latynoamerykańskich z fitnessem. Rytmy salsy\, cumbii\, reggaetonu\, morengue\, cha-chy i innych. Zumba Fitness poprawia sylwetkę i pozwala na zrzucenie wagi w przyjemny sposób. \nZajęcia odbywają się w środy od godziny 18:50 do 19:50.
URL:https://gckib.iwanowice.pl/wydarzenie/zumba-fitness-2-2021-03-10/
LOCATION:SP/ Orlik w Iwanowicach
CATEGORIES:Zumba
ATTACH;FMTTYPE=image/png:https://gckib.iwanowice.pl/wp-content/uploads/2021/06/UWAGA-Nowe-deklaracje-i-nowa-oplata-Zumba-dla-doroslych-od-1-stycznia-2022.png
END:VEVENT
BEGIN:VEVENT
DTSTART;TZID=Europe/Warsaw:20210311T185000
DTEND;TZID=Europe/Warsaw:20210311T195000
DTSTAMP:20260422T024249
CREATED:20220428T080324Z
LAST-MODIFIED:20220428T080324Z
UID:40050-1615488600-1615492200@gckib.iwanowice.pl
SUMMARY:Zumba Fitness
DESCRIPTION:Połączenie tańców latynoamerykańskich z fitnessem. Rytmy salsy\, cumbii\, reggaetonu\, morengue\, cha-chy i innych. Zumba Fitness poprawia sylwetkę i pozwala na zrzucenie wagi w przyjemny sposób. \nZajęcia odbywają się w środy od godziny 18:50 do 19:50.
URL:https://gckib.iwanowice.pl/wydarzenie/zumba-fitness-2-2021-03-11/
LOCATION:SP/ Orlik w Iwanowicach
CATEGORIES:Zumba
ATTACH;FMTTYPE=image/png:https://gckib.iwanowice.pl/wp-content/uploads/2021/06/UWAGA-Nowe-deklaracje-i-nowa-oplata-Zumba-dla-doroslych-od-1-stycznia-2022.png
END:VEVENT
BEGIN:VEVENT
DTSTART;TZID=Europe/Warsaw:20210317T170000
DTEND;TZID=Europe/Warsaw:20210317T174500
DTSTAMP:20260422T024249
CREATED:20220428T075329Z
LAST-MODIFIED:20220428T075329Z
UID:39875-1616000400-1616003100@gckib.iwanowice.pl
SUMMARY:Zumba kids
DESCRIPTION:Zumba dla dzieci. Choreografie łatwe do powtórzenia i zapamiętania. Dzieci uczą się różnych tańców np. cumbia\, reggaeton\, hip-hop\, merengue\, salsa itd. Czas trwania zajęć 45 minut. Koszt 60 zł za miesiąc.
URL:https://gckib.iwanowice.pl/wydarzenie/zumba-kids-2-2021-03-17/
CATEGORIES:Zumba
ATTACH;FMTTYPE=image/png:https://gckib.iwanowice.pl/wp-content/uploads/2021/06/UWAGA-Nowe-deklaracje-i-nowa-oplata-Zumba-dla-doroslych-od-1-stycznia-2022.png
END:VEVENT
BEGIN:VEVENT
DTSTART;TZID=Europe/Warsaw:20210317T175000
DTEND;TZID=Europe/Warsaw:20210317T185000
DTSTAMP:20260422T024249
CREATED:20220428T075804Z
LAST-MODIFIED:20220428T075804Z
UID:39945-1616003400-1616007000@gckib.iwanowice.pl
SUMMARY:Zumba Gold
DESCRIPTION:Zajęcia o mniejszej intensywności i wolniejszym tempie. W ramach tego programu wykorzystywane są eleementy merengue\, salsy\, cumbii\, tańca brzucha\, flamenco\, tanga i nie tylko. \nZajęcia odbywają się w środy od godziny 17:50 do 18:50. \n  \n 
URL:https://gckib.iwanowice.pl/wydarzenie/zumba-gold-2021-03-17/
LOCATION:Gminne Centrum Kultury i Bibliotek w Iwanowicach\, Strażacka 5\, Iwanowice Włościańskie
CATEGORIES:Zumba
ATTACH;FMTTYPE=image/png:https://gckib.iwanowice.pl/wp-content/uploads/2021/06/UWAGA-Nowe-deklaracje-i-nowa-oplata-Zumba-dla-doroslych-od-1-stycznia-2022.png
END:VEVENT
BEGIN:VEVENT
DTSTART;TZID=Europe/Warsaw:20210317T185000
DTEND;TZID=Europe/Warsaw:20210317T195000
DTSTAMP:20260422T024249
CREATED:20220428T080324Z
LAST-MODIFIED:20220428T080324Z
UID:40153-1616007000-1616010600@gckib.iwanowice.pl
SUMMARY:Zumba Fitness
DESCRIPTION:Połączenie tańców latynoamerykańskich z fitnessem. Rytmy salsy\, cumbii\, reggaetonu\, morengue\, cha-chy i innych. Zumba Fitness poprawia sylwetkę i pozwala na zrzucenie wagi w przyjemny sposób. \nZajęcia odbywają się w środy od godziny 18:50 do 19:50.
URL:https://gckib.iwanowice.pl/wydarzenie/zumba-fitness-2-2021-03-17/
LOCATION:SP/ Orlik w Iwanowicach
CATEGORIES:Zumba
ATTACH;FMTTYPE=image/png:https://gckib.iwanowice.pl/wp-content/uploads/2021/06/UWAGA-Nowe-deklaracje-i-nowa-oplata-Zumba-dla-doroslych-od-1-stycznia-2022.png
END:VEVENT
BEGIN:VEVENT
DTSTART;TZID=Europe/Warsaw:20210318T185000
DTEND;TZID=Europe/Warsaw:20210318T195000
DTSTAMP:20260422T024249
CREATED:20220428T080324Z
LAST-MODIFIED:20220428T080324Z
UID:40051-1616093400-1616097000@gckib.iwanowice.pl
SUMMARY:Zumba Fitness
DESCRIPTION:Połączenie tańców latynoamerykańskich z fitnessem. Rytmy salsy\, cumbii\, reggaetonu\, morengue\, cha-chy i innych. Zumba Fitness poprawia sylwetkę i pozwala na zrzucenie wagi w przyjemny sposób. \nZajęcia odbywają się w środy od godziny 18:50 do 19:50.
URL:https://gckib.iwanowice.pl/wydarzenie/zumba-fitness-2-2021-03-18/
LOCATION:SP/ Orlik w Iwanowicach
CATEGORIES:Zumba
ATTACH;FMTTYPE=image/png:https://gckib.iwanowice.pl/wp-content/uploads/2021/06/UWAGA-Nowe-deklaracje-i-nowa-oplata-Zumba-dla-doroslych-od-1-stycznia-2022.png
END:VEVENT
BEGIN:VEVENT
DTSTART;TZID=Europe/Warsaw:20210324T170000
DTEND;TZID=Europe/Warsaw:20210324T174500
DTSTAMP:20260422T024249
CREATED:20220428T075329Z
LAST-MODIFIED:20220428T075329Z
UID:39876-1616605200-1616607900@gckib.iwanowice.pl
SUMMARY:Zumba kids
DESCRIPTION:Zumba dla dzieci. Choreografie łatwe do powtórzenia i zapamiętania. Dzieci uczą się różnych tańców np. cumbia\, reggaeton\, hip-hop\, merengue\, salsa itd. Czas trwania zajęć 45 minut. Koszt 60 zł za miesiąc.
URL:https://gckib.iwanowice.pl/wydarzenie/zumba-kids-2-2021-03-24/
CATEGORIES:Zumba
ATTACH;FMTTYPE=image/png:https://gckib.iwanowice.pl/wp-content/uploads/2021/06/UWAGA-Nowe-deklaracje-i-nowa-oplata-Zumba-dla-doroslych-od-1-stycznia-2022.png
END:VEVENT
BEGIN:VEVENT
DTSTART;TZID=Europe/Warsaw:20210324T175000
DTEND;TZID=Europe/Warsaw:20210324T185000
DTSTAMP:20260422T024249
CREATED:20220428T075804Z
LAST-MODIFIED:20220428T075804Z
UID:39946-1616608200-1616611800@gckib.iwanowice.pl
SUMMARY:Zumba Gold
DESCRIPTION:Zajęcia o mniejszej intensywności i wolniejszym tempie. W ramach tego programu wykorzystywane są eleementy merengue\, salsy\, cumbii\, tańca brzucha\, flamenco\, tanga i nie tylko. \nZajęcia odbywają się w środy od godziny 17:50 do 18:50. \n  \n 
URL:https://gckib.iwanowice.pl/wydarzenie/zumba-gold-2021-03-24/
LOCATION:Gminne Centrum Kultury i Bibliotek w Iwanowicach\, Strażacka 5\, Iwanowice Włościańskie
CATEGORIES:Zumba
ATTACH;FMTTYPE=image/png:https://gckib.iwanowice.pl/wp-content/uploads/2021/06/UWAGA-Nowe-deklaracje-i-nowa-oplata-Zumba-dla-doroslych-od-1-stycznia-2022.png
END:VEVENT
END:VCALENDAR