BEGIN:VCALENDAR
VERSION:2.0
PRODID:-//GCKiB - ECPv6.15.20//NONSGML v1.0//EN
CALSCALE:GREGORIAN
METHOD:PUBLISH
X-ORIGINAL-URL:https://gckib.iwanowice.pl
X-WR-CALDESC:Wydarzenia dla GCKiB
REFRESH-INTERVAL;VALUE=DURATION:PT1H
X-Robots-Tag:noindex
X-PUBLISHED-TTL:PT1H
BEGIN:VTIMEZONE
TZID:Europe/Warsaw
BEGIN:DAYLIGHT
TZOFFSETFROM:+0100
TZOFFSETTO:+0200
TZNAME:CEST
DTSTART:20180325T010000
END:DAYLIGHT
BEGIN:STANDARD
TZOFFSETFROM:+0200
TZOFFSETTO:+0100
TZNAME:CET
DTSTART:20181028T010000
END:STANDARD
BEGIN:DAYLIGHT
TZOFFSETFROM:+0100
TZOFFSETTO:+0200
TZNAME:CEST
DTSTART:20190331T010000
END:DAYLIGHT
BEGIN:STANDARD
TZOFFSETFROM:+0200
TZOFFSETTO:+0100
TZNAME:CET
DTSTART:20191027T010000
END:STANDARD
BEGIN:DAYLIGHT
TZOFFSETFROM:+0100
TZOFFSETTO:+0200
TZNAME:CEST
DTSTART:20200329T010000
END:DAYLIGHT
BEGIN:STANDARD
TZOFFSETFROM:+0200
TZOFFSETTO:+0100
TZNAME:CET
DTSTART:20201025T010000
END:STANDARD
BEGIN:DAYLIGHT
TZOFFSETFROM:+0100
TZOFFSETTO:+0200
TZNAME:CEST
DTSTART:20210328T010000
END:DAYLIGHT
BEGIN:STANDARD
TZOFFSETFROM:+0200
TZOFFSETTO:+0100
TZNAME:CET
DTSTART:20211031T010000
END:STANDARD
END:VTIMEZONE
BEGIN:VEVENT
DTSTART;TZID=Europe/Warsaw:20191113T080000
DTEND;TZID=Europe/Warsaw:20191113T170000
DTSTAMP:20260423T053031
CREATED:20191113T112436Z
LAST-MODIFIED:20191113T112814Z
UID:28078-1573632000-1573664400@gckib.iwanowice.pl
SUMMARY:II MIĘDZYSZKOLNY KONCERT PIEŚNI PATRIOTYCZNYCH
DESCRIPTION:W dniu 07 listopada 2019 r. w Szkole Podstawowej im. Jana Pawła II w Iwanowicach odbył się po raz drugi Międzyszkolny Koncert Pieśni Patriotycznych pt. „Nie ma świętowania bez pieśni śpiewania”\, którego organizatorem było Gminne Centrum Kultury i Bibliotek w Iwanowicach. \nNasze spotkanie rozpoczęliśmy przedstawieniem dzieci z Gminnego Zespołu Teatralnego „Kwadrat”\, który głęboko poruszyły wszystkich obecnych i który przygotowała Maria Szczepaniak. Następnie przedszkolaki i uczniowie ze szkół  śpiewali piękne i wzruszające pieśni patriotyczne.  W przerwie na scenie pojawiła się również Orkiestra Dęta „Hejnał” z Sieciechowic\, która swoim występem uświetniła całe spotkanie. \nNa nasz koncert przybyło mnóstwo znamienitych gości\, dzieci\, rodziców\, dziadków oraz mieszkańców. \nW jury oceniającym dzieci zasiedli Pani Anna Tarko Sekretarz Gminy Iwanowice\, Pani Barbara Mrajca przedstawiciel Seniorów\, Pani Elżbieta Morek wiceprzewodnicząca Rady Gminy oraz Pani Anna Miłkoś nauczyciel muzyki. \nPo oglądnięciu wszystkich występów jury wyłoniło następujących zwycięzców: \n\n		\n		\n			\n				\n			\n			\n				\n			\n			\n				\n			\n		\n\nI miejsce otrzymali\nOddział Przedszkolny w Widomej\, Przedszkole w Iwanowicach oraz dziewczynki ze Szkoły Podstawowej w Poskwitowie \nII miejsce otrzymali\nOddział Przedszkolny w Celinach\, Przedszkole w Sieciechowicach oraz Szkoła Podstawowa w Iwanowicach\, Szkoła Podstawowa w Sieciechowicach i Szkoła Podstawowa w Celinach. \nWszystkim nagrodzonym serdecznie Gratulujemy! \nSzkołom dziękujemy za zaangażowanie\, nauczycielom za przygotowanie uczniów a rodzicom za pomoc. Podziękowanie należą się również KGW Iwanowice za przygotowanie pysznych ciast do naszej kawiarenki i obsługę oraz pracownikom szkoły\, gminy\, GCKiB i Spółdzielni  Socjalnej „Nad Dłubnią”  za pomoc w organizacji całego przedsięwzięcia.
URL:https://gckib.iwanowice.pl/wydarzenie/ii-miedzyszkolny-koncert-piesni-patriotycznych/
ATTACH;FMTTYPE=image/jpeg:https://gckib.iwanowice.pl/wp-content/uploads/2019/11/DSC_0151-2.jpg
END:VEVENT
BEGIN:VEVENT
DTSTART;TZID=Europe/Warsaw:20191118T080000
DTEND;TZID=Europe/Warsaw:20191118T170000
DTSTAMP:20260423T053031
CREATED:20190618T091731Z
LAST-MODIFIED:20190618T123556Z
UID:23991-1574064000-1574096400@gckib.iwanowice.pl
SUMMARY:Iwanowicka Akademia Futbolu (Widoma 3-4-5)
DESCRIPTION:Zajęcia dla grupy 3-4-5 w ramach Iwanowickiej Akademii Futbolu
URL:https://gckib.iwanowice.pl/wydarzenie/iwanowicka-akademia-futbolu-widoma-4/
LOCATION:Widoma
ATTACH;FMTTYPE=image/png:https://gckib.iwanowice.pl/wp-content/uploads/2019/06/iwanowicka-akademia-futbolu.png
END:VEVENT
BEGIN:VEVENT
DTSTART;TZID=Europe/Warsaw:20191118T130500
DTEND;TZID=Europe/Warsaw:20191118T140000
DTSTAMP:20260423T053031
CREATED:20190618T091547Z
LAST-MODIFIED:20190618T123652Z
UID:23982-1574082300-1574085600@gckib.iwanowice.pl
SUMMARY:Iwanowicka Akademia Futbolu (Widoma 0-1-2)
DESCRIPTION:Zajęcia dla grupy 0-1-2 w ramach Iwanowickiej Akademii Futbolu
URL:https://gckib.iwanowice.pl/wydarzenie/iwanowicka-akademia-futbolu-widoma-3/
LOCATION:Widoma
ATTACH;FMTTYPE=image/png:https://gckib.iwanowice.pl/wp-content/uploads/2019/06/iwanowicka-akademia-futbolu.png
END:VEVENT
BEGIN:VEVENT
DTSTART;TZID=Europe/Warsaw:20191118T163000
DTEND;TZID=Europe/Warsaw:20191118T210000
DTSTAMP:20260423T053031
CREATED:20190618T080007Z
LAST-MODIFIED:20190618T080007Z
UID:23853-1574094600-1574110800@gckib.iwanowice.pl
SUMMARY:Klub Seniora
DESCRIPTION:Zajęcia prowadzone w Klubie Seniora w Poskwitowie Starym
URL:https://gckib.iwanowice.pl/wydarzenie/klub-seniora-2/
LOCATION:Świetlica Poskwitów Stary
ATTACH;FMTTYPE=image/png:https://gckib.iwanowice.pl/wp-content/uploads/2019/06/pobrane.png
END:VEVENT
BEGIN:VEVENT
DTSTART;VALUE=DATE:20191219
DTEND;VALUE=DATE:20191220
DTSTAMP:20260423T053031
CREATED:20200116T080425Z
LAST-MODIFIED:20200116T081456Z
UID:29420-1576713600-1576799999@gckib.iwanowice.pl
SUMMARY:"Bombka bożonarodzeniowa 2019"- koniec składania prac konkursowych
DESCRIPTION:
URL:https://gckib.iwanowice.pl/wydarzenie/bombka-bozonarodzeniowa-2019-koniec-skladania-prac-konkursowych/
ATTACH;FMTTYPE=image/png:https://gckib.iwanowice.pl/wp-content/uploads/2020/01/konkurs-na-bombkę.png
END:VEVENT
BEGIN:VEVENT
DTSTART;TZID=Europe/Warsaw:20200106T160000
DTEND;TZID=Europe/Warsaw:20200106T180000
DTSTAMP:20260423T053031
CREATED:20200116T080002Z
LAST-MODIFIED:20200116T080002Z
UID:29386-1578326400-1578333600@gckib.iwanowice.pl
SUMMARY:Koncert Noworoczny "Bóg się rodzi"
DESCRIPTION:
URL:https://gckib.iwanowice.pl/wydarzenie/koncert-noworoczny-bog-sie-rodzi/
END:VEVENT
BEGIN:VEVENT
DTSTART;TZID=Europe/Warsaw:20200109T180000
DTEND;TZID=Europe/Warsaw:20200109T210000
DTSTAMP:20260423T053031
CREATED:20200116T084706Z
LAST-MODIFIED:20200116T084706Z
UID:29554-1578592800-1578603600@gckib.iwanowice.pl
SUMMARY:Wieczór Kolęd - SP Iwanowice
DESCRIPTION:
URL:https://gckib.iwanowice.pl/wydarzenie/wieczor-koled-sp-iwanowice/
ATTACH;FMTTYPE=image/jpeg:https://gckib.iwanowice.pl/wp-content/uploads/2020/01/81559838_2757266220963420_2188526651833319424_o.jpg
END:VEVENT
BEGIN:VEVENT
DTSTART;TZID=Europe/Warsaw:20200111T090000
DTEND;TZID=Europe/Warsaw:20200111T140000
DTSTAMP:20260423T053031
CREATED:20200115T075027Z
LAST-MODIFIED:20200115T075742Z
UID:29269-1578733200-1578751200@gckib.iwanowice.pl
SUMMARY:Uniwersytet Dziecięcy - "Patyczaki i inne dziwaki"
DESCRIPTION:
URL:https://gckib.iwanowice.pl/wydarzenie/uniwersytet-dzieciecy-patyczaki-i-inne-dziwaki/
ATTACH;FMTTYPE=image/jpeg:https://gckib.iwanowice.pl/wp-content/uploads/2020/01/00015-1.jpg
END:VEVENT
BEGIN:VEVENT
DTSTART;TZID=Europe/Warsaw:20200112T170000
DTEND;TZID=Europe/Warsaw:20200112T203000
DTSTAMP:20260423T053031
CREATED:20200115T061726Z
LAST-MODIFIED:20200115T062113Z
UID:29262-1578848400-1578861000@gckib.iwanowice.pl
SUMMARY:II Iwanowickie Kolędowanie
DESCRIPTION:
URL:https://gckib.iwanowice.pl/wydarzenie/ii-iwanowickie-koledowanie/
ATTACH;FMTTYPE=image/png:https://gckib.iwanowice.pl/wp-content/uploads/2020/01/iwanowickie-kołędowane.png
END:VEVENT
BEGIN:VEVENT
DTSTART;VALUE=DATE:20200117
DTEND;VALUE=DATE:20200118
DTSTAMP:20260423T053031
CREATED:20200115T091705Z
LAST-MODIFIED:20200115T091705Z
UID:29327-1579219200-1579305599@gckib.iwanowice.pl
SUMMARY:Inauguracja projektu „Młody da Vinci"
DESCRIPTION:Więcej informacji na: https://gckib.iwanowice.pl/29216-2/
URL:https://gckib.iwanowice.pl/wydarzenie/inauguracja-projektu-mlody-da-vinci/
ATTACH;FMTTYPE=image/jpeg:https://gckib.iwanowice.pl/wp-content/uploads/2020/01/Michałowice-Iwanowice-1754-x-2480-1080x1527-1.jpg
END:VEVENT
BEGIN:VEVENT
DTSTART;TZID=Europe/Warsaw:20200119T150000
DTEND;TZID=Europe/Warsaw:20200119T170000
DTSTAMP:20260423T053031
CREATED:20200115T062005Z
LAST-MODIFIED:20200115T064920Z
UID:29264-1579446000-1579453200@gckib.iwanowice.pl
SUMMARY:Dzień Babci i Dziadka w SP w Widomej
DESCRIPTION:
URL:https://gckib.iwanowice.pl/wydarzenie/dzien-babci-i-dziadka-w-sp-w-widomej/
ATTACH;FMTTYPE=image/jpeg:https://gckib.iwanowice.pl/wp-content/uploads/2020/01/82271124_2779683462055029_1391767217212751872_n.jpg
END:VEVENT
BEGIN:VEVENT
DTSTART;TZID=Europe/Warsaw:20200120T150000
DTEND;TZID=Europe/Warsaw:20200120T170000
DTSTAMP:20260423T053031
CREATED:20200115T081139Z
LAST-MODIFIED:20200115T081139Z
UID:29284-1579532400-1579539600@gckib.iwanowice.pl
SUMMARY:Warsztaty plastyczne w Widomej
DESCRIPTION:
URL:https://gckib.iwanowice.pl/wydarzenie/warsztaty-plastyczne-w-widomej/
ATTACH;FMTTYPE=image/png:https://gckib.iwanowice.pl/wp-content/uploads/2020/01/warsztaty-plastyczne-dzień-babci-i-dziadka-styczeń.png
END:VEVENT
BEGIN:VEVENT
DTSTART;TZID=Europe/Warsaw:20200120T160000
DTEND;TZID=Europe/Warsaw:20200120T200000
DTSTAMP:20260423T053031
CREATED:20200116T083144Z
LAST-MODIFIED:20200116T090300Z
UID:29552-1579536000-1579550400@gckib.iwanowice.pl
SUMMARY:Rękodzieło - Szkoła Podstawowa w Sieciechowicach
DESCRIPTION:
URL:https://gckib.iwanowice.pl/wydarzenie/rekodzielo-szkola-podstawowa-w-sieciechowicach/
LOCATION:SP w Sieciechowicach
ATTACH;FMTTYPE=image/jpeg:https://gckib.iwanowice.pl/wp-content/uploads/2020/01/post-07.jpg
ORGANIZER;CN="Iwanowice LOWE":MAILTO:mswiatek@iwanowice.pl
END:VEVENT
BEGIN:VEVENT
DTSTART;TZID=Europe/Warsaw:20200125T160000
DTEND;TZID=Europe/Warsaw:20200125T170000
DTSTAMP:20260423T053031
CREATED:20200122T121907Z
LAST-MODIFIED:20200122T122800Z
UID:29883-1579968000-1579971600@gckib.iwanowice.pl
SUMMARY:Kolędowanie z "Herodami" i kapelą "Maszkowiacy"
DESCRIPTION:
URL:https://gckib.iwanowice.pl/wydarzenie/koledowanie-z-herodami-i-kapela-maszkowiacy/
ATTACH;FMTTYPE=image/jpeg:https://gckib.iwanowice.pl/wp-content/uploads/2020/01/Koleda-zaproszenie-1.jpg
END:VEVENT
BEGIN:VEVENT
DTSTART;VALUE=DATE:20200131
DTEND;VALUE=DATE:20200201
DTSTAMP:20260423T053031
CREATED:20200116T082751Z
LAST-MODIFIED:20200116T083801Z
UID:29548-1580428800-1580515199@gckib.iwanowice.pl
SUMMARY:Zakończenie naboru wniosków do programu DK+ 2020
DESCRIPTION:Więcej informacji: \nNabór wniosków do programu DK+ 2020 – środki własne
URL:https://gckib.iwanowice.pl/wydarzenie/zakonczenie-naboru-wnioskow-do-programu-dk-2020/
ATTACH;FMTTYPE=image/png:https://gckib.iwanowice.pl/wp-content/uploads/2020/01/nabór-DK.png
END:VEVENT
BEGIN:VEVENT
DTSTART;VALUE=DATE:20200131
DTEND;VALUE=DATE:20200201
DTSTAMP:20260423T053031
CREATED:20200116T082921Z
LAST-MODIFIED:20200116T083718Z
UID:29550-1580428800-1580515199@gckib.iwanowice.pl
SUMMARY:Zakończenie naboru wniosków o objęcie patronatem
DESCRIPTION:Więcej informacji: \nNabór wniosków o przyznanie patronatu GCKiB w Iwanowicach na rok 2020
URL:https://gckib.iwanowice.pl/wydarzenie/zakonczenie-naboru-wnioskow-o-objecie-patronatem/
ATTACH;FMTTYPE=image/png:https://gckib.iwanowice.pl/wp-content/uploads/2020/01/patronaty-2020.png
END:VEVENT
BEGIN:VEVENT
DTSTART;VALUE=DATE:20200131
DTEND;VALUE=DATE:20200201
DTSTAMP:20260423T053031
CREATED:20200116T085527Z
LAST-MODIFIED:20200116T090908Z
UID:29558-1580428800-1580515199@gckib.iwanowice.pl
SUMMARY:Zakończenie zgłoszeń do „Gotuj po hiszpańsku II”
DESCRIPTION:Zgłoszenia na: \nhttps://gotujpohiszpansku.pl/zglos-sie/ \nWięcej informacji: \nGotuj po hiszpańsku z nami!
URL:https://gckib.iwanowice.pl/wydarzenie/zakonczenie-zgloszen-do-gotuj-po-hiszpansku-ii/
ATTACH;FMTTYPE=image/jpeg:https://gckib.iwanowice.pl/wp-content/uploads/2020/01/plakat_gph_jpg.jpg
END:VEVENT
BEGIN:VEVENT
DTSTART;TZID=Europe/Warsaw:20200204T110000
DTEND;TZID=Europe/Warsaw:20200204T123000
DTSTAMP:20260423T053031
CREATED:20200129T074705Z
LAST-MODIFIED:20200129T081250Z
UID:29936-1580814000-1580819400@gckib.iwanowice.pl
SUMMARY:Warsztaty plastyczne - temat: zima
DESCRIPTION:Zachęcamy wszystkie dzieci do udziału w warsztatach plastycznych\, które odbędą się 4-go lutego w bibliotece w Widomej. Podczas zajęć dzieci wykonywać będą prace o tematyce zimowej. Warsztaty są całkowicie bezpłatne!
URL:https://gckib.iwanowice.pl/wydarzenie/warsztaty-plastyczne-temat-zima/
ATTACH;FMTTYPE=image/png:https://gckib.iwanowice.pl/wp-content/uploads/2020/01/warsztaty-plastyczne-4-luty-zimowe-1.png
END:VEVENT
BEGIN:VEVENT
DTSTART;VALUE=DATE:20200213
DTEND;VALUE=DATE:20200214
DTSTAMP:20260423T053031
CREATED:20200115T082140Z
LAST-MODIFIED:20200207T102351Z
UID:29297-1581552000-1581638399@gckib.iwanowice.pl
SUMMARY:Zawody Łyżwiarskie w Sieciechowicach
DESCRIPTION:
URL:https://gckib.iwanowice.pl/wydarzenie/zawody-lyzwiarskie-w-sieciechowicach/
ATTACH;FMTTYPE=image/png:https://gckib.iwanowice.pl/wp-content/uploads/2020/01/Zawody-Łyżwiarskie-v2-program.png
END:VEVENT
BEGIN:VEVENT
DTSTART;TZID=Europe/Warsaw:20200215T100000
DTEND;TZID=Europe/Warsaw:20200215T123000
DTSTAMP:20260423T053031
CREATED:20200129T075322Z
LAST-MODIFIED:20200203T133749Z
UID:29939-1581760800-1581769800@gckib.iwanowice.pl
SUMMARY:Rekrutacja do "Iwanowickie Perełki"
DESCRIPTION:Pierwsza próba Gminnego Zespołu Ludowego „Iwanowickie Perełki” w tym roku już 15 lutego o godz. 10:00! Zapraszamy dzieci od 7 roku życia. Zajęcia odbywają się w świetlicy w miejscowości Poskwitów Stary. Są one całkowicie bezpłatne! Więcej informacji udziela GCKiB w Iwanowicach
URL:https://gckib.iwanowice.pl/wydarzenie/proba-zespolu-ludowego/
ATTACH;FMTTYPE=image/png:https://gckib.iwanowice.pl/wp-content/uploads/2020/01/rekrutacja-Iwanowickie-Perełki-animacja.png
END:VEVENT
BEGIN:VEVENT
DTSTART;TZID=Europe/Warsaw:20200221T180000
DTEND;TZID=Europe/Warsaw:20200221T220000
DTSTAMP:20260423T053031
CREATED:20200116T091415Z
LAST-MODIFIED:20200204T101456Z
UID:29567-1582308000-1582322400@gckib.iwanowice.pl
SUMMARY:Wspomnienie o Antonim Walaszczyku
DESCRIPTION:
URL:https://gckib.iwanowice.pl/wydarzenie/wieczernica-antoniego-walaszczyka/
ATTACH;FMTTYPE=image/png:https://gckib.iwanowice.pl/wp-content/uploads/2020/01/Wspomnienie-Antoniego-Walaszczyka-mniejszy-plik.png
END:VEVENT
BEGIN:VEVENT
DTSTART;TZID=Europe/Warsaw:20200304T183000
DTEND;TZID=Europe/Warsaw:20200304T193000
DTSTAMP:20260423T053031
CREATED:20200124T100813Z
LAST-MODIFIED:20200124T101456Z
UID:29890-1583346600-1583350200@gckib.iwanowice.pl
SUMMARY:Fitness - Szkoła Podstawowa Iwanowice
DESCRIPTION:
URL:https://gckib.iwanowice.pl/wydarzenie/fitness-37/
LOCATION:SP w Iwanowicach
ATTACH;FMTTYPE=image/jpeg:https://gckib.iwanowice.pl/wp-content/uploads/2020/01/post-07.jpg
ORGANIZER;CN="Iwanowice LOWE":MAILTO:mswiatek@iwanowice.pl
END:VEVENT
BEGIN:VEVENT
DTSTART;TZID=Europe/Warsaw:20200307T090000
DTEND;TZID=Europe/Warsaw:20200307T140000
DTSTAMP:20260423T053031
CREATED:20200115T075930Z
LAST-MODIFIED:20200115T080029Z
UID:29274-1583571600-1583589600@gckib.iwanowice.pl
SUMMARY:Uniwersytet Dziecięcy - Elektrostatyka
DESCRIPTION:
URL:https://gckib.iwanowice.pl/wydarzenie/uniwersytet-dzieciecy-elektrostatyka/
ATTACH;FMTTYPE=image/jpeg:https://gckib.iwanowice.pl/wp-content/uploads/2020/01/00015-1.jpg
END:VEVENT
BEGIN:VEVENT
DTSTART;VALUE=DATE:20200312
DTEND;VALUE=DATE:20200313
DTSTAMP:20260423T053031
CREATED:20200204T102144Z
LAST-MODIFIED:20200204T102144Z
UID:29984-1583971200-1584057599@gckib.iwanowice.pl
SUMMARY:V Konkurs na Godkę - finał
DESCRIPTION:Zgłoszenia należy dokonać drogą elektroniczną (adres e-mail: miesiąc.jezyka.ojczystego@uj.edu.pl) do 17 lutego 2020 roku. \nWięcej informacji na: \nhttp://mjo.uj.edu.pl/konkursy-2020/
URL:https://gckib.iwanowice.pl/wydarzenie/v-konkurs-na-godke-final/
ATTACH;FMTTYPE=image/png:https://gckib.iwanowice.pl/wp-content/uploads/2020/02/plakat_konkursy_MJO_2020.png
END:VEVENT
BEGIN:VEVENT
DTSTART;TZID=Europe/Warsaw:20200318T183000
DTEND;TZID=Europe/Warsaw:20200318T193000
DTSTAMP:20260423T053031
CREATED:20200116T075812Z
LAST-MODIFIED:20200323T140400Z
UID:29375-1584556200-1584559800@gckib.iwanowice.pl
SUMMARY:Fitness - Szkoła Podstawowa w Iwanowicach
DESCRIPTION:Zajęcia odwołane
URL:https://gckib.iwanowice.pl/wydarzenie/fitness-20-2020-03-18/
LOCATION:SP w Iwanowicach
ATTACH;FMTTYPE=image/jpeg:https://gckib.iwanowice.pl/wp-content/uploads/2020/01/post-07.jpg
ORGANIZER;CN="Iwanowice LOWE":MAILTO:mswiatek@iwanowice.pl
END:VEVENT
BEGIN:VEVENT
DTSTART;TZID=Europe/Warsaw:20200324T180000
DTEND;TZID=Europe/Warsaw:20200324T190000
DTSTAMP:20260423T053031
CREATED:20200116T075437Z
LAST-MODIFIED:20200323T140350Z
UID:29349-1585072800-1585076400@gckib.iwanowice.pl
SUMMARY:Fitness - Szkoła Podstawowa w Sieciechowicach
DESCRIPTION:Zajęcia odwołane
URL:https://gckib.iwanowice.pl/wydarzenie/fitness-11-2020-03-24/
LOCATION:SP w Sieciechowicach
ATTACH;FMTTYPE=image/jpeg:https://gckib.iwanowice.pl/wp-content/uploads/2020/01/post-07.jpg
ORGANIZER;CN="Iwanowice LOWE":MAILTO:mswiatek@iwanowice.pl
END:VEVENT
BEGIN:VEVENT
DTSTART;TZID=Europe/Warsaw:20200324T200000
DTEND;TZID=Europe/Warsaw:20200324T210000
DTSTAMP:20260423T053031
CREATED:20200116T080045Z
LAST-MODIFIED:20200323T140336Z
UID:29405-1585080000-1585083600@gckib.iwanowice.pl
SUMMARY:Fitness - Świetlica Poskwitów Stary
DESCRIPTION:Zajęcia odwołane
URL:https://gckib.iwanowice.pl/wydarzenie/fitness-29-2020-03-24/
LOCATION:Świetlica Poskwitów Stary
ATTACH;FMTTYPE=image/jpeg:https://gckib.iwanowice.pl/wp-content/uploads/2020/01/post-07.jpg
ORGANIZER;CN="Iwanowice LOWE":MAILTO:mswiatek@iwanowice.pl
END:VEVENT
BEGIN:VEVENT
DTSTART;TZID=Europe/Warsaw:20200325T183000
DTEND;TZID=Europe/Warsaw:20200325T193000
DTSTAMP:20260423T053031
CREATED:20200116T075812Z
LAST-MODIFIED:20200323T140329Z
UID:29376-1585161000-1585164600@gckib.iwanowice.pl
SUMMARY:Fitness - Szkoła Podstawowa w Iwanowicach
DESCRIPTION:Zajęcia odwołane
URL:https://gckib.iwanowice.pl/wydarzenie/fitness-20-2020-03-25/
LOCATION:SP w Iwanowicach
ATTACH;FMTTYPE=image/jpeg:https://gckib.iwanowice.pl/wp-content/uploads/2020/01/post-07.jpg
ORGANIZER;CN="Iwanowice LOWE":MAILTO:mswiatek@iwanowice.pl
END:VEVENT
BEGIN:VEVENT
DTSTART;TZID=Europe/Warsaw:20200326T080000
DTEND;TZID=Europe/Warsaw:20200326T170000
DTSTAMP:20260423T053031
CREATED:20200212T111137Z
LAST-MODIFIED:20200323T140322Z
UID:30031-1585209600-1585242000@gckib.iwanowice.pl
SUMMARY:Gminny Konkurs Wiedzy o Krakowie
DESCRIPTION:Konkurs odwołany. Więcej informacji udziela Szkoła Podstawowa im. J. Bosko w Celinach
URL:https://gckib.iwanowice.pl/wydarzenie/gminny-konkurs-wiedzy-o-krakowie-2/
END:VEVENT
BEGIN:VEVENT
DTSTART;TZID=Europe/Warsaw:20200331T180000
DTEND;TZID=Europe/Warsaw:20200331T190000
DTSTAMP:20260423T053031
CREATED:20200116T075437Z
LAST-MODIFIED:20200323T140301Z
UID:29350-1585677600-1585681200@gckib.iwanowice.pl
SUMMARY:Fitness - Szkoła Podstawowa w Sieciechowicach
DESCRIPTION:Zajęcia odwołane
URL:https://gckib.iwanowice.pl/wydarzenie/fitness-11-2020-03-31/
LOCATION:SP w Sieciechowicach
ATTACH;FMTTYPE=image/jpeg:https://gckib.iwanowice.pl/wp-content/uploads/2020/01/post-07.jpg
ORGANIZER;CN="Iwanowice LOWE":MAILTO:mswiatek@iwanowice.pl
END:VEVENT
END:VCALENDAR