BEGIN:VCALENDAR
VERSION:2.0
PRODID:-//GCKiB - ECPv6.15.20//NONSGML v1.0//EN
CALSCALE:GREGORIAN
METHOD:PUBLISH
X-ORIGINAL-URL:https://gckib.iwanowice.pl
X-WR-CALDESC:Wydarzenia dla GCKiB
REFRESH-INTERVAL;VALUE=DURATION:PT1H
X-Robots-Tag:noindex
X-PUBLISHED-TTL:PT1H
BEGIN:VTIMEZONE
TZID:Europe/Warsaw
BEGIN:DAYLIGHT
TZOFFSETFROM:+0100
TZOFFSETTO:+0200
TZNAME:CEST
DTSTART:20170326T010000
END:DAYLIGHT
BEGIN:STANDARD
TZOFFSETFROM:+0200
TZOFFSETTO:+0100
TZNAME:CET
DTSTART:20171029T010000
END:STANDARD
BEGIN:DAYLIGHT
TZOFFSETFROM:+0100
TZOFFSETTO:+0200
TZNAME:CEST
DTSTART:20180325T010000
END:DAYLIGHT
BEGIN:STANDARD
TZOFFSETFROM:+0200
TZOFFSETTO:+0100
TZNAME:CET
DTSTART:20181028T010000
END:STANDARD
BEGIN:DAYLIGHT
TZOFFSETFROM:+0100
TZOFFSETTO:+0200
TZNAME:CEST
DTSTART:20190331T010000
END:DAYLIGHT
BEGIN:STANDARD
TZOFFSETFROM:+0200
TZOFFSETTO:+0100
TZNAME:CET
DTSTART:20191027T010000
END:STANDARD
END:VTIMEZONE
BEGIN:VEVENT
DTSTART;TZID=Europe/Warsaw:20180818T140000
DTEND;TZID=Europe/Warsaw:20180818T180000
DTSTAMP:20260424T054628
CREATED:20180810T094221Z
LAST-MODIFIED:20180810T095456Z
UID:18123-1534600800-1534615200@gckib.iwanowice.pl
SUMMARY:Piknik "Lato w Zalesiu"
DESCRIPTION:Serdecznie zapraszamy na Piknik „Lato w Zalesiu”\, który odbędzie się 18 sierpnia 2018 r.
URL:https://gckib.iwanowice.pl/wydarzenie/piknik-lato-w-zalesiu/
LOCATION:Zalesie
ATTACH;FMTTYPE=image/jpeg:https://gckib.iwanowice.pl/wp-content/uploads/2018/08/Plakat-Zalesie-poprawiony.jpg
END:VEVENT
BEGIN:VEVENT
DTSTART;TZID=Europe/Warsaw:20180825T160000
DTEND;TZID=Europe/Warsaw:20180825T220000
DTSTAMP:20260424T054628
CREATED:20180817T070251Z
LAST-MODIFIED:20180817T070251Z
UID:18143-1535212800-1535234400@gckib.iwanowice.pl
SUMMARY:Strażackie Zakończenie Lata w Naramie
DESCRIPTION:
URL:https://gckib.iwanowice.pl/wydarzenie/strazackie-zakonczenie-lata-w-naramie/
ATTACH;FMTTYPE=image/png:https://gckib.iwanowice.pl/wp-content/uploads/2018/08/Screenshot_2018-08-16-Strażackie-Zakończenie-Lata-w-Naramie-Serwis-Internetowy-Gminy-Iwanowice.png
END:VEVENT
BEGIN:VEVENT
DTSTART;VALUE=DATE:20180826
DTEND;VALUE=DATE:20180827
DTSTAMP:20260424T054628
CREATED:20180606T104124Z
LAST-MODIFIED:20180706T055754Z
UID:17100-1535241600-1535327999@gckib.iwanowice.pl
SUMMARY:Dożynki Gminne
DESCRIPTION:
URL:https://gckib.iwanowice.pl/wydarzenie/dozynki-gminne/
END:VEVENT
BEGIN:VEVENT
DTSTART;VALUE=DATE:20180901
DTEND;VALUE=DATE:20180902
DTSTAMP:20260424T054628
CREATED:20180606T104354Z
LAST-MODIFIED:20180828T074724Z
UID:17102-1535760000-1535846399@gckib.iwanowice.pl
SUMMARY:95 lat OSP Maszków
DESCRIPTION:
URL:https://gckib.iwanowice.pl/wydarzenie/95-lat-osp-maszkow/
ATTACH;FMTTYPE=image/jpeg:https://gckib.iwanowice.pl/wp-content/uploads/2018/08/Plakat-maszków.jpg
END:VEVENT
BEGIN:VEVENT
DTSTART;TZID=Europe/Warsaw:20180903T080000
DTEND;TZID=Europe/Warsaw:20180903T080000
DTSTAMP:20260424T054628
CREATED:20180518T060506Z
LAST-MODIFIED:20180518T060655Z
UID:16760-1535961600-1535961600@gckib.iwanowice.pl
SUMMARY:Wizyta Kogutka Gutka w Samorządowym Przedszkolu w Iwanowicach
DESCRIPTION:
URL:https://gckib.iwanowice.pl/wydarzenie/wizyta-kogutka-gutka-w-przedszkolu-samorzadowym-w-iwanowicach/
END:VEVENT
BEGIN:VEVENT
DTSTART;TZID=Europe/Warsaw:20180915T101500
DTEND;TZID=Europe/Warsaw:20180915T111500
DTSTAMP:20260424T054628
CREATED:20181001T113521Z
LAST-MODIFIED:20181001T113521Z
UID:19596-1537006500-1537010100@gckib.iwanowice.pl
SUMMARY:Warsztaty z Tańca ludowego
DESCRIPTION:
URL:https://gckib.iwanowice.pl/wydarzenie/warsztaty-z-tanca-ludowego/
LOCATION:Poskwitów Stary
END:VEVENT
BEGIN:VEVENT
DTSTART;TZID=Europe/Warsaw:20180918T160000
DTEND;TZID=Europe/Warsaw:20180918T173000
DTSTAMP:20260424T054628
CREATED:20181001T120354Z
LAST-MODIFIED:20181001T120354Z
UID:19628-1537286400-1537291800@gckib.iwanowice.pl
SUMMARY:Język niemiecki w Poskwitowie Starym
DESCRIPTION:
URL:https://gckib.iwanowice.pl/wydarzenie/jezyk-niemiecki-w-poskwitowie-starym/
END:VEVENT
BEGIN:VEVENT
DTSTART;TZID=Europe/Warsaw:20180924T080000
DTEND;TZID=Europe/Warsaw:20180924T080000
DTSTAMP:20260424T054628
CREATED:20180518T060824Z
LAST-MODIFIED:20180518T060824Z
UID:16764-1537776000-1537776000@gckib.iwanowice.pl
SUMMARY:Wizyta Kogutka Gutka w Samorządowym Przedszkolu oddział w Sieciechowicach
DESCRIPTION:
URL:https://gckib.iwanowice.pl/wydarzenie/wizyta-kogutka-gutka-w-samorzadowym-przedszkolu-oddzial-w-sieciechowicach/
END:VEVENT
BEGIN:VEVENT
DTSTART;TZID=Europe/Warsaw:20180924T183000
DTEND;TZID=Europe/Warsaw:20180924T193000
DTSTAMP:20260424T054628
CREATED:20180926T124924Z
LAST-MODIFIED:20180926T124924Z
UID:19315-1537813800-1537817400@gckib.iwanowice.pl
SUMMARY:ZUMBA
DESCRIPTION:Mała sala 
URL:https://gckib.iwanowice.pl/wydarzenie/zumba-10/
END:VEVENT
BEGIN:VEVENT
DTSTART;TZID=Europe/Warsaw:20180925T090000
DTEND;TZID=Europe/Warsaw:20180925T103000
DTSTAMP:20260424T054628
CREATED:20180920T095841Z
LAST-MODIFIED:20180920T095841Z
UID:19216-1537866000-1537871400@gckib.iwanowice.pl
SUMMARY:Prelekcja historyczna na temat postaci Marszałka Józefa Piłsudskiego
DESCRIPTION:
URL:https://gckib.iwanowice.pl/wydarzenie/prelekcja-historyczna-na-temat-postaci-marszalka-jozefa-pilsudskiego/
ATTACH;FMTTYPE=image/jpeg:https://gckib.iwanowice.pl/wp-content/uploads/2018/09/prelekcje-historyczne.jpg
END:VEVENT
BEGIN:VEVENT
DTSTART;TZID=Europe/Warsaw:20180925T160000
DTEND;TZID=Europe/Warsaw:20180925T180000
DTSTAMP:20260424T054628
CREATED:20180926T131759Z
LAST-MODIFIED:20180926T131759Z
UID:19385-1537891200-1537898400@gckib.iwanowice.pl
SUMMARY:Gminny Zespół Teatralny
DESCRIPTION:
URL:https://gckib.iwanowice.pl/wydarzenie/gminny-zespol-teatralny/
END:VEVENT
BEGIN:VEVENT
DTSTART;TZID=Europe/Warsaw:20180926T183000
DTEND;TZID=Europe/Warsaw:20180926T193000
DTSTAMP:20260424T054628
CREATED:20180926T125437Z
LAST-MODIFIED:20180926T125437Z
UID:19317-1537986600-1537990200@gckib.iwanowice.pl
SUMMARY:ZUMBA
DESCRIPTION:mała sala 
URL:https://gckib.iwanowice.pl/wydarzenie/zumba-11/
END:VEVENT
BEGIN:VEVENT
DTSTART;TZID=Europe/Warsaw:20180927T150000
DTEND;TZID=Europe/Warsaw:20180927T180000
DTSTAMP:20260424T054628
CREATED:20180927T094803Z
LAST-MODIFIED:20180927T100703Z
UID:19462-1538060400-1538071200@gckib.iwanowice.pl
SUMMARY:LOWE Zajęcia rękodzielnicze w Celinach
DESCRIPTION:
URL:https://gckib.iwanowice.pl/wydarzenie/lowe-zajecia-fitness-w-s-p-w-iwanowicach/
END:VEVENT
BEGIN:VEVENT
DTSTART;TZID=Europe/Warsaw:20180927T160000
DTEND;TZID=Europe/Warsaw:20180927T170000
DTSTAMP:20260424T054628
CREATED:20180926T131249Z
LAST-MODIFIED:20181001T122036Z
UID:19356-1538064000-1538067600@gckib.iwanowice.pl
SUMMARY:Zajęcia rękodzielnicze - Tatinka
DESCRIPTION:
URL:https://gckib.iwanowice.pl/wydarzenie/zajecia-rekodzielnicze-tatinka/
END:VEVENT
BEGIN:VEVENT
DTSTART;TZID=Europe/Warsaw:20180930T133000
DTEND;TZID=Europe/Warsaw:20180930T142500
DTSTAMP:20260424T054628
CREATED:20180926T130015Z
LAST-MODIFIED:20181008T071038Z
UID:19343-1538314200-1538317500@gckib.iwanowice.pl
SUMMARY:Iwanowicka Akademia Futbolu
DESCRIPTION:
URL:https://gckib.iwanowice.pl/wydarzenie/iwanowicka-akademia-futbolu-2/
END:VEVENT
BEGIN:VEVENT
DTSTART;TZID=Europe/Warsaw:20181002T170000
DTEND;TZID=Europe/Warsaw:20181002T183000
DTSTAMP:20260424T054628
CREATED:20180927T103605Z
LAST-MODIFIED:20180927T103605Z
UID:19503-1538499600-1538505000@gckib.iwanowice.pl
SUMMARY:LOWE Język angielski (poziom B2 ) S.P. w Iwanowicach
DESCRIPTION:
URL:https://gckib.iwanowice.pl/wydarzenie/lowe-jezyk-angielski-poziom-b2-s-p-w-iwanowicach/
END:VEVENT
BEGIN:VEVENT
DTSTART;TZID=Europe/Warsaw:20181002T184500
DTEND;TZID=Europe/Warsaw:20181002T201500
DTSTAMP:20260424T054628
CREATED:20180927T103740Z
LAST-MODIFIED:20180927T103740Z
UID:19514-1538505900-1538511300@gckib.iwanowice.pl
SUMMARY:LOWE Język angielski (poziom B4 ) S.P. w Iwanowicach
DESCRIPTION:
URL:https://gckib.iwanowice.pl/wydarzenie/lowe-jezyk-angielski-poziom-b4-s-p-w-iwanowicach/
END:VEVENT
BEGIN:VEVENT
DTSTART;TZID=Europe/Warsaw:20181002T200000
DTEND;TZID=Europe/Warsaw:20181002T210000
DTSTAMP:20260424T054628
CREATED:20181001T113813Z
LAST-MODIFIED:20181001T113813Z
UID:19613-1538510400-1538514000@gckib.iwanowice.pl
SUMMARY:Zajęcia fitness w Poskwitowie Starym
DESCRIPTION:
URL:https://gckib.iwanowice.pl/wydarzenie/zajecia-fitness-w-poskwitowie-starym/
END:VEVENT
BEGIN:VEVENT
DTSTART;TZID=Europe/Warsaw:20181003T163000
DTEND;TZID=Europe/Warsaw:20181003T173000
DTSTAMP:20260424T054628
CREATED:20180927T085825Z
LAST-MODIFIED:20180927T090445Z
UID:19410-1538584200-1538587800@gckib.iwanowice.pl
SUMMARY:LOWE Zajęcia fitness w S.P. w Poskwitowie Nowym
DESCRIPTION:
URL:https://gckib.iwanowice.pl/wydarzenie/lowe-zajecia-fitness-poskwitow-nowy/
END:VEVENT
BEGIN:VEVENT
DTSTART;TZID=Europe/Warsaw:20181003T173000
DTEND;TZID=Europe/Warsaw:20181003T183000
DTSTAMP:20260424T054628
CREATED:20180927T090607Z
LAST-MODIFIED:20180927T090607Z
UID:19436-1538587800-1538591400@gckib.iwanowice.pl
SUMMARY:LOWE Zajęcia fitness w S.P. w Widomej
DESCRIPTION:
URL:https://gckib.iwanowice.pl/wydarzenie/lowe-zajecia-fitness-w-s-p-w-widomej/
END:VEVENT
BEGIN:VEVENT
DTSTART;TZID=Europe/Warsaw:20181003T183000
DTEND;TZID=Europe/Warsaw:20181003T193000
DTSTAMP:20260424T054628
CREATED:20180927T090958Z
LAST-MODIFIED:20180927T090958Z
UID:19449-1538591400-1538595000@gckib.iwanowice.pl
SUMMARY:LOWE Zajęcia fitness w S.P. w Sieciechowicach
DESCRIPTION:
URL:https://gckib.iwanowice.pl/wydarzenie/lowe-zajecia-fitness-w-s-p-w-sieciechowicach/
END:VEVENT
BEGIN:VEVENT
DTSTART;TZID=Europe/Warsaw:20181003T193000
DTEND;TZID=Europe/Warsaw:20181003T203000
DTSTAMP:20260424T054628
CREATED:20180927T102207Z
LAST-MODIFIED:20180927T102207Z
UID:19483-1538595000-1538598600@gckib.iwanowice.pl
SUMMARY:LOWE Zajęcia fitness w S.P. w Iwanowicach
DESCRIPTION:
URL:https://gckib.iwanowice.pl/wydarzenie/lowe-zajecia-fitness-w-s-p-w-iwanowicach-2/
END:VEVENT
BEGIN:VEVENT
DTSTART;TZID=Europe/Warsaw:20181006T090000
DTEND;TZID=Europe/Warsaw:20181006T100000
DTSTAMP:20260424T054628
CREATED:20180926T120043Z
LAST-MODIFIED:20180926T120043Z
UID:19268-1538816400-1538820000@gckib.iwanowice.pl
SUMMARY:Iwanowicki Uniwersytet Dziecięcy
DESCRIPTION:
URL:https://gckib.iwanowice.pl/wydarzenie/iwanowicki-uniwersytet-dzieciecy-4/
END:VEVENT
BEGIN:VEVENT
DTSTART;TZID=Europe/Warsaw:20181006T090000
DTEND;TZID=Europe/Warsaw:20181006T100000
DTSTAMP:20260424T054628
CREATED:20180926T121056Z
LAST-MODIFIED:20180926T121056Z
UID:19284-1538816400-1538820000@gckib.iwanowice.pl
SUMMARY:Akademia Rozwoju Rodzica
DESCRIPTION:
URL:https://gckib.iwanowice.pl/wydarzenie/akademia-rozwoju-rodzica/
END:VEVENT
BEGIN:VEVENT
DTSTART;TZID=Europe/Warsaw:20181006T100000
DTEND;TZID=Europe/Warsaw:20181006T120000
DTSTAMP:20260424T054628
CREATED:20180926T123053Z
LAST-MODIFIED:20180926T123053Z
UID:19301-1538820000-1538827200@gckib.iwanowice.pl
SUMMARY:Warsztaty plastyczne
DESCRIPTION:
URL:https://gckib.iwanowice.pl/wydarzenie/warsztaty-plastyczne/
END:VEVENT
BEGIN:VEVENT
DTSTART;TZID=Europe/Warsaw:20181009T111000
DTEND;TZID=Europe/Warsaw:20181009T120000
DTSTAMP:20260424T054628
CREATED:20181009T101022Z
LAST-MODIFIED:20181009T101022Z
UID:19832-1539083400-1539086400@gckib.iwanowice.pl
SUMMARY:Przedszkolak na Uczelni – Iwanowice
DESCRIPTION:Wykład – Ach te gady!
URL:https://gckib.iwanowice.pl/wydarzenie/przedszkolak-na-uczelni-iwanowice-13/
END:VEVENT
BEGIN:VEVENT
DTSTART;TZID=Europe/Warsaw:20181012T160000
DTEND;TZID=Europe/Warsaw:20181012T165000
DTSTAMP:20260424T054628
CREATED:20181008T071522Z
LAST-MODIFIED:20181017T113508Z
UID:19759-1539360000-1539363000@gckib.iwanowice.pl
SUMMARY:Iwanowicka Akademia Futbolu
DESCRIPTION:
URL:https://gckib.iwanowice.pl/wydarzenie/iwanowicka-akademia-futbolu-3/
END:VEVENT
BEGIN:VEVENT
DTSTART;TZID=Europe/Warsaw:20181015T080000
DTEND;TZID=Europe/Warsaw:20181015T080000
DTSTAMP:20260424T054628
CREATED:20180518T060943Z
LAST-MODIFIED:20180518T060943Z
UID:16766-1539590400-1539590400@gckib.iwanowice.pl
SUMMARY:Wizyta Kogutka Gutka w Szkole Podstawowej w Naramie
DESCRIPTION:
URL:https://gckib.iwanowice.pl/wydarzenie/wizyta-kogutka-gutka-w-szkole-podstawowej-w-naramie/
END:VEVENT
BEGIN:VEVENT
DTSTART;TZID=Europe/Warsaw:20181019T090000
DTEND;TZID=Europe/Warsaw:20181019T094500
DTSTAMP:20260424T054628
CREATED:20181009T072006Z
LAST-MODIFIED:20181009T072006Z
UID:19781-1539939600-1539942300@gckib.iwanowice.pl
SUMMARY:Przedszkolak na Uczelni – Sieciechowice
DESCRIPTION:Wykład – Ssaki 
URL:https://gckib.iwanowice.pl/wydarzenie/przedszkolak-na-uczelni-sieciechowice-9/
END:VEVENT
BEGIN:VEVENT
DTSTART;TZID=Europe/Warsaw:20181019T100500
DTEND;TZID=Europe/Warsaw:20181019T105000
DTSTAMP:20260424T054628
CREATED:20181009T072108Z
LAST-MODIFIED:20181009T072108Z
UID:19783-1539943500-1539946200@gckib.iwanowice.pl
SUMMARY:Przedszkolak na Uczelni – Celiny
DESCRIPTION:Wykład – Ssaki 
URL:https://gckib.iwanowice.pl/wydarzenie/przedszkolak-na-uczelni-celiny/
END:VEVENT
END:VCALENDAR