BEGIN:VCALENDAR
VERSION:2.0
PRODID:-//GCKiB - ECPv6.15.20//NONSGML v1.0//EN
CALSCALE:GREGORIAN
METHOD:PUBLISH
X-ORIGINAL-URL:https://gckib.iwanowice.pl
X-WR-CALDESC:Wydarzenia dla GCKiB
REFRESH-INTERVAL;VALUE=DURATION:PT1H
X-Robots-Tag:noindex
X-PUBLISHED-TTL:PT1H
BEGIN:VTIMEZONE
TZID:Europe/Warsaw
BEGIN:DAYLIGHT
TZOFFSETFROM:+0100
TZOFFSETTO:+0200
TZNAME:CEST
DTSTART:20170326T010000
END:DAYLIGHT
BEGIN:STANDARD
TZOFFSETFROM:+0200
TZOFFSETTO:+0100
TZNAME:CET
DTSTART:20171029T010000
END:STANDARD
BEGIN:DAYLIGHT
TZOFFSETFROM:+0100
TZOFFSETTO:+0200
TZNAME:CEST
DTSTART:20180325T010000
END:DAYLIGHT
BEGIN:STANDARD
TZOFFSETFROM:+0200
TZOFFSETTO:+0100
TZNAME:CET
DTSTART:20181028T010000
END:STANDARD
BEGIN:DAYLIGHT
TZOFFSETFROM:+0100
TZOFFSETTO:+0200
TZNAME:CEST
DTSTART:20190331T010000
END:DAYLIGHT
BEGIN:STANDARD
TZOFFSETFROM:+0200
TZOFFSETTO:+0100
TZNAME:CET
DTSTART:20191027T010000
END:STANDARD
END:VTIMEZONE
BEGIN:VEVENT
DTSTART;TZID=Europe/Warsaw:20180303T090000
DTEND;TZID=Europe/Warsaw:20180303T100000
DTSTAMP:20260424T165549
CREATED:20171016T080913Z
LAST-MODIFIED:20171016T080913Z
UID:12566-1520067600-1520071200@gckib.iwanowice.pl
SUMMARY:Iwanowicki Uniwersytet Dziecięcy
DESCRIPTION:Wykład – ” Po sąsiedzku z tęczą\, czyli o podczerwieni i ultrafiolecie” 
URL:https://gckib.iwanowice.pl/wydarzenie/iwanowicki-uniwersytet-dzieciecy-6/
ATTACH;FMTTYPE=image/jpeg:https://gckib.iwanowice.pl/wp-content/uploads/2017/10/iwanownicki.jpg
END:VEVENT
BEGIN:VEVENT
DTSTART;VALUE=DATE:20180304
DTEND;VALUE=DATE:20180305
DTSTAMP:20260424T165549
CREATED:20180118T081844Z
LAST-MODIFIED:20180118T081844Z
UID:14569-1520121600-1520207999@gckib.iwanowice.pl
SUMMARY:III Dzień Pamięci Żołnierzy Wyklętych w Naramie
DESCRIPTION:
URL:https://gckib.iwanowice.pl/wydarzenie/iii-dzien-pamieci-zolnierzy-wykletych-w-naramie/
ATTACH;FMTTYPE=image/jpeg:https://gckib.iwanowice.pl/wp-content/uploads/2018/01/Baner-Dzień-Żołnierzy-wyklętych.jpg
END:VEVENT
BEGIN:VEVENT
DTSTART;TZID=Europe/Warsaw:20180305T180000
DTEND;TZID=Europe/Warsaw:20180305T190000
DTSTAMP:20260424T165549
CREATED:20180301T085058Z
LAST-MODIFIED:20180301T085440Z
UID:14853-1520272800-1520276400@gckib.iwanowice.pl
SUMMARY:ZUMBA - bezpłatne zajęcia pokazowe
DESCRIPTION:ZUMBA – bezpłatne zajęcia pokazowe. Prowadzi Magdalena Dziadzio.
URL:https://gckib.iwanowice.pl/wydarzenie/14853/
END:VEVENT
BEGIN:VEVENT
DTSTART;TZID=Europe/Warsaw:20180319T080000
DTEND;TZID=Europe/Warsaw:20180319T080000
DTSTAMP:20260424T165549
CREATED:20180518T055518Z
LAST-MODIFIED:20180518T055518Z
UID:16754-1521446400-1521446400@gckib.iwanowice.pl
SUMMARY:Wizyta Kogutka Gutka w Szkole Podstawowej w Widomej
DESCRIPTION:
URL:https://gckib.iwanowice.pl/wydarzenie/wizyta-kogutka-gutka-w-szkole-podstawowej-w-widomej/
END:VEVENT
BEGIN:VEVENT
DTSTART;VALUE=DATE:20180320
DTEND;VALUE=DATE:20180321
DTSTAMP:20260424T165549
CREATED:20180301T091936Z
LAST-MODIFIED:20180301T091936Z
UID:14972-1521504000-1521590399@gckib.iwanowice.pl
SUMMARY:XIV Gminny Konkurs Wiedzy o Krakowie dla klas IV-VI
DESCRIPTION:
URL:https://gckib.iwanowice.pl/wydarzenie/xiv-gminny-konkurs-wiedzy-o-krakowie-dla-klas-iv-vi/
END:VEVENT
BEGIN:VEVENT
DTSTART;TZID=Europe/Warsaw:20180320T174500
DTEND;TZID=Europe/Warsaw:20180320T183000
DTSTAMP:20260424T165549
CREATED:20180111T125023Z
LAST-MODIFIED:20180316T102942Z
UID:14321-1521567900-1521570600@gckib.iwanowice.pl
SUMMARY:Trening IAF – Iwanowice Akademia
DESCRIPTION:17.45 – 18.30 Orlik
URL:https://gckib.iwanowice.pl/wydarzenie/trening-iaf-iwanowice-akademia-39/
ATTACH;FMTTYPE=image/png:https://gckib.iwanowice.pl/wp-content/uploads/2018/01/Logotyp-01.png
END:VEVENT
BEGIN:VEVENT
DTSTART;VALUE=DATE:20180323
DTEND;VALUE=DATE:20180324
DTSTAMP:20260424T165549
CREATED:20180301T093446Z
LAST-MODIFIED:20180301T093446Z
UID:14986-1521763200-1521849599@gckib.iwanowice.pl
SUMMARY:XII Gminny Konkurs na Tradycyjną Palmę Wielkanocną
DESCRIPTION:
URL:https://gckib.iwanowice.pl/wydarzenie/xii-gminny-konkurs-na-tradycyjna-palme-wielkanocna/
END:VEVENT
BEGIN:VEVENT
DTSTART;TZID=Europe/Warsaw:20180323T090000
DTEND;TZID=Europe/Warsaw:20180323T100000
DTSTAMP:20260424T165549
CREATED:20171218T134800Z
LAST-MODIFIED:20171218T134800Z
UID:14044-1521795600-1521799200@gckib.iwanowice.pl
SUMMARY:Przedszkolak na Uczelni – Widoma
DESCRIPTION:Wykład – Jak żyli rycerze?
URL:https://gckib.iwanowice.pl/wydarzenie/przedszkolak-na-uczelni-widoma-5/
ATTACH;FMTTYPE=image/jpeg:https://gckib.iwanowice.pl/wp-content/uploads/2017/12/iwanownicki-1329-x-443.jpg
END:VEVENT
BEGIN:VEVENT
DTSTART;TZID=Europe/Warsaw:20180323T101500
DTEND;TZID=Europe/Warsaw:20180323T111500
DTSTAMP:20260424T165549
CREATED:20171218T140811Z
LAST-MODIFIED:20171218T141011Z
UID:14059-1521800100-1521803700@gckib.iwanowice.pl
SUMMARY:Przedszkolak na Uczelni – Iwanowice
DESCRIPTION:Wykład – Jak żyli rycerze?
URL:https://gckib.iwanowice.pl/wydarzenie/przedszkolak-na-uczelni-iwanowice-4/
ATTACH;FMTTYPE=image/jpeg:https://gckib.iwanowice.pl/wp-content/uploads/2017/12/iwanownicki-1329-x-443.jpg
END:VEVENT
BEGIN:VEVENT
DTSTART;TZID=Europe/Warsaw:20180323T113000
DTEND;TZID=Europe/Warsaw:20180323T123000
DTSTAMP:20260424T165549
CREATED:20171218T142859Z
LAST-MODIFIED:20171218T142859Z
UID:14072-1521804600-1521808200@gckib.iwanowice.pl
SUMMARY:Przedszkolak na Uczelni – Sieciechowice
DESCRIPTION:Wykład – Jak żyli rycerze?
URL:https://gckib.iwanowice.pl/wydarzenie/przedszkolak-na-uczelni-sieciechowice-5/
ATTACH;FMTTYPE=image/jpeg:https://gckib.iwanowice.pl/wp-content/uploads/2017/12/iwanownicki-1329-x-443.jpg
END:VEVENT
BEGIN:VEVENT
DTSTART;TZID=Europe/Warsaw:20180326T180000
DTEND;TZID=Europe/Warsaw:20180326T190000
DTSTAMP:20260424T165549
CREATED:20180323T104327Z
LAST-MODIFIED:20180323T104327Z
UID:15319-1522087200-1522090800@gckib.iwanowice.pl
SUMMARY:ZUMBA
DESCRIPTION:ZUMBA – Szkoła Podstawowa w Iwanowicach (sala gimnastyczna)
URL:https://gckib.iwanowice.pl/wydarzenie/zumba/
END:VEVENT
BEGIN:VEVENT
DTSTART;VALUE=DATE:20180407
DTEND;VALUE=DATE:20180408
DTSTAMP:20260424T165549
CREATED:20180301T092926Z
LAST-MODIFIED:20180301T092926Z
UID:14982-1523059200-1523145599@gckib.iwanowice.pl
SUMMARY:XV Gminny Konkurs Recytacji "Teatr Jednego Aktora"
DESCRIPTION:
URL:https://gckib.iwanowice.pl/wydarzenie/xv-gminny-konkurs-recytacji-teatr-jednego-aktora/
END:VEVENT
BEGIN:VEVENT
DTSTART;TZID=Europe/Warsaw:20180409T180000
DTEND;TZID=Europe/Warsaw:20180409T190000
DTSTAMP:20260424T165549
CREATED:20180323T104710Z
LAST-MODIFIED:20180323T104710Z
UID:15321-1523296800-1523300400@gckib.iwanowice.pl
SUMMARY:ZUMBA
DESCRIPTION:ZUMBA – Szkoła Podstawowa w Iwanowicach (sala gimnastyczna)
URL:https://gckib.iwanowice.pl/wydarzenie/zumba-2/
END:VEVENT
BEGIN:VEVENT
DTSTART;VALUE=DATE:20180410
DTEND;VALUE=DATE:20180411
DTSTAMP:20260424T165549
CREATED:20180301T092115Z
LAST-MODIFIED:20180301T092115Z
UID:14974-1523318400-1523404799@gckib.iwanowice.pl
SUMMARY:Powiatowy Konkurs Języka Angielskiego dla klas III "Best in English"
DESCRIPTION:
URL:https://gckib.iwanowice.pl/wydarzenie/powiatowy-konkurs-jezyka-angielskiego-dla-klas-iii-best-in-english/
END:VEVENT
BEGIN:VEVENT
DTSTART;TZID=Europe/Warsaw:20180414T090000
DTEND;TZID=Europe/Warsaw:20180414T100000
DTSTAMP:20260424T165549
CREATED:20171016T082348Z
LAST-MODIFIED:20171016T082348Z
UID:12568-1523696400-1523700000@gckib.iwanowice.pl
SUMMARY:Iwanowicki Uniwersytet Dziecięcy
DESCRIPTION:Wykład – ” Żyć i przeżyć – ROŚLINY” 
URL:https://gckib.iwanowice.pl/wydarzenie/iwanowicki-uniwersytet-dzieciecy-7/
ATTACH;FMTTYPE=image/jpeg:https://gckib.iwanowice.pl/wp-content/uploads/2017/10/iwanownicki.jpg
END:VEVENT
BEGIN:VEVENT
DTSTART;VALUE=DATE:20180423
DTEND;VALUE=DATE:20180424
DTSTAMP:20260424T165549
CREATED:20180301T143247Z
LAST-MODIFIED:20180326T094518Z
UID:14988-1524441600-1524527999@gckib.iwanowice.pl
SUMMARY:Konkurs "Mały Wielki Matematyk"
DESCRIPTION:
URL:https://gckib.iwanowice.pl/wydarzenie/konkurs-maly-wielki-matematyk/
LOCATION:Widoma
END:VEVENT
BEGIN:VEVENT
DTSTART;TZID=Europe/Warsaw:20180423T080000
DTEND;TZID=Europe/Warsaw:20180423T170000
DTSTAMP:20260424T165549
CREATED:20180518T054852Z
LAST-MODIFIED:20180518T054852Z
UID:16752-1524470400-1524502800@gckib.iwanowice.pl
SUMMARY:Wizyta Kogutka Gutka w Szkole Podstawowej w Celinach
DESCRIPTION:
URL:https://gckib.iwanowice.pl/wydarzenie/wizyta-kogutka-gutka-w-szkole-podstawowej-w-celinach/
END:VEVENT
BEGIN:VEVENT
DTSTART;TZID=Europe/Warsaw:20180427T090000
DTEND;TZID=Europe/Warsaw:20180427T100000
DTSTAMP:20260424T165549
CREATED:20171218T134920Z
LAST-MODIFIED:20171218T134920Z
UID:14047-1524819600-1524823200@gckib.iwanowice.pl
SUMMARY:Przedszkolak na Uczelni – Widoma
DESCRIPTION:Wykład – Niech zabrzmi MUZYKA!
URL:https://gckib.iwanowice.pl/wydarzenie/przedszkolak-na-uczelni-widoma-6/
ATTACH;FMTTYPE=image/jpeg:https://gckib.iwanowice.pl/wp-content/uploads/2017/12/iwanownicki-1329-x-443.jpg
END:VEVENT
BEGIN:VEVENT
DTSTART;TZID=Europe/Warsaw:20180427T101500
DTEND;TZID=Europe/Warsaw:20180427T111500
DTSTAMP:20260424T165549
CREATED:20171218T141128Z
LAST-MODIFIED:20171218T141128Z
UID:14061-1524824100-1524827700@gckib.iwanowice.pl
SUMMARY:Przedszkolak na Uczelni – Iwanowice
DESCRIPTION:Wykład – Niech zabrzmi MUZYKA!
URL:https://gckib.iwanowice.pl/wydarzenie/przedszkolak-na-uczelni-iwanowice-5/
ATTACH;FMTTYPE=image/jpeg:https://gckib.iwanowice.pl/wp-content/uploads/2017/12/iwanownicki-1329-x-443.jpg
END:VEVENT
BEGIN:VEVENT
DTSTART;TZID=Europe/Warsaw:20180427T113000
DTEND;TZID=Europe/Warsaw:20180427T123000
DTSTAMP:20260424T165549
CREATED:20171218T143058Z
LAST-MODIFIED:20171218T143058Z
UID:14074-1524828600-1524832200@gckib.iwanowice.pl
SUMMARY:Przedszkolak na Uczelni – Sieciechowice
DESCRIPTION:Wykład – Niech zabrzmi MUZYKA!
URL:https://gckib.iwanowice.pl/wydarzenie/przedszkolak-na-uczelni-sieciechowice-6/
ATTACH;FMTTYPE=image/jpeg:https://gckib.iwanowice.pl/wp-content/uploads/2017/12/iwanownicki-1329-x-443.jpg
END:VEVENT
BEGIN:VEVENT
DTSTART;TZID=Europe/Warsaw:20180506T080000
DTEND;TZID=Europe/Warsaw:20180506T170000
DTSTAMP:20260424T165549
CREATED:20180301T092828Z
LAST-MODIFIED:20180301T092828Z
UID:14980-1525593600-1525626000@gckib.iwanowice.pl
SUMMARY:NOViSTÓWKA NASZA MAJÓWKA
DESCRIPTION:
URL:https://gckib.iwanowice.pl/wydarzenie/novistowka-nasza-majowka/
LOCATION:Narama
END:VEVENT
BEGIN:VEVENT
DTSTART;VALUE=DATE:20180509
DTEND;VALUE=DATE:20180510
DTSTAMP:20260424T165549
CREATED:20180301T091705Z
LAST-MODIFIED:20180301T091705Z
UID:14968-1525824000-1525910399@gckib.iwanowice.pl
SUMMARY:Gminny konkurs ortograficzny dla klas IV-VI "Mistrz ortografii"
DESCRIPTION:
URL:https://gckib.iwanowice.pl/wydarzenie/gminny-konkurs-ortograficzny-dla-klas-iv-vi-mistrz-ortografii-2/
END:VEVENT
BEGIN:VEVENT
DTSTART;VALUE=DATE:20180516
DTEND;VALUE=DATE:20180517
DTSTAMP:20260424T165549
CREATED:20180301T092704Z
LAST-MODIFIED:20180301T092704Z
UID:14978-1526428800-1526515199@gckib.iwanowice.pl
SUMMARY:XI Gminna Olimpiada Języka Angielskiego\, VII Gminny Konkurs na Kaligram w Języku Angielskim i Niemieckim
DESCRIPTION:
URL:https://gckib.iwanowice.pl/wydarzenie/xi-gminna-olimpiada-jezyka-angielskiego-vii-gminny-konkurs-na-kaligram-w-jezyku-angielskim-i-niemieckim/
END:VEVENT
BEGIN:VEVENT
DTSTART;TZID=Europe/Warsaw:20180518T180000
DTEND;TZID=Europe/Warsaw:20180518T190000
DTSTAMP:20260424T165549
CREATED:20180518T061251Z
LAST-MODIFIED:20180518T061251Z
UID:16768-1526666400-1526670000@gckib.iwanowice.pl
SUMMARY:Zumba
DESCRIPTION:Szkoła Podstawowa w Iwanowicach(sala gimnastyczna)
URL:https://gckib.iwanowice.pl/wydarzenie/zumba-3/
END:VEVENT
BEGIN:VEVENT
DTSTART;TZID=Europe/Warsaw:20180521T080000
DTEND;TZID=Europe/Warsaw:20180521T080000
DTSTAMP:20260424T165549
CREATED:20180518T060343Z
LAST-MODIFIED:20180518T060343Z
UID:16758-1526889600-1526889600@gckib.iwanowice.pl
SUMMARY:Wizyta Kogutka Gutka w Szkole Podstawowej w Poskwitowie
DESCRIPTION:
URL:https://gckib.iwanowice.pl/wydarzenie/wizyta-kogutka-gutka-w-szkole-podstawowej-w-poskwitowie/
END:VEVENT
BEGIN:VEVENT
DTSTART;TZID=Europe/Warsaw:20180525T090000
DTEND;TZID=Europe/Warsaw:20180525T100000
DTSTAMP:20260424T165549
CREATED:20171218T135717Z
LAST-MODIFIED:20171218T135717Z
UID:14049-1527238800-1527242400@gckib.iwanowice.pl
SUMMARY:Przedszkolak na Uczelni – Widoma
DESCRIPTION:Wykład – Wszystko o gumie do żucia.
URL:https://gckib.iwanowice.pl/wydarzenie/przedszkolak-na-uczelni-widoma-7/
ATTACH;FMTTYPE=image/jpeg:https://gckib.iwanowice.pl/wp-content/uploads/2017/12/iwanownicki-1329-x-443.jpg
END:VEVENT
BEGIN:VEVENT
DTSTART;TZID=Europe/Warsaw:20180525T101500
DTEND;TZID=Europe/Warsaw:20180525T111500
DTSTAMP:20260424T165549
CREATED:20171218T141242Z
LAST-MODIFIED:20171218T141242Z
UID:14063-1527243300-1527246900@gckib.iwanowice.pl
SUMMARY:Przedszkolak na Uczelni – Iwanowice
DESCRIPTION:Wykład – Wszystko o gumie do żucia.
URL:https://gckib.iwanowice.pl/wydarzenie/przedszkolak-na-uczelni-iwanowice-6/
ATTACH;FMTTYPE=image/jpeg:https://gckib.iwanowice.pl/wp-content/uploads/2017/12/iwanownicki-1329-x-443.jpg
END:VEVENT
BEGIN:VEVENT
DTSTART;TZID=Europe/Warsaw:20180525T113000
DTEND;TZID=Europe/Warsaw:20180525T123000
DTSTAMP:20260424T165549
CREATED:20171218T143309Z
LAST-MODIFIED:20171218T143309Z
UID:14076-1527247800-1527251400@gckib.iwanowice.pl
SUMMARY:Przedszkolak na Uczelni – Sieciechowice
DESCRIPTION:Wykład – Wszystko o gumie do żucia.
URL:https://gckib.iwanowice.pl/wydarzenie/przedszkolak-na-uczelni-sieciechowice-7/
ATTACH;FMTTYPE=image/jpeg:https://gckib.iwanowice.pl/wp-content/uploads/2017/12/iwanownicki-1329-x-443.jpg
END:VEVENT
BEGIN:VEVENT
DTSTART;TZID=Europe/Warsaw:20180525T180000
DTEND;TZID=Europe/Warsaw:20180525T190000
DTSTAMP:20260424T165549
CREATED:20180518T061529Z
LAST-MODIFIED:20180518T061702Z
UID:16770-1527271200-1527274800@gckib.iwanowice.pl
SUMMARY:ZUMBA
DESCRIPTION:ZUMBA – Szkoła Podstawowa w Iwanowicach (sala gimnastyczna)
URL:https://gckib.iwanowice.pl/wydarzenie/zumba-4/
END:VEVENT
BEGIN:VEVENT
DTSTART;TZID=Europe/Warsaw:20180526T090000
DTEND;TZID=Europe/Warsaw:20180526T100000
DTSTAMP:20260424T165549
CREATED:20171016T082730Z
LAST-MODIFIED:20171016T082730Z
UID:12570-1527325200-1527328800@gckib.iwanowice.pl
SUMMARY:Iwanowicki Uniwersytet Dziecięcy
DESCRIPTION:Wykład – „Słodka prawda o czekoladzie” 
URL:https://gckib.iwanowice.pl/wydarzenie/iwanowicki-uniwersytet-dzieciecy-8/
ATTACH;FMTTYPE=image/jpeg:https://gckib.iwanowice.pl/wp-content/uploads/2017/10/iwanownicki.jpg
END:VEVENT
END:VCALENDAR