BEGIN:VCALENDAR
VERSION:2.0
PRODID:-//GCKiB - ECPv6.15.20//NONSGML v1.0//EN
CALSCALE:GREGORIAN
METHOD:PUBLISH
X-ORIGINAL-URL:https://gckib.iwanowice.pl
X-WR-CALDESC:Wydarzenia dla GCKiB
REFRESH-INTERVAL;VALUE=DURATION:PT1H
X-Robots-Tag:noindex
X-PUBLISHED-TTL:PT1H
BEGIN:VTIMEZONE
TZID:Europe/Warsaw
BEGIN:DAYLIGHT
TZOFFSETFROM:+0100
TZOFFSETTO:+0200
TZNAME:CEST
DTSTART:20160327T010000
END:DAYLIGHT
BEGIN:STANDARD
TZOFFSETFROM:+0200
TZOFFSETTO:+0100
TZNAME:CET
DTSTART:20161030T010000
END:STANDARD
BEGIN:DAYLIGHT
TZOFFSETFROM:+0100
TZOFFSETTO:+0200
TZNAME:CEST
DTSTART:20170326T010000
END:DAYLIGHT
BEGIN:STANDARD
TZOFFSETFROM:+0200
TZOFFSETTO:+0100
TZNAME:CET
DTSTART:20171029T010000
END:STANDARD
BEGIN:DAYLIGHT
TZOFFSETFROM:+0100
TZOFFSETTO:+0200
TZNAME:CEST
DTSTART:20180325T010000
END:DAYLIGHT
BEGIN:STANDARD
TZOFFSETFROM:+0200
TZOFFSETTO:+0100
TZNAME:CET
DTSTART:20181028T010000
END:STANDARD
END:VTIMEZONE
BEGIN:VEVENT
DTSTART;TZID=Europe/Warsaw:20171102T150000
DTEND;TZID=Europe/Warsaw:20171102T170000
DTSTAMP:20260424T233330
CREATED:20170928T114734Z
LAST-MODIFIED:20170928T114734Z
UID:12273-1509634800-1509642000@gckib.iwanowice.pl
SUMMARY:Trening IAF – SP Narama
DESCRIPTION:15.00-16.00 Klasa I-III\n16.00-17.00 Klasa IV-VI
URL:https://gckib.iwanowice.pl/wydarzenie/trening-iaf-sp-narama-11/
ATTACH;FMTTYPE=image/png:https://gckib.iwanowice.pl/wp-content/uploads/2017/09/Logotyp-01-1.png
END:VEVENT
BEGIN:VEVENT
DTSTART;TZID=Europe/Warsaw:20171103T134000
DTEND;TZID=Europe/Warsaw:20171103T154000
DTSTAMP:20260424T233330
CREATED:20170928T140235Z
LAST-MODIFIED:20170928T140235Z
UID:12325-1509716400-1509723600@gckib.iwanowice.pl
SUMMARY:Trening IAF – SP Widoma
DESCRIPTION:13.40 – 14.40 Klasy I-III\n14.40 – 15.40 Klasy IV-VI
URL:https://gckib.iwanowice.pl/wydarzenie/trening-iaf-sp-widoma-10/
ATTACH;FMTTYPE=image/png:https://gckib.iwanowice.pl/wp-content/uploads/2017/09/Logotyp-01-1.png
END:VEVENT
BEGIN:VEVENT
DTSTART;TZID=Europe/Warsaw:20171103T163000
DTEND;TZID=Europe/Warsaw:20171103T174500
DTSTAMP:20260424T233330
CREATED:20170928T084018Z
LAST-MODIFIED:20170928T084018Z
UID:12212-1509726600-1509731100@gckib.iwanowice.pl
SUMMARY:Trening IAF – Iwanowice Akademia
DESCRIPTION:16.30-17.45 Orlik 
URL:https://gckib.iwanowice.pl/wydarzenie/trening-iaf-iwanowice-akademia-23/
ATTACH;FMTTYPE=image/png:https://gckib.iwanowice.pl/wp-content/uploads/2017/09/Logotyp-01-1.png
END:VEVENT
BEGIN:VEVENT
DTSTART;TZID=Europe/Warsaw:20171104T090000
DTEND;TZID=Europe/Warsaw:20171104T100000
DTSTAMP:20260424T233330
CREATED:20171016T075145Z
LAST-MODIFIED:20171016T075145Z
UID:12558-1509786000-1509789600@gckib.iwanowice.pl
SUMMARY:Iwanowicki Uniwersytet Dziecięcy
DESCRIPTION:Wykład – ” Niech zabrzmi muzyka”
URL:https://gckib.iwanowice.pl/wydarzenie/iwanowicki-uniwersytet-dzieciecy-2/
ATTACH;FMTTYPE=image/jpeg:https://gckib.iwanowice.pl/wp-content/uploads/2017/10/iwanownicki.jpg
END:VEVENT
BEGIN:VEVENT
DTSTART;TZID=Europe/Warsaw:20171107T125500
DTEND;TZID=Europe/Warsaw:20171107T143500
DTSTAMP:20260424T233330
CREATED:20171018T060830Z
LAST-MODIFIED:20171026T122713Z
UID:12589-1510059300-1510065300@gckib.iwanowice.pl
SUMMARY:Trening IAF - SP Celiny
DESCRIPTION:Oddział przedszkolnego i klasy II w godzinach 12.55 – 13.40\nUczniowie z klas III-IV w godzinach 13.40 – 14.35
URL:https://gckib.iwanowice.pl/wydarzenie/trening-iaf-sp-celiny-3/
ATTACH;FMTTYPE=image/png:https://gckib.iwanowice.pl/wp-content/uploads/2017/09/Logotyp-01-1.png
END:VEVENT
BEGIN:VEVENT
DTSTART;TZID=Europe/Warsaw:20171107T150000
DTEND;TZID=Europe/Warsaw:20171107T170000
DTSTAMP:20260424T233330
CREATED:20170928T114948Z
LAST-MODIFIED:20170928T114948Z
UID:12275-1510066800-1510074000@gckib.iwanowice.pl
SUMMARY:Trening IAF – SP Narama
DESCRIPTION:15.00-16.00 Klasa I-III\n16.00-17.00 Klasa IV-VI
URL:https://gckib.iwanowice.pl/wydarzenie/trening-iaf-sp-narama-12/
ATTACH;FMTTYPE=image/png:https://gckib.iwanowice.pl/wp-content/uploads/2017/09/Logotyp-01-1.png
END:VEVENT
BEGIN:VEVENT
DTSTART;TZID=Europe/Warsaw:20171107T160000
DTEND;TZID=Europe/Warsaw:20171107T180000
DTSTAMP:20260424T233330
CREATED:20171107T091659Z
LAST-MODIFIED:20171107T091659Z
UID:12902-1510070400-1510077600@gckib.iwanowice.pl
SUMMARY:Spotkanie Gminnego Zespołu Teatralnego
DESCRIPTION:
URL:https://gckib.iwanowice.pl/wydarzenie/spotkanie-gminnego-zespolu-teatralnego/
END:VEVENT
BEGIN:VEVENT
DTSTART;TZID=Europe/Warsaw:20171108T134000
DTEND;TZID=Europe/Warsaw:20171108T154000
DTSTAMP:20260424T233330
CREATED:20170928T140515Z
LAST-MODIFIED:20170928T140515Z
UID:12327-1510148400-1510155600@gckib.iwanowice.pl
SUMMARY:Trening IAF – SP Widoma
DESCRIPTION:13.40 – 14.40 Klasy I-III\n14.40 – 15.40 Klasy IV-VI
URL:https://gckib.iwanowice.pl/wydarzenie/trening-iaf-sp-widoma-9/
ATTACH;FMTTYPE=image/png:https://gckib.iwanowice.pl/wp-content/uploads/2017/09/Logotyp-01-1.png
END:VEVENT
BEGIN:VEVENT
DTSTART;TZID=Europe/Warsaw:20171108T163000
DTEND;TZID=Europe/Warsaw:20171108T174500
DTSTAMP:20260424T233330
CREATED:20170928T084359Z
LAST-MODIFIED:20170928T084359Z
UID:12214-1510158600-1510163100@gckib.iwanowice.pl
SUMMARY:Trening IAF – Iwanowice Akademia
DESCRIPTION:16.30-17.45 Orlik 
URL:https://gckib.iwanowice.pl/wydarzenie/trening-iaf-iwanowice-akademia-24/
ATTACH;FMTTYPE=image/png:https://gckib.iwanowice.pl/wp-content/uploads/2017/09/Logotyp-01-1.png
END:VEVENT
BEGIN:VEVENT
DTSTART;TZID=Europe/Warsaw:20171109T090000
DTEND;TZID=Europe/Warsaw:20171109T100000
DTSTAMP:20260424T233330
CREATED:20171107T082858Z
LAST-MODIFIED:20171107T082858Z
UID:12881-1510218000-1510221600@gckib.iwanowice.pl
SUMMARY:Przedszkolak na uczelni – Inauguracja Roku Akademickiego - Widoma
DESCRIPTION:Temat wykładu: Od suchego lodu do ciekłego azotu – mrożące eksperymenty
URL:https://gckib.iwanowice.pl/wydarzenie/przedszkolak-na-uczelni-inauguracja-roku-akademickiego-widoma/
LOCATION:Widoma
ATTACH;FMTTYPE=image/jpeg:https://gckib.iwanowice.pl/wp-content/uploads/2017/10/przedszkolak_logo.jpg
END:VEVENT
BEGIN:VEVENT
DTSTART;TZID=Europe/Warsaw:20171109T101500
DTEND;TZID=Europe/Warsaw:20171109T111500
DTSTAMP:20260424T233330
CREATED:20171107T083024Z
LAST-MODIFIED:20171107T083024Z
UID:12884-1510222500-1510226100@gckib.iwanowice.pl
SUMMARY:Przedszkolak na uczelni – Inauguracja Roku Akademickiego – Iwanowice
DESCRIPTION:Temat wykładu: Od suchego lodu do ciekłego azotu – mrożące eksperymenty
URL:https://gckib.iwanowice.pl/wydarzenie/przedszkolak-na-uczelni-inauguracja-roku-akademickiego-iwanowice/
ATTACH;FMTTYPE=image/jpeg:https://gckib.iwanowice.pl/wp-content/uploads/2017/10/przedszkolak_logo.jpg
END:VEVENT
BEGIN:VEVENT
DTSTART;TZID=Europe/Warsaw:20171109T113000
DTEND;TZID=Europe/Warsaw:20171109T123000
DTSTAMP:20260424T233330
CREATED:20171107T083150Z
LAST-MODIFIED:20171107T083150Z
UID:12886-1510227000-1510230600@gckib.iwanowice.pl
SUMMARY:Przedszkolak na uczelni – Inauguracja Roku Akademickiego – Sieciechowice
DESCRIPTION:Temat wykładu: Od suchego lodu do ciekłego azotu – mrożące eksperymenty
URL:https://gckib.iwanowice.pl/wydarzenie/przedszkolak-na-uczelni-inauguracja-roku-akademickiego-sieciechowice/
ATTACH;FMTTYPE=image/jpeg:https://gckib.iwanowice.pl/wp-content/uploads/2017/10/przedszkolak_logo.jpg
END:VEVENT
BEGIN:VEVENT
DTSTART;TZID=Europe/Warsaw:20171109T150000
DTEND;TZID=Europe/Warsaw:20171109T170000
DTSTAMP:20260424T233330
CREATED:20170928T115053Z
LAST-MODIFIED:20170928T115053Z
UID:12277-1510239600-1510246800@gckib.iwanowice.pl
SUMMARY:Trening IAF – SP Narama
DESCRIPTION:15.00-16.00 Klasa I-III\n16.00-17.00 Klasa IV-VI
URL:https://gckib.iwanowice.pl/wydarzenie/trening-iaf-sp-narama-13/
ATTACH;FMTTYPE=image/png:https://gckib.iwanowice.pl/wp-content/uploads/2017/09/Logotyp-01-1.png
END:VEVENT
BEGIN:VEVENT
DTSTART;TZID=Europe/Warsaw:20171110T134000
DTEND;TZID=Europe/Warsaw:20171110T154000
DTSTAMP:20260424T233330
CREATED:20170928T140703Z
LAST-MODIFIED:20170928T140703Z
UID:12329-1510321200-1510328400@gckib.iwanowice.pl
SUMMARY:Trening IAF – SP Widoma
DESCRIPTION:13.40 – 14.40 Klasy I-III\n14.40 – 15.40 Klasy IV-VI
URL:https://gckib.iwanowice.pl/wydarzenie/trening-iaf-sp-widoma-11/
LOCATION:Widoma
ATTACH;FMTTYPE=image/png:https://gckib.iwanowice.pl/wp-content/uploads/2017/09/Logotyp-01-1.png
END:VEVENT
BEGIN:VEVENT
DTSTART;TZID=Europe/Warsaw:20171110T163000
DTEND;TZID=Europe/Warsaw:20171110T174500
DTSTAMP:20260424T233330
CREATED:20170928T085353Z
LAST-MODIFIED:20170928T085353Z
UID:12218-1510331400-1510335900@gckib.iwanowice.pl
SUMMARY:Trening IAF – Iwanowice Akademia
DESCRIPTION:16.30-17.45 Orlik 
URL:https://gckib.iwanowice.pl/wydarzenie/trening-iaf-iwanowice-akademia-25/
ATTACH;FMTTYPE=image/png:https://gckib.iwanowice.pl/wp-content/uploads/2017/09/Logotyp-01-1.png
END:VEVENT
BEGIN:VEVENT
DTSTART;VALUE=DATE:20171111
DTEND;VALUE=DATE:20171112
DTSTAMP:20260424T233330
CREATED:20170215T114009Z
LAST-MODIFIED:20170215T114009Z
UID:7945-1510358400-1510444799@gckib.iwanowice.pl
SUMMARY:Legiony to żołnierska nuta II
DESCRIPTION:
URL:https://gckib.iwanowice.pl/wydarzenie/legiony-to-zolnierska-nuta-ii/
END:VEVENT
BEGIN:VEVENT
DTSTART;TZID=Europe/Warsaw:20171112T120000
DTEND;TZID=Europe/Warsaw:20171112T140000
DTSTAMP:20260424T233330
CREATED:20171107T082302Z
LAST-MODIFIED:20171107T082302Z
UID:12878-1510488000-1510495200@gckib.iwanowice.pl
SUMMARY:Bieg Niepodległości 2017
DESCRIPTION:
URL:https://gckib.iwanowice.pl/wydarzenie/bieg-niepodleglosci-2017/
ATTACH;FMTTYPE=image/png:https://gckib.iwanowice.pl/wp-content/uploads/2017/11/11.png
END:VEVENT
BEGIN:VEVENT
DTSTART;TZID=Europe/Warsaw:20171114T125500
DTEND;TZID=Europe/Warsaw:20171114T143500
DTSTAMP:20260424T233330
CREATED:20171018T061022Z
LAST-MODIFIED:20171026T123713Z
UID:12591-1510664100-1510670100@gckib.iwanowice.pl
SUMMARY:Trening IAF – SP Celiny
DESCRIPTION:Oddział przedszkolnego i klasy II w godzinach 12.55 – 13.40\nUczniowie z klas III-IV w godzinach 13.40 – 14.35
URL:https://gckib.iwanowice.pl/wydarzenie/trening-iaf-sp-celiny-4/
ATTACH;FMTTYPE=image/png:https://gckib.iwanowice.pl/wp-content/uploads/2017/09/Logotyp-01-1.png
END:VEVENT
BEGIN:VEVENT
DTSTART;TZID=Europe/Warsaw:20171114T150000
DTEND;TZID=Europe/Warsaw:20171114T170000
DTSTAMP:20260424T233330
CREATED:20170928T115217Z
LAST-MODIFIED:20170928T115217Z
UID:12279-1510671600-1510678800@gckib.iwanowice.pl
SUMMARY:Trening IAF – SP Narama
DESCRIPTION:15.00-16.00 Klasa I-III\n16.00-17.00 Klasa IV-VI
URL:https://gckib.iwanowice.pl/wydarzenie/trening-iaf-sp-narama-14/
ATTACH;FMTTYPE=image/png:https://gckib.iwanowice.pl/wp-content/uploads/2017/09/Logotyp-01-1.png
END:VEVENT
BEGIN:VEVENT
DTSTART;TZID=Europe/Warsaw:20171114T160000
DTEND;TZID=Europe/Warsaw:20171114T180000
DTSTAMP:20260424T233330
CREATED:20171107T091802Z
LAST-MODIFIED:20171107T091802Z
UID:12904-1510675200-1510682400@gckib.iwanowice.pl
SUMMARY:Spotkanie Gminnego Zespołu Teatralnego
DESCRIPTION:
URL:https://gckib.iwanowice.pl/wydarzenie/spotkanie-gminnego-zespolu-teatralnego-2/
LOCATION:Iwanowice
END:VEVENT
BEGIN:VEVENT
DTSTART;TZID=Europe/Warsaw:20171115T134000
DTEND;TZID=Europe/Warsaw:20171115T154000
DTSTAMP:20260424T233330
CREATED:20170928T140817Z
LAST-MODIFIED:20170928T140817Z
UID:12331-1510753200-1510760400@gckib.iwanowice.pl
SUMMARY:Trening IAF – SP Widoma
DESCRIPTION:13.40 – 14.40 Klasy I-III\n14.40 – 15.40 Klasy IV-VI
URL:https://gckib.iwanowice.pl/wydarzenie/trening-iaf-sp-widoma-12/
LOCATION:Widoma
ATTACH;FMTTYPE=image/png:https://gckib.iwanowice.pl/wp-content/uploads/2017/09/Logotyp-01-1.png
END:VEVENT
BEGIN:VEVENT
DTSTART;TZID=Europe/Warsaw:20171115T163000
DTEND;TZID=Europe/Warsaw:20171115T174500
DTSTAMP:20260424T233330
CREATED:20170928T085500Z
LAST-MODIFIED:20170928T085500Z
UID:12220-1510763400-1510767900@gckib.iwanowice.pl
SUMMARY:Trening IAF – Iwanowice Akademia
DESCRIPTION:16.30-17.45 Orlik 
URL:https://gckib.iwanowice.pl/wydarzenie/trening-iaf-iwanowice-akademia-26/
ATTACH;FMTTYPE=image/png:https://gckib.iwanowice.pl/wp-content/uploads/2017/09/Logotyp-01-1.png
END:VEVENT
BEGIN:VEVENT
DTSTART;TZID=Europe/Warsaw:20171116T150000
DTEND;TZID=Europe/Warsaw:20171116T170000
DTSTAMP:20260424T233330
CREATED:20170928T115321Z
LAST-MODIFIED:20170928T115321Z
UID:12281-1510844400-1510851600@gckib.iwanowice.pl
SUMMARY:Trening IAF – SP Narama
DESCRIPTION:15.00-16.00 Klasa I-III\n16.00-17.00 Klasa IV-VI
URL:https://gckib.iwanowice.pl/wydarzenie/trening-iaf-sp-narama-15/
LOCATION:Narama
ATTACH;FMTTYPE=image/png:https://gckib.iwanowice.pl/wp-content/uploads/2017/09/Logotyp-01-1.png
END:VEVENT
BEGIN:VEVENT
DTSTART;TZID=Europe/Warsaw:20171117T134000
DTEND;TZID=Europe/Warsaw:20171117T154000
DTSTAMP:20260424T233330
CREATED:20170928T141104Z
LAST-MODIFIED:20170928T141104Z
UID:12333-1510926000-1510933200@gckib.iwanowice.pl
SUMMARY:Trening IAF – SP Widoma
DESCRIPTION:13.40 – 14.40 Klasy I-III\n14.40 – 15.40 Klasy IV-VI
URL:https://gckib.iwanowice.pl/wydarzenie/trening-iaf-sp-widoma-13/
LOCATION:Widoma
ATTACH;FMTTYPE=image/png:https://gckib.iwanowice.pl/wp-content/uploads/2017/09/Logotyp-01-1.png
END:VEVENT
BEGIN:VEVENT
DTSTART;TZID=Europe/Warsaw:20171117T163000
DTEND;TZID=Europe/Warsaw:20171117T174500
DTSTAMP:20260424T233330
CREATED:20170928T091221Z
LAST-MODIFIED:20170928T091221Z
UID:12222-1510936200-1510940700@gckib.iwanowice.pl
SUMMARY:Trening IAF – Iwanowice Akademia
DESCRIPTION:16.30-17.45 Orlik 
URL:https://gckib.iwanowice.pl/wydarzenie/trening-iaf-iwanowice-akademia-27/
ATTACH;FMTTYPE=image/png:https://gckib.iwanowice.pl/wp-content/uploads/2017/09/Logotyp-01-1.png
END:VEVENT
BEGIN:VEVENT
DTSTART;TZID=Europe/Warsaw:20171121T125500
DTEND;TZID=Europe/Warsaw:20171121T143500
DTSTAMP:20260424T233330
CREATED:20171018T061257Z
LAST-MODIFIED:20171026T123836Z
UID:12593-1511268900-1511274900@gckib.iwanowice.pl
SUMMARY:Trening IAF – SP Celiny
DESCRIPTION:Oddział przedszkolnego i klasy II w godzinach 12.55 – 13.40\nUczniowie z klas III-IV w godzinach 13.40 – 14.35
URL:https://gckib.iwanowice.pl/wydarzenie/trening-iaf-sp-celiny-5/
ATTACH;FMTTYPE=image/png:https://gckib.iwanowice.pl/wp-content/uploads/2017/09/Logotyp-01-1.png
END:VEVENT
BEGIN:VEVENT
DTSTART;TZID=Europe/Warsaw:20171121T150000
DTEND;TZID=Europe/Warsaw:20171121T170000
DTSTAMP:20260424T233330
CREATED:20170928T115424Z
LAST-MODIFIED:20170928T115424Z
UID:12283-1511276400-1511283600@gckib.iwanowice.pl
SUMMARY:Trening IAF – SP Narama
DESCRIPTION:15.00-16.00 Klasa I-III\n16.00-17.00 Klasa IV-VI
URL:https://gckib.iwanowice.pl/wydarzenie/trening-iaf-sp-narama-16/
ATTACH;FMTTYPE=image/png:https://gckib.iwanowice.pl/wp-content/uploads/2017/09/Logotyp-01-1.png
END:VEVENT
BEGIN:VEVENT
DTSTART;TZID=Europe/Warsaw:20171121T160000
DTEND;TZID=Europe/Warsaw:20171121T180000
DTSTAMP:20260424T233330
CREATED:20171107T092106Z
LAST-MODIFIED:20171107T092106Z
UID:12906-1511280000-1511287200@gckib.iwanowice.pl
SUMMARY:Spotkanie Gminnego Zespołu Teatralnego
DESCRIPTION:
URL:https://gckib.iwanowice.pl/wydarzenie/spotkanie-gminnego-zespolu-teatralnego-3/
END:VEVENT
BEGIN:VEVENT
DTSTART;TZID=Europe/Warsaw:20171122T134000
DTEND;TZID=Europe/Warsaw:20171122T154000
DTSTAMP:20260424T233330
CREATED:20170928T141234Z
LAST-MODIFIED:20170928T141234Z
UID:12335-1511358000-1511365200@gckib.iwanowice.pl
SUMMARY:Trening IAF – SP Widoma
DESCRIPTION:13.40 – 14.40 Klasy I-III\n14.40 – 15.40 Klasy IV-VI
URL:https://gckib.iwanowice.pl/wydarzenie/trening-iaf-sp-widoma-14/
ATTACH;FMTTYPE=image/png:https://gckib.iwanowice.pl/wp-content/uploads/2017/09/Logotyp-01-1.png
END:VEVENT
BEGIN:VEVENT
DTSTART;TZID=Europe/Warsaw:20171122T163000
DTEND;TZID=Europe/Warsaw:20171122T174500
DTSTAMP:20260424T233330
CREATED:20170928T091324Z
LAST-MODIFIED:20170928T091324Z
UID:12224-1511368200-1511372700@gckib.iwanowice.pl
SUMMARY:Trening IAF – Iwanowice Akademia
DESCRIPTION:16.30-17.45 Orlik 
URL:https://gckib.iwanowice.pl/wydarzenie/trening-iaf-iwanowice-akademia-28/
ATTACH;FMTTYPE=image/png:https://gckib.iwanowice.pl/wp-content/uploads/2017/09/Logotyp-01-1.png
END:VEVENT
END:VCALENDAR