BEGIN:VCALENDAR
VERSION:2.0
PRODID:-//GCKiB - ECPv6.15.20//NONSGML v1.0//EN
CALSCALE:GREGORIAN
METHOD:PUBLISH
X-ORIGINAL-URL:https://gckib.iwanowice.pl
X-WR-CALDESC:Wydarzenia dla GCKiB
REFRESH-INTERVAL;VALUE=DURATION:PT1H
X-Robots-Tag:noindex
X-PUBLISHED-TTL:PT1H
BEGIN:VTIMEZONE
TZID:Europe/Warsaw
BEGIN:DAYLIGHT
TZOFFSETFROM:+0100
TZOFFSETTO:+0200
TZNAME:CEST
DTSTART:20160327T010000
END:DAYLIGHT
BEGIN:STANDARD
TZOFFSETFROM:+0200
TZOFFSETTO:+0100
TZNAME:CET
DTSTART:20161030T010000
END:STANDARD
BEGIN:DAYLIGHT
TZOFFSETFROM:+0100
TZOFFSETTO:+0200
TZNAME:CEST
DTSTART:20170326T010000
END:DAYLIGHT
BEGIN:STANDARD
TZOFFSETFROM:+0200
TZOFFSETTO:+0100
TZNAME:CET
DTSTART:20171029T010000
END:STANDARD
BEGIN:DAYLIGHT
TZOFFSETFROM:+0100
TZOFFSETTO:+0200
TZNAME:CEST
DTSTART:20180325T010000
END:DAYLIGHT
BEGIN:STANDARD
TZOFFSETFROM:+0200
TZOFFSETTO:+0100
TZNAME:CET
DTSTART:20181028T010000
END:STANDARD
END:VTIMEZONE
BEGIN:VEVENT
DTSTART;TZID=Europe/Warsaw:20170405T150000
DTEND;TZID=Europe/Warsaw:20170405T170000
DTSTAMP:20260425T122251
CREATED:20170331T100405Z
LAST-MODIFIED:20170331T100405Z
UID:8567-1491404400-1491411600@gckib.iwanowice.pl
SUMMARY:Wyjazd na basen
DESCRIPTION:Wyjazd na basen uczniów z GZS w Iwanowicach.
URL:https://gckib.iwanowice.pl/wydarzenie/wyjazd-na-basen/
ATTACH;FMTTYPE=image/jpeg:https://gckib.iwanowice.pl/wp-content/uploads/2017/03/Już-plywam-1.jpg
END:VEVENT
BEGIN:VEVENT
DTSTART;VALUE=DATE:20170407
DTEND;VALUE=DATE:20170408
DTSTAMP:20260425T122251
CREATED:20170215T105338Z
LAST-MODIFIED:20170324T100702Z
UID:7914-1491523200-1491609599@gckib.iwanowice.pl
SUMMARY:XIV - Gminne Zawody Tenisa Stołowego
DESCRIPTION:
URL:https://gckib.iwanowice.pl/wydarzenie/xiv-gminne-zawody-tenisa-stolowego/
ATTACH;FMTTYPE=image/jpeg:https://gckib.iwanowice.pl/wp-content/uploads/2017/02/tenis-st..jpg
END:VEVENT
BEGIN:VEVENT
DTSTART;VALUE=DATE:20170407
DTEND;VALUE=DATE:20170408
DTSTAMP:20260425T122251
CREATED:20170215T110053Z
LAST-MODIFIED:20170215T110053Z
UID:7918-1491523200-1491609599@gckib.iwanowice.pl
SUMMARY:XI Gminny Konkurs na Tradycyjną Palmę Wielkanocną
DESCRIPTION:
URL:https://gckib.iwanowice.pl/wydarzenie/xi-gminny-konkurs-na-tradycyjna-palme-wielkanocna/
END:VEVENT
BEGIN:VEVENT
DTSTART;TZID=Europe/Warsaw:20170407T150000
DTEND;TZID=Europe/Warsaw:20170407T170000
DTSTAMP:20260425T122251
CREATED:20170331T105516Z
LAST-MODIFIED:20170331T105516Z
UID:8606-1491577200-1491584400@gckib.iwanowice.pl
SUMMARY:Wyjazd na basen
DESCRIPTION:Wyjazd na basen uczniów ze S.P. w Celinach ( 30 osób) i S.P. w Sieciechowicach ( 15 osób).
URL:https://gckib.iwanowice.pl/wydarzenie/wyjazd-na-basen-19/
ATTACH;FMTTYPE=image/jpeg:https://gckib.iwanowice.pl/wp-content/uploads/2017/03/Już-plywam-1.jpg
END:VEVENT
BEGIN:VEVENT
DTSTART;VALUE=DATE:20170410
DTEND;VALUE=DATE:20170411
DTSTAMP:20260425T122251
CREATED:20170124T093237Z
LAST-MODIFIED:20170410T202515Z
UID:7628-1491782400-1491868799@gckib.iwanowice.pl
SUMMARY:Żaba MeLa wyrusza w podróż
DESCRIPTION:Publiczna Szkoła Podstawowa im. Św. Jadwigi Królowej w Naramie: 24.04.-12.05.2017r
URL:https://gckib.iwanowice.pl/wydarzenie/zaba-mela-wyrusza-w-podroz-4/
ATTACH;FMTTYPE=image/jpeg:https://gckib.iwanowice.pl/wp-content/uploads/2017/01/zaba-Mela-na-strone-650-x-997.jpg
END:VEVENT
BEGIN:VEVENT
DTSTART;TZID=Europe/Warsaw:20170419T150000
DTEND;TZID=Europe/Warsaw:20170419T170000
DTSTAMP:20260425T122251
CREATED:20170331T100736Z
LAST-MODIFIED:20170331T100736Z
UID:8570-1492614000-1492621200@gckib.iwanowice.pl
SUMMARY:Wyjazd na basen
DESCRIPTION:Wyjazd na basen uczniów z GZS w Iwanowicach.
URL:https://gckib.iwanowice.pl/wydarzenie/wyjazd-na-basen-2/
ATTACH;FMTTYPE=image/jpeg:https://gckib.iwanowice.pl/wp-content/uploads/2017/03/Już-plywam-1.jpg
END:VEVENT
BEGIN:VEVENT
DTSTART;TZID=Europe/Warsaw:20170420T151500
DTEND;TZID=Europe/Warsaw:20170420T171500
DTSTAMP:20260425T122251
CREATED:20170331T104258Z
LAST-MODIFIED:20170331T104258Z
UID:8590-1492701300-1492708500@gckib.iwanowice.pl
SUMMARY:Wyjazd na basen
DESCRIPTION:Wyjazd na basen uczniów ze S.P. w Widomej( 30 osób) i S.P. w Sieciechowicach ( 15 osób).
URL:https://gckib.iwanowice.pl/wydarzenie/wyjazd-na-basen-11/
ATTACH;FMTTYPE=image/jpeg:https://gckib.iwanowice.pl/wp-content/uploads/2017/03/Już-plywam-1.jpg
END:VEVENT
BEGIN:VEVENT
DTSTART;TZID=Europe/Warsaw:20170421T150000
DTEND;TZID=Europe/Warsaw:20170421T170000
DTSTAMP:20260425T122251
CREATED:20170331T105600Z
LAST-MODIFIED:20170331T105600Z
UID:8608-1492786800-1492794000@gckib.iwanowice.pl
SUMMARY:Wyjazd na basen
DESCRIPTION:Wyjazd na basen uczniów ze S.P. w Celinach ( 30 osób) i S.P. w Sieciechowicach ( 15 osób).
URL:https://gckib.iwanowice.pl/wydarzenie/wyjazd-na-basen-20/
ATTACH;FMTTYPE=image/jpeg:https://gckib.iwanowice.pl/wp-content/uploads/2017/03/Już-plywam-1.jpg
END:VEVENT
BEGIN:VEVENT
DTSTART;VALUE=DATE:20170424
DTEND;VALUE=DATE:20170425
DTSTAMP:20260425T122251
CREATED:20170411T062057Z
LAST-MODIFIED:20170411T062140Z
UID:8770-1492992000-1493078399@gckib.iwanowice.pl
SUMMARY:VI Gminny Konkurs Matematyczny „Wielki Mały Matematyk”
DESCRIPTION:
URL:https://gckib.iwanowice.pl/wydarzenie/vi-gminny-konkurs-matematyczny-wielki-maly-matematyk/
LOCATION:Widoma
ATTACH;FMTTYPE=image/jpeg:https://gckib.iwanowice.pl/wp-content/uploads/2017/03/Plakat.jpg
END:VEVENT
BEGIN:VEVENT
DTSTART;VALUE=DATE:20170425
DTEND;VALUE=DATE:20170426
DTSTAMP:20260425T122251
CREATED:20170215T104837Z
LAST-MODIFIED:20170328T091809Z
UID:7910-1493078400-1493164799@gckib.iwanowice.pl
SUMMARY:Gminny Konkurs Wiedzy o Krakowie
DESCRIPTION:
URL:https://gckib.iwanowice.pl/wydarzenie/gminny-konkurs-wiedzy-o-krakowie/
ATTACH;FMTTYPE=image/jpeg:https://gckib.iwanowice.pl/wp-content/uploads/2017/02/Kraków.jpg
END:VEVENT
BEGIN:VEVENT
DTSTART;TZID=Europe/Warsaw:20170426T150000
DTEND;TZID=Europe/Warsaw:20170426T170000
DTSTAMP:20260425T122251
CREATED:20170331T100937Z
LAST-MODIFIED:20170331T100937Z
UID:8572-1493218800-1493226000@gckib.iwanowice.pl
SUMMARY:Wyjazd na basen
DESCRIPTION:Wyjazd na basen uczniów z GZS w Iwanowicach.
URL:https://gckib.iwanowice.pl/wydarzenie/wyjazd-na-basen-3/
ATTACH;FMTTYPE=image/jpeg:https://gckib.iwanowice.pl/wp-content/uploads/2017/03/Już-plywam-1.jpg
END:VEVENT
BEGIN:VEVENT
DTSTART;TZID=Europe/Warsaw:20170427T151500
DTEND;TZID=Europe/Warsaw:20170427T171500
DTSTAMP:20260425T122251
CREATED:20170331T104348Z
LAST-MODIFIED:20170331T104348Z
UID:8592-1493306100-1493313300@gckib.iwanowice.pl
SUMMARY:Wyjazd na basen
DESCRIPTION:Wyjazd na basen uczniów ze S.P. w Widomej( 30 osób) i S.P. w Sieciechowicach ( 15 osób).
URL:https://gckib.iwanowice.pl/wydarzenie/wyjazd-na-basen-12/
ATTACH;FMTTYPE=image/jpeg:https://gckib.iwanowice.pl/wp-content/uploads/2017/03/Już-plywam-1.jpg
END:VEVENT
BEGIN:VEVENT
DTSTART;VALUE=DATE:20170503
DTEND;VALUE=DATE:20170504
DTSTAMP:20260425T122251
CREATED:20170424T145731Z
LAST-MODIFIED:20170424T145731Z
UID:8903-1493769600-1493855999@gckib.iwanowice.pl
SUMMARY:Święto 3 Maja
DESCRIPTION:
URL:https://gckib.iwanowice.pl/wydarzenie/swieto-3-maja/
ATTACH;FMTTYPE=image/jpeg:https://gckib.iwanowice.pl/wp-content/uploads/2017/04/Plakat-3-maja.jpg
END:VEVENT
BEGIN:VEVENT
DTSTART;TZID=Europe/Warsaw:20170505T150000
DTEND;TZID=Europe/Warsaw:20170505T170000
DTSTAMP:20260425T122251
CREATED:20170331T110231Z
LAST-MODIFIED:20170331T110231Z
UID:8610-1493996400-1494003600@gckib.iwanowice.pl
SUMMARY:Wyjazd na basen
DESCRIPTION:Wyjazd na basen uczniów ze S.P. w Celinach ( 30 osób) i S.P. w Sieciechowicach ( 15 osób).
URL:https://gckib.iwanowice.pl/wydarzenie/wyjazd-na-basen-21/
ATTACH;FMTTYPE=image/jpeg:https://gckib.iwanowice.pl/wp-content/uploads/2017/03/Już-plywam-1.jpg
END:VEVENT
BEGIN:VEVENT
DTSTART;TZID=Europe/Warsaw:20170507T130000
DTEND;TZID=Europe/Warsaw:20170507T150000
DTSTAMP:20260425T122251
CREATED:20170506T072700Z
LAST-MODIFIED:20170506T072700Z
UID:9019-1494162000-1494169200@gckib.iwanowice.pl
SUMMARY:Iwanowicka Akademia Futbolu
DESCRIPTION:Wielkie otwarcie Iwanowickiej Akademii Futbolu
URL:https://gckib.iwanowice.pl/wydarzenie/iwanowicka-akademia-futbolu/
ATTACH;FMTTYPE=image/jpeg:https://gckib.iwanowice.pl/wp-content/uploads/2017/04/plakat-Iwanowicka-Akademia-futbolu-701-x-989.jpg
END:VEVENT
BEGIN:VEVENT
DTSTART;TZID=Europe/Warsaw:20170507T130000
DTEND;TZID=Europe/Warsaw:20170507T200000
DTSTAMP:20260425T122251
CREATED:20170215T113407Z
LAST-MODIFIED:20170425T124041Z
UID:7935-1494162000-1494187200@gckib.iwanowice.pl
SUMMARY:"Od dzieciaka do strażaka"
DESCRIPTION:
URL:https://gckib.iwanowice.pl/wydarzenie/od-dzieciaka-do-strazaka/
ATTACH;FMTTYPE=image/jpeg:https://gckib.iwanowice.pl/wp-content/uploads/2017/04/Plakat-od-dzieciaka....jpg
END:VEVENT
BEGIN:VEVENT
DTSTART;TZID=Europe/Warsaw:20170510T150000
DTEND;TZID=Europe/Warsaw:20170510T170000
DTSTAMP:20260425T122251
CREATED:20170331T101103Z
LAST-MODIFIED:20170331T101103Z
UID:8574-1494428400-1494435600@gckib.iwanowice.pl
SUMMARY:Wyjazd na basen
DESCRIPTION:Wyjazd na basen uczniów z GZS w Iwanowicach.
URL:https://gckib.iwanowice.pl/wydarzenie/wyjazd-na-basen-4/
ATTACH;FMTTYPE=image/jpeg:https://gckib.iwanowice.pl/wp-content/uploads/2017/03/Już-plywam-1.jpg
END:VEVENT
BEGIN:VEVENT
DTSTART;TZID=Europe/Warsaw:20170511T151500
DTEND;TZID=Europe/Warsaw:20170511T171500
DTSTAMP:20260425T122251
CREATED:20170331T104514Z
LAST-MODIFIED:20170331T104514Z
UID:8594-1494515700-1494522900@gckib.iwanowice.pl
SUMMARY:Wyjazd na basen
DESCRIPTION:Wyjazd na basen uczniów ze S.P. w Widomej( 30 osób) i S.P. w Sieciechowicach ( 15 osób).
URL:https://gckib.iwanowice.pl/wydarzenie/wyjazd-na-basen-13/
ATTACH;FMTTYPE=image/jpeg:https://gckib.iwanowice.pl/wp-content/uploads/2017/03/Już-plywam-1.jpg
END:VEVENT
BEGIN:VEVENT
DTSTART;TZID=Europe/Warsaw:20170513T150000
DTEND;TZID=Europe/Warsaw:20170513T170000
DTSTAMP:20260425T122251
CREATED:20170331T110334Z
LAST-MODIFIED:20170331T110334Z
UID:8612-1494687600-1494694800@gckib.iwanowice.pl
SUMMARY:Wyjazd na basen
DESCRIPTION:Wyjazd na basen uczniów ze S.P. w Celinach ( 30 osób) i S.P. w Sieciechowicach ( 15 osób).
URL:https://gckib.iwanowice.pl/wydarzenie/wyjazd-na-basen-22/
ATTACH;FMTTYPE=image/jpeg:https://gckib.iwanowice.pl/wp-content/uploads/2017/03/Już-plywam-1.jpg
END:VEVENT
BEGIN:VEVENT
DTSTART;VALUE=DATE:20170515
DTEND;VALUE=DATE:20170516
DTSTAMP:20260425T122251
CREATED:20170124T093420Z
LAST-MODIFIED:20170124T093420Z
UID:7631-1494806400-1494892799@gckib.iwanowice.pl
SUMMARY:Żaba MeLa wyrusza w podróż
DESCRIPTION:Szkoła Podstawowa im. Szarych Szeregów w Sieciechowicach: 15.05.-02.06.2017r.
URL:https://gckib.iwanowice.pl/wydarzenie/zaba-mela-wyrusza-w-podroz-5/
ATTACH;FMTTYPE=image/jpeg:https://gckib.iwanowice.pl/wp-content/uploads/2017/01/zaba-Mela-na-strone-650-x-997.jpg
END:VEVENT
BEGIN:VEVENT
DTSTART;TZID=Europe/Warsaw:20170519T090000
DTEND;TZID=Europe/Warsaw:20170519T121500
DTSTAMP:20260425T122251
CREATED:20170516T091722Z
LAST-MODIFIED:20170516T091722Z
UID:9180-1495184400-1495196100@gckib.iwanowice.pl
SUMMARY:Powiatowy Konkurs z Języka Angielskiego "Best in English"
DESCRIPTION:Dyrektor\, Grono Pedagogiczne oraz Uczniowie Szkoły Podstawowej im. Jana Bosko w Celinach serdecznie zaprasza \nna uroczyste rozstrzygnięcie Powiatowego Konkursu z Języka Angielskiego „Best in English” dla klas trzecich z obszaru powiatu krakowskiego. \nSzczegółowy program wydarzenia: \n9:00 – 9:15 Powitanie przybyłych gości i uczestników konkursu. Oficjalne rozpoczęscie konkursu \n9:15 – 10:15 Część główna Konkursu „Best in English” – test wiedzy z języka angielskiego dla klas III \n10:15 – 11:15 Poczęstunek \n11:15 – 12:00 Część artystyczna (występy uczniów) oraz wręczenie nagród i dyplomów \n12:00 – 12:15 Zakończenie konkursu
URL:https://gckib.iwanowice.pl/wydarzenie/powiatowy-konkurs-z-jezyka-angielskiego-best-in-english/
ATTACH;FMTTYPE=image/jpeg:https://gckib.iwanowice.pl/wp-content/uploads/2017/05/english.jpg
END:VEVENT
BEGIN:VEVENT
DTSTART;VALUE=DATE:20170522
DTEND;VALUE=DATE:20170523
DTSTAMP:20260425T122251
CREATED:20170215T110432Z
LAST-MODIFIED:20170215T110432Z
UID:7921-1495411200-1495497599@gckib.iwanowice.pl
SUMMARY:XII Gminny Konkurs Wiedzy o Janie Pawle II
DESCRIPTION:
URL:https://gckib.iwanowice.pl/wydarzenie/xii-gminny-konkurs-wiedzy-o-janie-pawle-ii/
ATTACH;FMTTYPE=image/jpeg:https://gckib.iwanowice.pl/wp-content/uploads/2017/02/jan-pawel-ii.jpg
END:VEVENT
BEGIN:VEVENT
DTSTART;VALUE=DATE:20170522
DTEND;VALUE=DATE:20170523
DTSTAMP:20260425T122251
CREATED:20170215T110557Z
LAST-MODIFIED:20170215T110557Z
UID:7925-1495411200-1495497599@gckib.iwanowice.pl
SUMMARY:XII Gminny Konkurs Plastyczny o Janie Pawle II
DESCRIPTION:
URL:https://gckib.iwanowice.pl/wydarzenie/xii-gminny-konkurs-plastyczny-o-janie-pawle-ii/
ATTACH;FMTTYPE=image/jpeg:https://gckib.iwanowice.pl/wp-content/uploads/2017/02/jan-pawel-ii.jpg
END:VEVENT
BEGIN:VEVENT
DTSTART;TZID=Europe/Warsaw:20170522T133000
DTEND;TZID=Europe/Warsaw:20170522T153000
DTSTAMP:20260425T122251
CREATED:20170522T153016Z
LAST-MODIFIED:20170522T153016Z
UID:9443-1495459800-1495467000@gckib.iwanowice.pl
SUMMARY:Trening IAF - Widoma Szkoła
DESCRIPTION:13:30-14:30 klasy I-III \n14:30-15:30 klasy IV-VI
URL:https://gckib.iwanowice.pl/wydarzenie/trening-iaf-widoma-szkola/
ATTACH;FMTTYPE=image/png:https://gckib.iwanowice.pl/wp-content/uploads/2017/05/Iwanowicka-akademia-futbolu.png
END:VEVENT
BEGIN:VEVENT
DTSTART;TZID=Europe/Warsaw:20170523T090000
DTEND;TZID=Europe/Warsaw:20170523T120000
DTSTAMP:20260425T122251
CREATED:20170508T093023Z
LAST-MODIFIED:20170508T093023Z
UID:9083-1495530000-1495540800@gckib.iwanowice.pl
SUMMARY:Międzyszkolne Zawody Szachowe
DESCRIPTION:
URL:https://gckib.iwanowice.pl/wydarzenie/miedzyszkolne-zawody-szachowe/
LOCATION:Narama
ATTACH;FMTTYPE=image/jpeg:https://gckib.iwanowice.pl/wp-content/uploads/2017/05/szachy.jpg
END:VEVENT
BEGIN:VEVENT
DTSTART;TZID=Europe/Warsaw:20170523T150000
DTEND;TZID=Europe/Warsaw:20170523T170000
DTSTAMP:20260425T122251
CREATED:20170523T070451Z
LAST-MODIFIED:20170523T070551Z
UID:9471-1495551600-1495558800@gckib.iwanowice.pl
SUMMARY:Trening IAF - Narama Szkoła
DESCRIPTION:15:00-16:00 klasy I-III \n 16:00-17:00 klasy IV-VI
URL:https://gckib.iwanowice.pl/wydarzenie/trening-iaf-narama-szkola/
ATTACH;FMTTYPE=image/png:https://gckib.iwanowice.pl/wp-content/uploads/2017/05/Iwanowicka-akademia-futbolu.png
END:VEVENT
BEGIN:VEVENT
DTSTART;VALUE=DATE:20170524
DTEND;VALUE=DATE:20170525
DTSTAMP:20260425T122251
CREATED:20170215T111138Z
LAST-MODIFIED:20170215T111138Z
UID:7928-1495584000-1495670399@gckib.iwanowice.pl
SUMMARY:Gminny konkurs ortograficzny dla klas IV-VI "MISTRZ ORTOGRAFII"
DESCRIPTION:
URL:https://gckib.iwanowice.pl/wydarzenie/gminny-konkurs-ortograficzny-dla-klas-iv-vi-mistrz-ortografii/
ATTACH;FMTTYPE=image/jpeg:https://gckib.iwanowice.pl/wp-content/uploads/2017/02/mistrz-ortografi.jpg
END:VEVENT
BEGIN:VEVENT
DTSTART;TZID=Europe/Warsaw:20170524T150000
DTEND;TZID=Europe/Warsaw:20170524T170000
DTSTAMP:20260425T122251
CREATED:20170331T101143Z
LAST-MODIFIED:20170331T101143Z
UID:8576-1495638000-1495645200@gckib.iwanowice.pl
SUMMARY:Wyjazd na basen
DESCRIPTION:Wyjazd na basen uczniów z GZS w Iwanowicach.
URL:https://gckib.iwanowice.pl/wydarzenie/wyjazd-na-basen-5/
ATTACH;FMTTYPE=image/jpeg:https://gckib.iwanowice.pl/wp-content/uploads/2017/03/Już-plywam-1.jpg
END:VEVENT
BEGIN:VEVENT
DTSTART;TZID=Europe/Warsaw:20170524T160000
DTEND;TZID=Europe/Warsaw:20170524T171500
DTSTAMP:20260425T122251
CREATED:20170522T134224Z
LAST-MODIFIED:20170522T134224Z
UID:9398-1495641600-1495646100@gckib.iwanowice.pl
SUMMARY:Trening IAF- Iwanowice Akademia
DESCRIPTION:
URL:https://gckib.iwanowice.pl/wydarzenie/trening-iaf-iwanowice-akademia/
ATTACH;FMTTYPE=image/jpeg:https://gckib.iwanowice.pl/wp-content/uploads/2017/05/Iwanowicka-akademia-futbolu-1100-x-1106.jpg
END:VEVENT
BEGIN:VEVENT
DTSTART;TZID=Europe/Warsaw:20170525T150000
DTEND;TZID=Europe/Warsaw:20170525T170000
DTSTAMP:20260425T122251
CREATED:20170523T073151Z
LAST-MODIFIED:20170523T073151Z
UID:9486-1495724400-1495731600@gckib.iwanowice.pl
SUMMARY:Trening IAF - Narama Szkoła
DESCRIPTION:15:00-16:00 klasy I-III \n16:00-17:00 klasy IV-VI
URL:https://gckib.iwanowice.pl/wydarzenie/trening-iaf-narama-szkola-7/
LOCATION:Widoma
ATTACH;FMTTYPE=image/png:https://gckib.iwanowice.pl/wp-content/uploads/2017/05/Iwanowicka-akademia-futbolu.png
END:VEVENT
END:VCALENDAR