BEGIN:VCALENDAR
VERSION:2.0
PRODID:-//GCKiB - ECPv6.15.20//NONSGML v1.0//EN
CALSCALE:GREGORIAN
METHOD:PUBLISH
X-WR-CALNAME:GCKiB
X-ORIGINAL-URL:https://gckib.iwanowice.pl
X-WR-CALDESC:Wydarzenia dla GCKiB
REFRESH-INTERVAL;VALUE=DURATION:PT1H
X-Robots-Tag:noindex
X-PUBLISHED-TTL:PT1H
BEGIN:VTIMEZONE
TZID:Europe/Warsaw
BEGIN:DAYLIGHT
TZOFFSETFROM:+0100
TZOFFSETTO:+0200
TZNAME:CEST
DTSTART:20210328T010000
END:DAYLIGHT
BEGIN:STANDARD
TZOFFSETFROM:+0200
TZOFFSETTO:+0100
TZNAME:CET
DTSTART:20211031T010000
END:STANDARD
BEGIN:DAYLIGHT
TZOFFSETFROM:+0100
TZOFFSETTO:+0200
TZNAME:CEST
DTSTART:20220327T010000
END:DAYLIGHT
BEGIN:STANDARD
TZOFFSETFROM:+0200
TZOFFSETTO:+0100
TZNAME:CET
DTSTART:20221030T010000
END:STANDARD
BEGIN:DAYLIGHT
TZOFFSETFROM:+0100
TZOFFSETTO:+0200
TZNAME:CEST
DTSTART:20230326T010000
END:DAYLIGHT
BEGIN:STANDARD
TZOFFSETFROM:+0200
TZOFFSETTO:+0100
TZNAME:CET
DTSTART:20231029T010000
END:STANDARD
END:VTIMEZONE
BEGIN:VEVENT
DTSTART;TZID=Europe/Warsaw:20220302T170000
DTEND;TZID=Europe/Warsaw:20220302T174500
DTSTAMP:20260421T012335
CREATED:20220428T075329Z
LAST-MODIFIED:20220428T075329Z
UID:39925-1646240400-1646243100@gckib.iwanowice.pl
SUMMARY:Zumba kids
DESCRIPTION:Zumba dla dzieci. Choreografie łatwe do powtórzenia i zapamiętania. Dzieci uczą się różnych tańców np. cumbia\, reggaeton\, hip-hop\, merengue\, salsa itd. Czas trwania zajęć 45 minut. Koszt 60 zł za miesiąc.
URL:https://gckib.iwanowice.pl/wydarzenie/zumba-kids-2-2022-03-02/
CATEGORIES:Zumba
ATTACH;FMTTYPE=image/png:https://gckib.iwanowice.pl/wp-content/uploads/2021/06/UWAGA-Nowe-deklaracje-i-nowa-oplata-Zumba-dla-doroslych-od-1-stycznia-2022.png
END:VEVENT
BEGIN:VEVENT
DTSTART;TZID=Europe/Warsaw:20220302T175000
DTEND;TZID=Europe/Warsaw:20220302T185000
DTSTAMP:20260421T012335
CREATED:20220428T075804Z
LAST-MODIFIED:20220428T075804Z
UID:39995-1646243400-1646247000@gckib.iwanowice.pl
SUMMARY:Zumba Gold
DESCRIPTION:Zajęcia o mniejszej intensywności i wolniejszym tempie. W ramach tego programu wykorzystywane są eleementy merengue\, salsy\, cumbii\, tańca brzucha\, flamenco\, tanga i nie tylko. \nZajęcia odbywają się w środy od godziny 17:50 do 18:50. \n  \n 
URL:https://gckib.iwanowice.pl/wydarzenie/zumba-gold-2022-03-02/
LOCATION:Gminne Centrum Kultury i Bibliotek w Iwanowicach\, Strażacka 5\, Iwanowice Włościańskie
CATEGORIES:Zumba
ATTACH;FMTTYPE=image/png:https://gckib.iwanowice.pl/wp-content/uploads/2021/06/UWAGA-Nowe-deklaracje-i-nowa-oplata-Zumba-dla-doroslych-od-1-stycznia-2022.png
END:VEVENT
BEGIN:VEVENT
DTSTART;TZID=Europe/Warsaw:20220302T185000
DTEND;TZID=Europe/Warsaw:20220302T195000
DTSTAMP:20260421T012335
CREATED:20220428T080324Z
LAST-MODIFIED:20220428T080324Z
UID:40203-1646247000-1646250600@gckib.iwanowice.pl
SUMMARY:Zumba Fitness
DESCRIPTION:Połączenie tańców latynoamerykańskich z fitnessem. Rytmy salsy\, cumbii\, reggaetonu\, morengue\, cha-chy i innych. Zumba Fitness poprawia sylwetkę i pozwala na zrzucenie wagi w przyjemny sposób. \nZajęcia odbywają się w środy od godziny 18:50 do 19:50.
URL:https://gckib.iwanowice.pl/wydarzenie/zumba-fitness-2-2022-03-02/
LOCATION:SP/ Orlik w Iwanowicach
CATEGORIES:Zumba
ATTACH;FMTTYPE=image/png:https://gckib.iwanowice.pl/wp-content/uploads/2021/06/UWAGA-Nowe-deklaracje-i-nowa-oplata-Zumba-dla-doroslych-od-1-stycznia-2022.png
END:VEVENT
BEGIN:VEVENT
DTSTART;TZID=Europe/Warsaw:20220303T160000
DTEND;TZID=Europe/Warsaw:20220303T164500
DTSTAMP:20260421T012335
CREATED:20211020T143916Z
LAST-MODIFIED:20211020T144923Z
UID:36782-1646323200-1646325900@gckib.iwanowice.pl
SUMMARY:Balet dla dzieci Grupa 4 - 5 lat
DESCRIPTION:Balet dla dzieci w wieku od 4 do 5 roku życia. Opłata za zajęcia wynosi 60 zł za miesiąc. Aby zapisać dziecko na zajęcia należy złożyć deklarację https://gckib.iwanowice.pl/wp-content/uploads/2021/09/Zajecia-baletowe-deklaracja-uczestnictwa-1.pdf oraz uiścić opłatę\, przelewem na konto Gminnego Centrum Kultury i Bibliotek w Iwanowicach. \nW razie pytań prosimy o kontakt telefoniczny 12 388 45 16 lub mailowy gckib@iwanowice.pl \nSerdecznie zapraszamy wszystkie chętne dzieci.
URL:https://gckib.iwanowice.pl/wydarzenie/balet-dla-dzieci-grupa-4-5-r-z-2022-03-03/
LOCATION:mała sala przy ZS – P w Iwanowicach Włościańskich
ATTACH;FMTTYPE=image/png:https://gckib.iwanowice.pl/wp-content/uploads/2021/09/balet-jesien-amitiel.png
END:VEVENT
BEGIN:VEVENT
DTSTART;TZID=Europe/Warsaw:20220303T165500
DTEND;TZID=Europe/Warsaw:20220303T175500
DTSTAMP:20260421T012335
CREATED:20211020T144821Z
LAST-MODIFIED:20211020T144821Z
UID:37098-1646326500-1646330100@gckib.iwanowice.pl
SUMMARY:Balet dla dzieci GRUPA 6 - 7 lat
DESCRIPTION:Balet dla dzieci w wieku od 6 do 7 roku życia. Opłata za zajęcia wynosi 60 zł za miesiąc. Aby zapisać dziecko na zajęcia należy złożyć deklarację https://gckib.iwanowice.pl/wp-content/uploads/2021/09/Zajecia-baletowe-deklaracja-uczestnictwa-1.pdf oraz uiścić opłatę\, przelewem na konto Gminnego Centrum Kultury i Bibliotek w Iwanowicach. \nW razie pytań prosimy o kontakt telefoniczny 12 388 45 16 lub mailowy gckib@iwanowice.pl \nSerdecznie zapraszamy wszystkie chętne dzieci.
URL:https://gckib.iwanowice.pl/wydarzenie/balet-dla-dzieci-grupa-6-7-lat-2022-03-03/
LOCATION:mała sala przy ZS – P w Iwanowicach Włościańskich
ATTACH;FMTTYPE=image/png:https://gckib.iwanowice.pl/wp-content/uploads/2021/09/balet-jesien-amitiel.png
END:VEVENT
BEGIN:VEVENT
DTSTART;TZID=Europe/Warsaw:20220303T180000
DTEND;TZID=Europe/Warsaw:20220303T190000
DTSTAMP:20260421T012335
CREATED:20211020T145139Z
LAST-MODIFIED:20211020T145139Z
UID:37309-1646330400-1646334000@gckib.iwanowice.pl
SUMMARY:Balet dla dzieci grupa powyżej 8 lat
DESCRIPTION:Balet dla dzieci w wieku powyżej 8 roku życia. Opłata za zajęcia wynosi 60 zł za miesiąc. Aby zapisać dziecko na zajęcia należy złożyć deklarację https://gckib.iwanowice.pl/wp-content/uploads/2021/09/Zajecia-baletowe-deklaracja-uczestnictwa-1.pdf oraz uiścić opłatę\, przelewem na konto Gminnego Centrum Kultury i Bibliotek w Iwanowicach. \nW razie pytań prosimy o kontakt telefoniczny 12 388 45 16 lub mailowy gckib@iwanowice.pl \nSerdecznie zapraszamy wszystkie chętne dzieci.
URL:https://gckib.iwanowice.pl/wydarzenie/balet-dla-dzieci-grupa-powyzej-8-lat-2022-03-03/
LOCATION:mała sala przy ZS – P w Iwanowicach Włościańskich
ATTACH;FMTTYPE=image/png:https://gckib.iwanowice.pl/wp-content/uploads/2021/09/balet-jesien-amitiel.png
END:VEVENT
BEGIN:VEVENT
DTSTART;TZID=Europe/Warsaw:20220303T185000
DTEND;TZID=Europe/Warsaw:20220303T195000
DTSTAMP:20260421T012335
CREATED:20220428T080324Z
LAST-MODIFIED:20220428T080324Z
UID:40101-1646333400-1646337000@gckib.iwanowice.pl
SUMMARY:Zumba Fitness
DESCRIPTION:Połączenie tańców latynoamerykańskich z fitnessem. Rytmy salsy\, cumbii\, reggaetonu\, morengue\, cha-chy i innych. Zumba Fitness poprawia sylwetkę i pozwala na zrzucenie wagi w przyjemny sposób. \nZajęcia odbywają się w środy od godziny 18:50 do 19:50.
URL:https://gckib.iwanowice.pl/wydarzenie/zumba-fitness-2-2022-03-03/
LOCATION:SP/ Orlik w Iwanowicach
CATEGORIES:Zumba
ATTACH;FMTTYPE=image/png:https://gckib.iwanowice.pl/wp-content/uploads/2021/06/UWAGA-Nowe-deklaracje-i-nowa-oplata-Zumba-dla-doroslych-od-1-stycznia-2022.png
END:VEVENT
BEGIN:VEVENT
DTSTART;TZID=Europe/Warsaw:20220309T170000
DTEND;TZID=Europe/Warsaw:20220309T174500
DTSTAMP:20260421T012335
CREATED:20220428T075329Z
LAST-MODIFIED:20220428T075329Z
UID:39926-1646845200-1646847900@gckib.iwanowice.pl
SUMMARY:Zumba kids
DESCRIPTION:Zumba dla dzieci. Choreografie łatwe do powtórzenia i zapamiętania. Dzieci uczą się różnych tańców np. cumbia\, reggaeton\, hip-hop\, merengue\, salsa itd. Czas trwania zajęć 45 minut. Koszt 60 zł za miesiąc.
URL:https://gckib.iwanowice.pl/wydarzenie/zumba-kids-2-2022-03-09/
CATEGORIES:Zumba
ATTACH;FMTTYPE=image/png:https://gckib.iwanowice.pl/wp-content/uploads/2021/06/UWAGA-Nowe-deklaracje-i-nowa-oplata-Zumba-dla-doroslych-od-1-stycznia-2022.png
END:VEVENT
BEGIN:VEVENT
DTSTART;TZID=Europe/Warsaw:20220309T175000
DTEND;TZID=Europe/Warsaw:20220309T185000
DTSTAMP:20260421T012335
CREATED:20220428T075804Z
LAST-MODIFIED:20220428T075804Z
UID:39996-1646848200-1646851800@gckib.iwanowice.pl
SUMMARY:Zumba Gold
DESCRIPTION:Zajęcia o mniejszej intensywności i wolniejszym tempie. W ramach tego programu wykorzystywane są eleementy merengue\, salsy\, cumbii\, tańca brzucha\, flamenco\, tanga i nie tylko. \nZajęcia odbywają się w środy od godziny 17:50 do 18:50. \n  \n 
URL:https://gckib.iwanowice.pl/wydarzenie/zumba-gold-2022-03-09/
LOCATION:Gminne Centrum Kultury i Bibliotek w Iwanowicach\, Strażacka 5\, Iwanowice Włościańskie
CATEGORIES:Zumba
ATTACH;FMTTYPE=image/png:https://gckib.iwanowice.pl/wp-content/uploads/2021/06/UWAGA-Nowe-deklaracje-i-nowa-oplata-Zumba-dla-doroslych-od-1-stycznia-2022.png
END:VEVENT
BEGIN:VEVENT
DTSTART;TZID=Europe/Warsaw:20220309T185000
DTEND;TZID=Europe/Warsaw:20220309T195000
DTSTAMP:20260421T012335
CREATED:20220428T080324Z
LAST-MODIFIED:20220428T080324Z
UID:40204-1646851800-1646855400@gckib.iwanowice.pl
SUMMARY:Zumba Fitness
DESCRIPTION:Połączenie tańców latynoamerykańskich z fitnessem. Rytmy salsy\, cumbii\, reggaetonu\, morengue\, cha-chy i innych. Zumba Fitness poprawia sylwetkę i pozwala na zrzucenie wagi w przyjemny sposób. \nZajęcia odbywają się w środy od godziny 18:50 do 19:50.
URL:https://gckib.iwanowice.pl/wydarzenie/zumba-fitness-2-2022-03-09/
LOCATION:SP/ Orlik w Iwanowicach
CATEGORIES:Zumba
ATTACH;FMTTYPE=image/png:https://gckib.iwanowice.pl/wp-content/uploads/2021/06/UWAGA-Nowe-deklaracje-i-nowa-oplata-Zumba-dla-doroslych-od-1-stycznia-2022.png
END:VEVENT
BEGIN:VEVENT
DTSTART;TZID=Europe/Warsaw:20220310T160000
DTEND;TZID=Europe/Warsaw:20220310T164500
DTSTAMP:20260421T012335
CREATED:20211020T143916Z
LAST-MODIFIED:20211020T144923Z
UID:36783-1646928000-1646930700@gckib.iwanowice.pl
SUMMARY:Balet dla dzieci Grupa 4 - 5 lat
DESCRIPTION:Balet dla dzieci w wieku od 4 do 5 roku życia. Opłata za zajęcia wynosi 60 zł za miesiąc. Aby zapisać dziecko na zajęcia należy złożyć deklarację https://gckib.iwanowice.pl/wp-content/uploads/2021/09/Zajecia-baletowe-deklaracja-uczestnictwa-1.pdf oraz uiścić opłatę\, przelewem na konto Gminnego Centrum Kultury i Bibliotek w Iwanowicach. \nW razie pytań prosimy o kontakt telefoniczny 12 388 45 16 lub mailowy gckib@iwanowice.pl \nSerdecznie zapraszamy wszystkie chętne dzieci.
URL:https://gckib.iwanowice.pl/wydarzenie/balet-dla-dzieci-grupa-4-5-r-z-2022-03-10/
LOCATION:mała sala przy ZS – P w Iwanowicach Włościańskich
ATTACH;FMTTYPE=image/png:https://gckib.iwanowice.pl/wp-content/uploads/2021/09/balet-jesien-amitiel.png
END:VEVENT
BEGIN:VEVENT
DTSTART;TZID=Europe/Warsaw:20220310T165500
DTEND;TZID=Europe/Warsaw:20220310T175500
DTSTAMP:20260421T012335
CREATED:20211020T144821Z
LAST-MODIFIED:20211020T144821Z
UID:37099-1646931300-1646934900@gckib.iwanowice.pl
SUMMARY:Balet dla dzieci GRUPA 6 - 7 lat
DESCRIPTION:Balet dla dzieci w wieku od 6 do 7 roku życia. Opłata za zajęcia wynosi 60 zł za miesiąc. Aby zapisać dziecko na zajęcia należy złożyć deklarację https://gckib.iwanowice.pl/wp-content/uploads/2021/09/Zajecia-baletowe-deklaracja-uczestnictwa-1.pdf oraz uiścić opłatę\, przelewem na konto Gminnego Centrum Kultury i Bibliotek w Iwanowicach. \nW razie pytań prosimy o kontakt telefoniczny 12 388 45 16 lub mailowy gckib@iwanowice.pl \nSerdecznie zapraszamy wszystkie chętne dzieci.
URL:https://gckib.iwanowice.pl/wydarzenie/balet-dla-dzieci-grupa-6-7-lat-2022-03-10/
LOCATION:mała sala przy ZS – P w Iwanowicach Włościańskich
ATTACH;FMTTYPE=image/png:https://gckib.iwanowice.pl/wp-content/uploads/2021/09/balet-jesien-amitiel.png
END:VEVENT
BEGIN:VEVENT
DTSTART;TZID=Europe/Warsaw:20220310T180000
DTEND;TZID=Europe/Warsaw:20220310T190000
DTSTAMP:20260421T012335
CREATED:20211020T145139Z
LAST-MODIFIED:20211020T145139Z
UID:37310-1646935200-1646938800@gckib.iwanowice.pl
SUMMARY:Balet dla dzieci grupa powyżej 8 lat
DESCRIPTION:Balet dla dzieci w wieku powyżej 8 roku życia. Opłata za zajęcia wynosi 60 zł za miesiąc. Aby zapisać dziecko na zajęcia należy złożyć deklarację https://gckib.iwanowice.pl/wp-content/uploads/2021/09/Zajecia-baletowe-deklaracja-uczestnictwa-1.pdf oraz uiścić opłatę\, przelewem na konto Gminnego Centrum Kultury i Bibliotek w Iwanowicach. \nW razie pytań prosimy o kontakt telefoniczny 12 388 45 16 lub mailowy gckib@iwanowice.pl \nSerdecznie zapraszamy wszystkie chętne dzieci.
URL:https://gckib.iwanowice.pl/wydarzenie/balet-dla-dzieci-grupa-powyzej-8-lat-2022-03-10/
LOCATION:mała sala przy ZS – P w Iwanowicach Włościańskich
ATTACH;FMTTYPE=image/png:https://gckib.iwanowice.pl/wp-content/uploads/2021/09/balet-jesien-amitiel.png
END:VEVENT
BEGIN:VEVENT
DTSTART;TZID=Europe/Warsaw:20220310T185000
DTEND;TZID=Europe/Warsaw:20220310T195000
DTSTAMP:20260421T012335
CREATED:20220428T080324Z
LAST-MODIFIED:20220428T080324Z
UID:40102-1646938200-1646941800@gckib.iwanowice.pl
SUMMARY:Zumba Fitness
DESCRIPTION:Połączenie tańców latynoamerykańskich z fitnessem. Rytmy salsy\, cumbii\, reggaetonu\, morengue\, cha-chy i innych. Zumba Fitness poprawia sylwetkę i pozwala na zrzucenie wagi w przyjemny sposób. \nZajęcia odbywają się w środy od godziny 18:50 do 19:50.
URL:https://gckib.iwanowice.pl/wydarzenie/zumba-fitness-2-2022-03-10/
LOCATION:SP/ Orlik w Iwanowicach
CATEGORIES:Zumba
ATTACH;FMTTYPE=image/png:https://gckib.iwanowice.pl/wp-content/uploads/2021/06/UWAGA-Nowe-deklaracje-i-nowa-oplata-Zumba-dla-doroslych-od-1-stycznia-2022.png
END:VEVENT
BEGIN:VEVENT
DTSTART;TZID=Europe/Warsaw:20220316T170000
DTEND;TZID=Europe/Warsaw:20220316T174500
DTSTAMP:20260421T012335
CREATED:20220428T075329Z
LAST-MODIFIED:20220428T075329Z
UID:39927-1647450000-1647452700@gckib.iwanowice.pl
SUMMARY:Zumba kids
DESCRIPTION:Zumba dla dzieci. Choreografie łatwe do powtórzenia i zapamiętania. Dzieci uczą się różnych tańców np. cumbia\, reggaeton\, hip-hop\, merengue\, salsa itd. Czas trwania zajęć 45 minut. Koszt 60 zł za miesiąc.
URL:https://gckib.iwanowice.pl/wydarzenie/zumba-kids-2-2022-03-16/
CATEGORIES:Zumba
ATTACH;FMTTYPE=image/png:https://gckib.iwanowice.pl/wp-content/uploads/2021/06/UWAGA-Nowe-deklaracje-i-nowa-oplata-Zumba-dla-doroslych-od-1-stycznia-2022.png
END:VEVENT
BEGIN:VEVENT
DTSTART;TZID=Europe/Warsaw:20220316T175000
DTEND;TZID=Europe/Warsaw:20220316T185000
DTSTAMP:20260421T012335
CREATED:20220428T075804Z
LAST-MODIFIED:20220428T075804Z
UID:39997-1647453000-1647456600@gckib.iwanowice.pl
SUMMARY:Zumba Gold
DESCRIPTION:Zajęcia o mniejszej intensywności i wolniejszym tempie. W ramach tego programu wykorzystywane są eleementy merengue\, salsy\, cumbii\, tańca brzucha\, flamenco\, tanga i nie tylko. \nZajęcia odbywają się w środy od godziny 17:50 do 18:50. \n  \n 
URL:https://gckib.iwanowice.pl/wydarzenie/zumba-gold-2022-03-16/
LOCATION:Gminne Centrum Kultury i Bibliotek w Iwanowicach\, Strażacka 5\, Iwanowice Włościańskie
CATEGORIES:Zumba
ATTACH;FMTTYPE=image/png:https://gckib.iwanowice.pl/wp-content/uploads/2021/06/UWAGA-Nowe-deklaracje-i-nowa-oplata-Zumba-dla-doroslych-od-1-stycznia-2022.png
END:VEVENT
BEGIN:VEVENT
DTSTART;TZID=Europe/Warsaw:20220316T185000
DTEND;TZID=Europe/Warsaw:20220316T195000
DTSTAMP:20260421T012335
CREATED:20220428T080324Z
LAST-MODIFIED:20220428T080324Z
UID:40205-1647456600-1647460200@gckib.iwanowice.pl
SUMMARY:Zumba Fitness
DESCRIPTION:Połączenie tańców latynoamerykańskich z fitnessem. Rytmy salsy\, cumbii\, reggaetonu\, morengue\, cha-chy i innych. Zumba Fitness poprawia sylwetkę i pozwala na zrzucenie wagi w przyjemny sposób. \nZajęcia odbywają się w środy od godziny 18:50 do 19:50.
URL:https://gckib.iwanowice.pl/wydarzenie/zumba-fitness-2-2022-03-16/
LOCATION:SP/ Orlik w Iwanowicach
CATEGORIES:Zumba
ATTACH;FMTTYPE=image/png:https://gckib.iwanowice.pl/wp-content/uploads/2021/06/UWAGA-Nowe-deklaracje-i-nowa-oplata-Zumba-dla-doroslych-od-1-stycznia-2022.png
END:VEVENT
BEGIN:VEVENT
DTSTART;TZID=Europe/Warsaw:20220317T160000
DTEND;TZID=Europe/Warsaw:20220317T164500
DTSTAMP:20260421T012335
CREATED:20211020T143916Z
LAST-MODIFIED:20211020T144924Z
UID:36784-1647532800-1647535500@gckib.iwanowice.pl
SUMMARY:Balet dla dzieci Grupa 4 - 5 lat
DESCRIPTION:Balet dla dzieci w wieku od 4 do 5 roku życia. Opłata za zajęcia wynosi 60 zł za miesiąc. Aby zapisać dziecko na zajęcia należy złożyć deklarację https://gckib.iwanowice.pl/wp-content/uploads/2021/09/Zajecia-baletowe-deklaracja-uczestnictwa-1.pdf oraz uiścić opłatę\, przelewem na konto Gminnego Centrum Kultury i Bibliotek w Iwanowicach. \nW razie pytań prosimy o kontakt telefoniczny 12 388 45 16 lub mailowy gckib@iwanowice.pl \nSerdecznie zapraszamy wszystkie chętne dzieci.
URL:https://gckib.iwanowice.pl/wydarzenie/balet-dla-dzieci-grupa-4-5-r-z-2022-03-17/
LOCATION:mała sala przy ZS – P w Iwanowicach Włościańskich
ATTACH;FMTTYPE=image/png:https://gckib.iwanowice.pl/wp-content/uploads/2021/09/balet-jesien-amitiel.png
END:VEVENT
BEGIN:VEVENT
DTSTART;TZID=Europe/Warsaw:20220317T165500
DTEND;TZID=Europe/Warsaw:20220317T175500
DTSTAMP:20260421T012335
CREATED:20211020T144821Z
LAST-MODIFIED:20211020T144821Z
UID:37100-1647536100-1647539700@gckib.iwanowice.pl
SUMMARY:Balet dla dzieci GRUPA 6 - 7 lat
DESCRIPTION:Balet dla dzieci w wieku od 6 do 7 roku życia. Opłata za zajęcia wynosi 60 zł za miesiąc. Aby zapisać dziecko na zajęcia należy złożyć deklarację https://gckib.iwanowice.pl/wp-content/uploads/2021/09/Zajecia-baletowe-deklaracja-uczestnictwa-1.pdf oraz uiścić opłatę\, przelewem na konto Gminnego Centrum Kultury i Bibliotek w Iwanowicach. \nW razie pytań prosimy o kontakt telefoniczny 12 388 45 16 lub mailowy gckib@iwanowice.pl \nSerdecznie zapraszamy wszystkie chętne dzieci.
URL:https://gckib.iwanowice.pl/wydarzenie/balet-dla-dzieci-grupa-6-7-lat-2022-03-17/
LOCATION:mała sala przy ZS – P w Iwanowicach Włościańskich
ATTACH;FMTTYPE=image/png:https://gckib.iwanowice.pl/wp-content/uploads/2021/09/balet-jesien-amitiel.png
END:VEVENT
BEGIN:VEVENT
DTSTART;TZID=Europe/Warsaw:20220317T180000
DTEND;TZID=Europe/Warsaw:20220317T190000
DTSTAMP:20260421T012335
CREATED:20211020T145139Z
LAST-MODIFIED:20211020T145139Z
UID:37311-1647540000-1647543600@gckib.iwanowice.pl
SUMMARY:Balet dla dzieci grupa powyżej 8 lat
DESCRIPTION:Balet dla dzieci w wieku powyżej 8 roku życia. Opłata za zajęcia wynosi 60 zł za miesiąc. Aby zapisać dziecko na zajęcia należy złożyć deklarację https://gckib.iwanowice.pl/wp-content/uploads/2021/09/Zajecia-baletowe-deklaracja-uczestnictwa-1.pdf oraz uiścić opłatę\, przelewem na konto Gminnego Centrum Kultury i Bibliotek w Iwanowicach. \nW razie pytań prosimy o kontakt telefoniczny 12 388 45 16 lub mailowy gckib@iwanowice.pl \nSerdecznie zapraszamy wszystkie chętne dzieci.
URL:https://gckib.iwanowice.pl/wydarzenie/balet-dla-dzieci-grupa-powyzej-8-lat-2022-03-17/
LOCATION:mała sala przy ZS – P w Iwanowicach Włościańskich
ATTACH;FMTTYPE=image/png:https://gckib.iwanowice.pl/wp-content/uploads/2021/09/balet-jesien-amitiel.png
END:VEVENT
BEGIN:VEVENT
DTSTART;TZID=Europe/Warsaw:20220317T185000
DTEND;TZID=Europe/Warsaw:20220317T195000
DTSTAMP:20260421T012335
CREATED:20220428T080324Z
LAST-MODIFIED:20220428T080324Z
UID:40103-1647543000-1647546600@gckib.iwanowice.pl
SUMMARY:Zumba Fitness
DESCRIPTION:Połączenie tańców latynoamerykańskich z fitnessem. Rytmy salsy\, cumbii\, reggaetonu\, morengue\, cha-chy i innych. Zumba Fitness poprawia sylwetkę i pozwala na zrzucenie wagi w przyjemny sposób. \nZajęcia odbywają się w środy od godziny 18:50 do 19:50.
URL:https://gckib.iwanowice.pl/wydarzenie/zumba-fitness-2-2022-03-17/
LOCATION:SP/ Orlik w Iwanowicach
CATEGORIES:Zumba
ATTACH;FMTTYPE=image/png:https://gckib.iwanowice.pl/wp-content/uploads/2021/06/UWAGA-Nowe-deklaracje-i-nowa-oplata-Zumba-dla-doroslych-od-1-stycznia-2022.png
END:VEVENT
BEGIN:VEVENT
DTSTART;TZID=Europe/Warsaw:20220323T170000
DTEND;TZID=Europe/Warsaw:20220323T174500
DTSTAMP:20260421T012335
CREATED:20220428T075329Z
LAST-MODIFIED:20220428T075329Z
UID:39928-1648054800-1648057500@gckib.iwanowice.pl
SUMMARY:Zumba kids
DESCRIPTION:Zumba dla dzieci. Choreografie łatwe do powtórzenia i zapamiętania. Dzieci uczą się różnych tańców np. cumbia\, reggaeton\, hip-hop\, merengue\, salsa itd. Czas trwania zajęć 45 minut. Koszt 60 zł za miesiąc.
URL:https://gckib.iwanowice.pl/wydarzenie/zumba-kids-2-2022-03-23/
CATEGORIES:Zumba
ATTACH;FMTTYPE=image/png:https://gckib.iwanowice.pl/wp-content/uploads/2021/06/UWAGA-Nowe-deklaracje-i-nowa-oplata-Zumba-dla-doroslych-od-1-stycznia-2022.png
END:VEVENT
BEGIN:VEVENT
DTSTART;TZID=Europe/Warsaw:20220323T175000
DTEND;TZID=Europe/Warsaw:20220323T185000
DTSTAMP:20260421T012335
CREATED:20220428T075804Z
LAST-MODIFIED:20220428T075804Z
UID:39998-1648057800-1648061400@gckib.iwanowice.pl
SUMMARY:Zumba Gold
DESCRIPTION:Zajęcia o mniejszej intensywności i wolniejszym tempie. W ramach tego programu wykorzystywane są eleementy merengue\, salsy\, cumbii\, tańca brzucha\, flamenco\, tanga i nie tylko. \nZajęcia odbywają się w środy od godziny 17:50 do 18:50. \n  \n 
URL:https://gckib.iwanowice.pl/wydarzenie/zumba-gold-2022-03-23/
LOCATION:Gminne Centrum Kultury i Bibliotek w Iwanowicach\, Strażacka 5\, Iwanowice Włościańskie
CATEGORIES:Zumba
ATTACH;FMTTYPE=image/png:https://gckib.iwanowice.pl/wp-content/uploads/2021/06/UWAGA-Nowe-deklaracje-i-nowa-oplata-Zumba-dla-doroslych-od-1-stycznia-2022.png
END:VEVENT
BEGIN:VEVENT
DTSTART;TZID=Europe/Warsaw:20220323T185000
DTEND;TZID=Europe/Warsaw:20220323T195000
DTSTAMP:20260421T012335
CREATED:20220428T080324Z
LAST-MODIFIED:20220428T080324Z
UID:40206-1648061400-1648065000@gckib.iwanowice.pl
SUMMARY:Zumba Fitness
DESCRIPTION:Połączenie tańców latynoamerykańskich z fitnessem. Rytmy salsy\, cumbii\, reggaetonu\, morengue\, cha-chy i innych. Zumba Fitness poprawia sylwetkę i pozwala na zrzucenie wagi w przyjemny sposób. \nZajęcia odbywają się w środy od godziny 18:50 do 19:50.
URL:https://gckib.iwanowice.pl/wydarzenie/zumba-fitness-2-2022-03-23/
LOCATION:SP/ Orlik w Iwanowicach
CATEGORIES:Zumba
ATTACH;FMTTYPE=image/png:https://gckib.iwanowice.pl/wp-content/uploads/2021/06/UWAGA-Nowe-deklaracje-i-nowa-oplata-Zumba-dla-doroslych-od-1-stycznia-2022.png
END:VEVENT
BEGIN:VEVENT
DTSTART;TZID=Europe/Warsaw:20220324T160000
DTEND;TZID=Europe/Warsaw:20220324T164500
DTSTAMP:20260421T012335
CREATED:20211020T143916Z
LAST-MODIFIED:20211020T144924Z
UID:36785-1648137600-1648140300@gckib.iwanowice.pl
SUMMARY:Balet dla dzieci Grupa 4 - 5 lat
DESCRIPTION:Balet dla dzieci w wieku od 4 do 5 roku życia. Opłata za zajęcia wynosi 60 zł za miesiąc. Aby zapisać dziecko na zajęcia należy złożyć deklarację https://gckib.iwanowice.pl/wp-content/uploads/2021/09/Zajecia-baletowe-deklaracja-uczestnictwa-1.pdf oraz uiścić opłatę\, przelewem na konto Gminnego Centrum Kultury i Bibliotek w Iwanowicach. \nW razie pytań prosimy o kontakt telefoniczny 12 388 45 16 lub mailowy gckib@iwanowice.pl \nSerdecznie zapraszamy wszystkie chętne dzieci.
URL:https://gckib.iwanowice.pl/wydarzenie/balet-dla-dzieci-grupa-4-5-r-z-2022-03-24/
LOCATION:mała sala przy ZS – P w Iwanowicach Włościańskich
ATTACH;FMTTYPE=image/png:https://gckib.iwanowice.pl/wp-content/uploads/2021/09/balet-jesien-amitiel.png
END:VEVENT
BEGIN:VEVENT
DTSTART;TZID=Europe/Warsaw:20220324T165500
DTEND;TZID=Europe/Warsaw:20220324T175500
DTSTAMP:20260421T012335
CREATED:20211020T144821Z
LAST-MODIFIED:20211020T144821Z
UID:37101-1648140900-1648144500@gckib.iwanowice.pl
SUMMARY:Balet dla dzieci GRUPA 6 - 7 lat
DESCRIPTION:Balet dla dzieci w wieku od 6 do 7 roku życia. Opłata za zajęcia wynosi 60 zł za miesiąc. Aby zapisać dziecko na zajęcia należy złożyć deklarację https://gckib.iwanowice.pl/wp-content/uploads/2021/09/Zajecia-baletowe-deklaracja-uczestnictwa-1.pdf oraz uiścić opłatę\, przelewem na konto Gminnego Centrum Kultury i Bibliotek w Iwanowicach. \nW razie pytań prosimy o kontakt telefoniczny 12 388 45 16 lub mailowy gckib@iwanowice.pl \nSerdecznie zapraszamy wszystkie chętne dzieci.
URL:https://gckib.iwanowice.pl/wydarzenie/balet-dla-dzieci-grupa-6-7-lat-2022-03-24/
LOCATION:mała sala przy ZS – P w Iwanowicach Włościańskich
ATTACH;FMTTYPE=image/png:https://gckib.iwanowice.pl/wp-content/uploads/2021/09/balet-jesien-amitiel.png
END:VEVENT
BEGIN:VEVENT
DTSTART;TZID=Europe/Warsaw:20220324T180000
DTEND;TZID=Europe/Warsaw:20220324T190000
DTSTAMP:20260421T012335
CREATED:20211020T145139Z
LAST-MODIFIED:20211020T145139Z
UID:37312-1648144800-1648148400@gckib.iwanowice.pl
SUMMARY:Balet dla dzieci grupa powyżej 8 lat
DESCRIPTION:Balet dla dzieci w wieku powyżej 8 roku życia. Opłata za zajęcia wynosi 60 zł za miesiąc. Aby zapisać dziecko na zajęcia należy złożyć deklarację https://gckib.iwanowice.pl/wp-content/uploads/2021/09/Zajecia-baletowe-deklaracja-uczestnictwa-1.pdf oraz uiścić opłatę\, przelewem na konto Gminnego Centrum Kultury i Bibliotek w Iwanowicach. \nW razie pytań prosimy o kontakt telefoniczny 12 388 45 16 lub mailowy gckib@iwanowice.pl \nSerdecznie zapraszamy wszystkie chętne dzieci.
URL:https://gckib.iwanowice.pl/wydarzenie/balet-dla-dzieci-grupa-powyzej-8-lat-2022-03-24/
LOCATION:mała sala przy ZS – P w Iwanowicach Włościańskich
ATTACH;FMTTYPE=image/png:https://gckib.iwanowice.pl/wp-content/uploads/2021/09/balet-jesien-amitiel.png
END:VEVENT
BEGIN:VEVENT
DTSTART;TZID=Europe/Warsaw:20220324T185000
DTEND;TZID=Europe/Warsaw:20220324T195000
DTSTAMP:20260421T012335
CREATED:20220428T080324Z
LAST-MODIFIED:20220428T080324Z
UID:40104-1648147800-1648151400@gckib.iwanowice.pl
SUMMARY:Zumba Fitness
DESCRIPTION:Połączenie tańców latynoamerykańskich z fitnessem. Rytmy salsy\, cumbii\, reggaetonu\, morengue\, cha-chy i innych. Zumba Fitness poprawia sylwetkę i pozwala na zrzucenie wagi w przyjemny sposób. \nZajęcia odbywają się w środy od godziny 18:50 do 19:50.
URL:https://gckib.iwanowice.pl/wydarzenie/zumba-fitness-2-2022-03-24/
LOCATION:SP/ Orlik w Iwanowicach
CATEGORIES:Zumba
ATTACH;FMTTYPE=image/png:https://gckib.iwanowice.pl/wp-content/uploads/2021/06/UWAGA-Nowe-deklaracje-i-nowa-oplata-Zumba-dla-doroslych-od-1-stycznia-2022.png
END:VEVENT
BEGIN:VEVENT
DTSTART;TZID=Europe/Warsaw:20220330T170000
DTEND;TZID=Europe/Warsaw:20220330T174500
DTSTAMP:20260421T012335
CREATED:20220428T075329Z
LAST-MODIFIED:20220428T075329Z
UID:39929-1648659600-1648662300@gckib.iwanowice.pl
SUMMARY:Zumba kids
DESCRIPTION:Zumba dla dzieci. Choreografie łatwe do powtórzenia i zapamiętania. Dzieci uczą się różnych tańców np. cumbia\, reggaeton\, hip-hop\, merengue\, salsa itd. Czas trwania zajęć 45 minut. Koszt 60 zł za miesiąc.
URL:https://gckib.iwanowice.pl/wydarzenie/zumba-kids-2-2022-03-30/
CATEGORIES:Zumba
ATTACH;FMTTYPE=image/png:https://gckib.iwanowice.pl/wp-content/uploads/2021/06/UWAGA-Nowe-deklaracje-i-nowa-oplata-Zumba-dla-doroslych-od-1-stycznia-2022.png
END:VEVENT
BEGIN:VEVENT
DTSTART;TZID=Europe/Warsaw:20220330T175000
DTEND;TZID=Europe/Warsaw:20220330T185000
DTSTAMP:20260421T012335
CREATED:20220428T075804Z
LAST-MODIFIED:20220428T075804Z
UID:39999-1648662600-1648666200@gckib.iwanowice.pl
SUMMARY:Zumba Gold
DESCRIPTION:Zajęcia o mniejszej intensywności i wolniejszym tempie. W ramach tego programu wykorzystywane są eleementy merengue\, salsy\, cumbii\, tańca brzucha\, flamenco\, tanga i nie tylko. \nZajęcia odbywają się w środy od godziny 17:50 do 18:50. \n  \n 
URL:https://gckib.iwanowice.pl/wydarzenie/zumba-gold-2022-03-30/
LOCATION:Gminne Centrum Kultury i Bibliotek w Iwanowicach\, Strażacka 5\, Iwanowice Włościańskie
CATEGORIES:Zumba
ATTACH;FMTTYPE=image/png:https://gckib.iwanowice.pl/wp-content/uploads/2021/06/UWAGA-Nowe-deklaracje-i-nowa-oplata-Zumba-dla-doroslych-od-1-stycznia-2022.png
END:VEVENT
END:VCALENDAR