BEGIN:VCALENDAR
VERSION:2.0
PRODID:-//GCKiB - ECPv6.15.20//NONSGML v1.0//EN
CALSCALE:GREGORIAN
METHOD:PUBLISH
X-WR-CALNAME:GCKiB
X-ORIGINAL-URL:https://gckib.iwanowice.pl
X-WR-CALDESC:Wydarzenia dla GCKiB
REFRESH-INTERVAL;VALUE=DURATION:PT1H
X-Robots-Tag:noindex
X-PUBLISHED-TTL:PT1H
BEGIN:VTIMEZONE
TZID:Europe/Warsaw
BEGIN:DAYLIGHT
TZOFFSETFROM:+0100
TZOFFSETTO:+0200
TZNAME:CEST
DTSTART:20200329T010000
END:DAYLIGHT
BEGIN:STANDARD
TZOFFSETFROM:+0200
TZOFFSETTO:+0100
TZNAME:CET
DTSTART:20201025T010000
END:STANDARD
BEGIN:DAYLIGHT
TZOFFSETFROM:+0100
TZOFFSETTO:+0200
TZNAME:CEST
DTSTART:20210328T010000
END:DAYLIGHT
BEGIN:STANDARD
TZOFFSETFROM:+0200
TZOFFSETTO:+0100
TZNAME:CET
DTSTART:20211031T010000
END:STANDARD
BEGIN:DAYLIGHT
TZOFFSETFROM:+0100
TZOFFSETTO:+0200
TZNAME:CEST
DTSTART:20220327T010000
END:DAYLIGHT
BEGIN:STANDARD
TZOFFSETFROM:+0200
TZOFFSETTO:+0100
TZNAME:CET
DTSTART:20221030T010000
END:STANDARD
END:VTIMEZONE
BEGIN:VEVENT
DTSTART;TZID=Europe/Warsaw:20210901T170000
DTEND;TZID=Europe/Warsaw:20210901T174500
DTSTAMP:20260421T120441
CREATED:20220428T075329Z
LAST-MODIFIED:20220428T075329Z
UID:39899-1630515600-1630518300@gckib.iwanowice.pl
SUMMARY:Zumba kids
DESCRIPTION:Zumba dla dzieci. Choreografie łatwe do powtórzenia i zapamiętania. Dzieci uczą się różnych tańców np. cumbia\, reggaeton\, hip-hop\, merengue\, salsa itd. Czas trwania zajęć 45 minut. Koszt 60 zł za miesiąc.
URL:https://gckib.iwanowice.pl/wydarzenie/zumba-kids-2-2021-09-01/
CATEGORIES:Zumba
ATTACH;FMTTYPE=image/png:https://gckib.iwanowice.pl/wp-content/uploads/2021/06/UWAGA-Nowe-deklaracje-i-nowa-oplata-Zumba-dla-doroslych-od-1-stycznia-2022.png
END:VEVENT
BEGIN:VEVENT
DTSTART;TZID=Europe/Warsaw:20210901T171500
DTEND;TZID=Europe/Warsaw:20210901T180000
DTSTAMP:20260421T120441
CREATED:20210623T111259Z
LAST-MODIFIED:20210812T125220Z
UID:34128-1630516500-1630519200@gckib.iwanowice.pl
SUMMARY:Zumba Kids
DESCRIPTION:Zumba dla dzieci. Choreografie łatwe do powtórzenia i zapamiętania. Dzieci uczą się różnych tańców np. cumbia\, reggaeton\, hip-hop\, merengue\, salsa itd. Czas trwania zajęć 45 minut. Koszt 60 zł za miesiąc.
URL:https://gckib.iwanowice.pl/wydarzenie/zumba-kids-2021-09-01/
CATEGORIES:Zumba
ATTACH;FMTTYPE=image/png:https://gckib.iwanowice.pl/wp-content/uploads/2021/05/zumba-Sredni.png
END:VEVENT
BEGIN:VEVENT
DTSTART;TZID=Europe/Warsaw:20210901T175000
DTEND;TZID=Europe/Warsaw:20210901T185000
DTSTAMP:20260421T120441
CREATED:20220428T075804Z
LAST-MODIFIED:20220428T075804Z
UID:39969-1630518600-1630522200@gckib.iwanowice.pl
SUMMARY:Zumba Gold
DESCRIPTION:Zajęcia o mniejszej intensywności i wolniejszym tempie. W ramach tego programu wykorzystywane są eleementy merengue\, salsy\, cumbii\, tańca brzucha\, flamenco\, tanga i nie tylko. \nZajęcia odbywają się w środy od godziny 17:50 do 18:50. \n  \n 
URL:https://gckib.iwanowice.pl/wydarzenie/zumba-gold-2021-09-01/
LOCATION:Gminne Centrum Kultury i Bibliotek w Iwanowicach\, Strażacka 5\, Iwanowice Włościańskie
CATEGORIES:Zumba
ATTACH;FMTTYPE=image/png:https://gckib.iwanowice.pl/wp-content/uploads/2021/06/UWAGA-Nowe-deklaracje-i-nowa-oplata-Zumba-dla-doroslych-od-1-stycznia-2022.png
END:VEVENT
BEGIN:VEVENT
DTSTART;TZID=Europe/Warsaw:20210901T185000
DTEND;TZID=Europe/Warsaw:20210901T195000
DTSTAMP:20260421T120441
CREATED:20210623T110445Z
LAST-MODIFIED:20210623T110445Z
UID:38925-1630522200-1630525800@gckib.iwanowice.pl
SUMMARY:Zumba Fitness
DESCRIPTION:Połączenie tańców latynoamerykańskich z fitnessem. Rytmy salsy\, cumbii\, reggaetonu\, merengue\, cha-chy i innych. Zumba Fitness poprawia sylwetkę i pozwala na zrzucenie wagi w przyjemny sposób. Zajęcia trwają 55 minut. Koszt zajęć 50 zł za miesiąc.
URL:https://gckib.iwanowice.pl/wydarzenie/zumba-fitness-2023-08-09-2021-09-01-2/
CATEGORIES:Zumba
ATTACH;FMTTYPE=image/png:https://gckib.iwanowice.pl/wp-content/uploads/2021/06/UWAGA-Nowe-deklaracje-i-nowa-oplata-Zumba-dla-doroslych-od-1-stycznia-2022.png
END:VEVENT
BEGIN:VEVENT
DTSTART;TZID=Europe/Warsaw:20210901T185000
DTEND;TZID=Europe/Warsaw:20210901T195000
DTSTAMP:20260421T120441
CREATED:20210623T110445Z
LAST-MODIFIED:20210623T110445Z
UID:39065-1630522200-1630525800@gckib.iwanowice.pl
SUMMARY:Zumba Fitness
DESCRIPTION:Połączenie tańców latynoamerykańskich z fitnessem. Rytmy salsy\, cumbii\, reggaetonu\, merengue\, cha-chy i innych. Zumba Fitness poprawia sylwetkę i pozwala na zrzucenie wagi w przyjemny sposób. Zajęcia trwają 55 minut. Koszt zajęć 50 zł za miesiąc.
URL:https://gckib.iwanowice.pl/wydarzenie/zumba-fitness-2023-08-09-2021-09-01-3/
CATEGORIES:Zumba
ATTACH;FMTTYPE=image/png:https://gckib.iwanowice.pl/wp-content/uploads/2021/06/UWAGA-Nowe-deklaracje-i-nowa-oplata-Zumba-dla-doroslych-od-1-stycznia-2022.png
END:VEVENT
BEGIN:VEVENT
DTSTART;TZID=Europe/Warsaw:20210901T185000
DTEND;TZID=Europe/Warsaw:20210901T195000
DTSTAMP:20260421T120441
CREATED:20220428T080324Z
LAST-MODIFIED:20220428T080324Z
UID:40177-1630522200-1630525800@gckib.iwanowice.pl
SUMMARY:Zumba Fitness
DESCRIPTION:Połączenie tańców latynoamerykańskich z fitnessem. Rytmy salsy\, cumbii\, reggaetonu\, morengue\, cha-chy i innych. Zumba Fitness poprawia sylwetkę i pozwala na zrzucenie wagi w przyjemny sposób. \nZajęcia odbywają się w środy od godziny 18:50 do 19:50.
URL:https://gckib.iwanowice.pl/wydarzenie/zumba-fitness-2-2021-09-01/
LOCATION:SP/ Orlik w Iwanowicach
CATEGORIES:Zumba
ATTACH;FMTTYPE=image/png:https://gckib.iwanowice.pl/wp-content/uploads/2021/06/UWAGA-Nowe-deklaracje-i-nowa-oplata-Zumba-dla-doroslych-od-1-stycznia-2022.png
END:VEVENT
BEGIN:VEVENT
DTSTART;TZID=Europe/Warsaw:20210901T193000
DTEND;TZID=Europe/Warsaw:20210901T202500
DTSTAMP:20260421T120441
CREATED:20210623T110445Z
LAST-MODIFIED:20210623T110445Z
UID:36077-1630524600-1630527900@gckib.iwanowice.pl
SUMMARY:Zumba Fitness
DESCRIPTION:Połączenie tańców latynoamerykańskich z fitnessem. Rytmy salsy\, cumbii\, reggaetonu\, merengue\, cha-chy i innych. Zumba Fitness poprawia sylwetkę i pozwala na zrzucenie wagi w przyjemny sposób. Zajęcia trwają 55 minut. Koszt zajęć 50 zł za miesiąc.
URL:https://gckib.iwanowice.pl/wydarzenie/zumba-fitness-2023-08-09-2021-09-01/
CATEGORIES:Zumba
ATTACH;FMTTYPE=image/png:https://gckib.iwanowice.pl/wp-content/uploads/2021/05/zumba-Sredni.png
END:VEVENT
BEGIN:VEVENT
DTSTART;TZID=Europe/Warsaw:20210902T185000
DTEND;TZID=Europe/Warsaw:20210902T195000
DTSTAMP:20260421T120441
CREATED:20220428T080324Z
LAST-MODIFIED:20220428T080324Z
UID:40075-1630608600-1630612200@gckib.iwanowice.pl
SUMMARY:Zumba Fitness
DESCRIPTION:Połączenie tańców latynoamerykańskich z fitnessem. Rytmy salsy\, cumbii\, reggaetonu\, morengue\, cha-chy i innych. Zumba Fitness poprawia sylwetkę i pozwala na zrzucenie wagi w przyjemny sposób. \nZajęcia odbywają się w środy od godziny 18:50 do 19:50.
URL:https://gckib.iwanowice.pl/wydarzenie/zumba-fitness-2-2021-09-02/
LOCATION:SP/ Orlik w Iwanowicach
CATEGORIES:Zumba
ATTACH;FMTTYPE=image/png:https://gckib.iwanowice.pl/wp-content/uploads/2021/06/UWAGA-Nowe-deklaracje-i-nowa-oplata-Zumba-dla-doroslych-od-1-stycznia-2022.png
END:VEVENT
BEGIN:VEVENT
DTSTART;TZID=Europe/Warsaw:20210908T170000
DTEND;TZID=Europe/Warsaw:20210908T174500
DTSTAMP:20260421T120441
CREATED:20220428T075329Z
LAST-MODIFIED:20220428T075329Z
UID:39900-1631120400-1631123100@gckib.iwanowice.pl
SUMMARY:Zumba kids
DESCRIPTION:Zumba dla dzieci. Choreografie łatwe do powtórzenia i zapamiętania. Dzieci uczą się różnych tańców np. cumbia\, reggaeton\, hip-hop\, merengue\, salsa itd. Czas trwania zajęć 45 minut. Koszt 60 zł za miesiąc.
URL:https://gckib.iwanowice.pl/wydarzenie/zumba-kids-2-2021-09-08/
CATEGORIES:Zumba
ATTACH;FMTTYPE=image/png:https://gckib.iwanowice.pl/wp-content/uploads/2021/06/UWAGA-Nowe-deklaracje-i-nowa-oplata-Zumba-dla-doroslych-od-1-stycznia-2022.png
END:VEVENT
BEGIN:VEVENT
DTSTART;TZID=Europe/Warsaw:20210908T171500
DTEND;TZID=Europe/Warsaw:20210908T180000
DTSTAMP:20260421T120441
CREATED:20210623T111259Z
LAST-MODIFIED:20210812T125222Z
UID:34129-1631121300-1631124000@gckib.iwanowice.pl
SUMMARY:Zumba Kids
DESCRIPTION:Zumba dla dzieci. Choreografie łatwe do powtórzenia i zapamiętania. Dzieci uczą się różnych tańców np. cumbia\, reggaeton\, hip-hop\, merengue\, salsa itd. Czas trwania zajęć 45 minut. Koszt 60 zł za miesiąc.
URL:https://gckib.iwanowice.pl/wydarzenie/zumba-kids-2021-09-08/
CATEGORIES:Zumba
ATTACH;FMTTYPE=image/png:https://gckib.iwanowice.pl/wp-content/uploads/2021/05/zumba-Sredni.png
END:VEVENT
BEGIN:VEVENT
DTSTART;TZID=Europe/Warsaw:20210908T175000
DTEND;TZID=Europe/Warsaw:20210908T185000
DTSTAMP:20260421T120441
CREATED:20220428T075804Z
LAST-MODIFIED:20220428T075804Z
UID:39970-1631123400-1631127000@gckib.iwanowice.pl
SUMMARY:Zumba Gold
DESCRIPTION:Zajęcia o mniejszej intensywności i wolniejszym tempie. W ramach tego programu wykorzystywane są eleementy merengue\, salsy\, cumbii\, tańca brzucha\, flamenco\, tanga i nie tylko. \nZajęcia odbywają się w środy od godziny 17:50 do 18:50. \n  \n 
URL:https://gckib.iwanowice.pl/wydarzenie/zumba-gold-2021-09-08/
LOCATION:Gminne Centrum Kultury i Bibliotek w Iwanowicach\, Strażacka 5\, Iwanowice Włościańskie
CATEGORIES:Zumba
ATTACH;FMTTYPE=image/png:https://gckib.iwanowice.pl/wp-content/uploads/2021/06/UWAGA-Nowe-deklaracje-i-nowa-oplata-Zumba-dla-doroslych-od-1-stycznia-2022.png
END:VEVENT
BEGIN:VEVENT
DTSTART;TZID=Europe/Warsaw:20210908T185000
DTEND;TZID=Europe/Warsaw:20210908T195000
DTSTAMP:20260421T120441
CREATED:20210623T110445Z
LAST-MODIFIED:20210623T110445Z
UID:38926-1631127000-1631130600@gckib.iwanowice.pl
SUMMARY:Zumba Fitness
DESCRIPTION:Połączenie tańców latynoamerykańskich z fitnessem. Rytmy salsy\, cumbii\, reggaetonu\, merengue\, cha-chy i innych. Zumba Fitness poprawia sylwetkę i pozwala na zrzucenie wagi w przyjemny sposób. Zajęcia trwają 55 minut. Koszt zajęć 50 zł za miesiąc.
URL:https://gckib.iwanowice.pl/wydarzenie/zumba-fitness-2023-08-09-2021-09-08-2/
CATEGORIES:Zumba
ATTACH;FMTTYPE=image/png:https://gckib.iwanowice.pl/wp-content/uploads/2021/06/UWAGA-Nowe-deklaracje-i-nowa-oplata-Zumba-dla-doroslych-od-1-stycznia-2022.png
END:VEVENT
BEGIN:VEVENT
DTSTART;TZID=Europe/Warsaw:20210908T185000
DTEND;TZID=Europe/Warsaw:20210908T195000
DTSTAMP:20260421T120441
CREATED:20210623T110445Z
LAST-MODIFIED:20210623T110445Z
UID:39066-1631127000-1631130600@gckib.iwanowice.pl
SUMMARY:Zumba Fitness
DESCRIPTION:Połączenie tańców latynoamerykańskich z fitnessem. Rytmy salsy\, cumbii\, reggaetonu\, merengue\, cha-chy i innych. Zumba Fitness poprawia sylwetkę i pozwala na zrzucenie wagi w przyjemny sposób. Zajęcia trwają 55 minut. Koszt zajęć 50 zł za miesiąc.
URL:https://gckib.iwanowice.pl/wydarzenie/zumba-fitness-2023-08-09-2021-09-08-3/
CATEGORIES:Zumba
ATTACH;FMTTYPE=image/png:https://gckib.iwanowice.pl/wp-content/uploads/2021/06/UWAGA-Nowe-deklaracje-i-nowa-oplata-Zumba-dla-doroslych-od-1-stycznia-2022.png
END:VEVENT
BEGIN:VEVENT
DTSTART;TZID=Europe/Warsaw:20210908T185000
DTEND;TZID=Europe/Warsaw:20210908T195000
DTSTAMP:20260421T120441
CREATED:20220428T080324Z
LAST-MODIFIED:20220428T080324Z
UID:40178-1631127000-1631130600@gckib.iwanowice.pl
SUMMARY:Zumba Fitness
DESCRIPTION:Połączenie tańców latynoamerykańskich z fitnessem. Rytmy salsy\, cumbii\, reggaetonu\, morengue\, cha-chy i innych. Zumba Fitness poprawia sylwetkę i pozwala na zrzucenie wagi w przyjemny sposób. \nZajęcia odbywają się w środy od godziny 18:50 do 19:50.
URL:https://gckib.iwanowice.pl/wydarzenie/zumba-fitness-2-2021-09-08/
LOCATION:SP/ Orlik w Iwanowicach
CATEGORIES:Zumba
ATTACH;FMTTYPE=image/png:https://gckib.iwanowice.pl/wp-content/uploads/2021/06/UWAGA-Nowe-deklaracje-i-nowa-oplata-Zumba-dla-doroslych-od-1-stycznia-2022.png
END:VEVENT
BEGIN:VEVENT
DTSTART;TZID=Europe/Warsaw:20210908T193000
DTEND;TZID=Europe/Warsaw:20210908T202500
DTSTAMP:20260421T120441
CREATED:20210623T110445Z
LAST-MODIFIED:20210623T110445Z
UID:36078-1631129400-1631132700@gckib.iwanowice.pl
SUMMARY:Zumba Fitness
DESCRIPTION:Połączenie tańców latynoamerykańskich z fitnessem. Rytmy salsy\, cumbii\, reggaetonu\, merengue\, cha-chy i innych. Zumba Fitness poprawia sylwetkę i pozwala na zrzucenie wagi w przyjemny sposób. Zajęcia trwają 55 minut. Koszt zajęć 50 zł za miesiąc.
URL:https://gckib.iwanowice.pl/wydarzenie/zumba-fitness-2023-08-09-2021-09-08/
CATEGORIES:Zumba
ATTACH;FMTTYPE=image/png:https://gckib.iwanowice.pl/wp-content/uploads/2021/05/zumba-Sredni.png
END:VEVENT
BEGIN:VEVENT
DTSTART;TZID=Europe/Warsaw:20210909T185000
DTEND;TZID=Europe/Warsaw:20210909T195000
DTSTAMP:20260421T120441
CREATED:20220428T080324Z
LAST-MODIFIED:20220428T080324Z
UID:40076-1631213400-1631217000@gckib.iwanowice.pl
SUMMARY:Zumba Fitness
DESCRIPTION:Połączenie tańców latynoamerykańskich z fitnessem. Rytmy salsy\, cumbii\, reggaetonu\, morengue\, cha-chy i innych. Zumba Fitness poprawia sylwetkę i pozwala na zrzucenie wagi w przyjemny sposób. \nZajęcia odbywają się w środy od godziny 18:50 do 19:50.
URL:https://gckib.iwanowice.pl/wydarzenie/zumba-fitness-2-2021-09-09/
LOCATION:SP/ Orlik w Iwanowicach
CATEGORIES:Zumba
ATTACH;FMTTYPE=image/png:https://gckib.iwanowice.pl/wp-content/uploads/2021/06/UWAGA-Nowe-deklaracje-i-nowa-oplata-Zumba-dla-doroslych-od-1-stycznia-2022.png
END:VEVENT
BEGIN:VEVENT
DTSTART;TZID=Europe/Warsaw:20210915T170000
DTEND;TZID=Europe/Warsaw:20210915T174500
DTSTAMP:20260421T120441
CREATED:20220428T075329Z
LAST-MODIFIED:20220428T075329Z
UID:39901-1631725200-1631727900@gckib.iwanowice.pl
SUMMARY:Zumba kids
DESCRIPTION:Zumba dla dzieci. Choreografie łatwe do powtórzenia i zapamiętania. Dzieci uczą się różnych tańców np. cumbia\, reggaeton\, hip-hop\, merengue\, salsa itd. Czas trwania zajęć 45 minut. Koszt 60 zł za miesiąc.
URL:https://gckib.iwanowice.pl/wydarzenie/zumba-kids-2-2021-09-15/
CATEGORIES:Zumba
ATTACH;FMTTYPE=image/png:https://gckib.iwanowice.pl/wp-content/uploads/2021/06/UWAGA-Nowe-deklaracje-i-nowa-oplata-Zumba-dla-doroslych-od-1-stycznia-2022.png
END:VEVENT
BEGIN:VEVENT
DTSTART;TZID=Europe/Warsaw:20210915T171500
DTEND;TZID=Europe/Warsaw:20210915T180000
DTSTAMP:20260421T120441
CREATED:20210623T111259Z
LAST-MODIFIED:20210812T125224Z
UID:34130-1631726100-1631728800@gckib.iwanowice.pl
SUMMARY:Zumba Kids
DESCRIPTION:Zumba dla dzieci. Choreografie łatwe do powtórzenia i zapamiętania. Dzieci uczą się różnych tańców np. cumbia\, reggaeton\, hip-hop\, merengue\, salsa itd. Czas trwania zajęć 45 minut. Koszt 60 zł za miesiąc.
URL:https://gckib.iwanowice.pl/wydarzenie/zumba-kids-2021-09-15/
CATEGORIES:Zumba
ATTACH;FMTTYPE=image/png:https://gckib.iwanowice.pl/wp-content/uploads/2021/05/zumba-Sredni.png
END:VEVENT
BEGIN:VEVENT
DTSTART;TZID=Europe/Warsaw:20210915T175000
DTEND;TZID=Europe/Warsaw:20210915T185000
DTSTAMP:20260421T120441
CREATED:20220428T075804Z
LAST-MODIFIED:20220428T075804Z
UID:39971-1631728200-1631731800@gckib.iwanowice.pl
SUMMARY:Zumba Gold
DESCRIPTION:Zajęcia o mniejszej intensywności i wolniejszym tempie. W ramach tego programu wykorzystywane są eleementy merengue\, salsy\, cumbii\, tańca brzucha\, flamenco\, tanga i nie tylko. \nZajęcia odbywają się w środy od godziny 17:50 do 18:50. \n  \n 
URL:https://gckib.iwanowice.pl/wydarzenie/zumba-gold-2021-09-15/
LOCATION:Gminne Centrum Kultury i Bibliotek w Iwanowicach\, Strażacka 5\, Iwanowice Włościańskie
CATEGORIES:Zumba
ATTACH;FMTTYPE=image/png:https://gckib.iwanowice.pl/wp-content/uploads/2021/06/UWAGA-Nowe-deklaracje-i-nowa-oplata-Zumba-dla-doroslych-od-1-stycznia-2022.png
END:VEVENT
BEGIN:VEVENT
DTSTART;TZID=Europe/Warsaw:20210915T185000
DTEND;TZID=Europe/Warsaw:20210915T195000
DTSTAMP:20260421T120441
CREATED:20210623T110445Z
LAST-MODIFIED:20210623T110445Z
UID:38927-1631731800-1631735400@gckib.iwanowice.pl
SUMMARY:Zumba Fitness
DESCRIPTION:Połączenie tańców latynoamerykańskich z fitnessem. Rytmy salsy\, cumbii\, reggaetonu\, merengue\, cha-chy i innych. Zumba Fitness poprawia sylwetkę i pozwala na zrzucenie wagi w przyjemny sposób. Zajęcia trwają 55 minut. Koszt zajęć 50 zł za miesiąc.
URL:https://gckib.iwanowice.pl/wydarzenie/zumba-fitness-2023-08-09-2021-09-15-2/
CATEGORIES:Zumba
ATTACH;FMTTYPE=image/png:https://gckib.iwanowice.pl/wp-content/uploads/2021/06/UWAGA-Nowe-deklaracje-i-nowa-oplata-Zumba-dla-doroslych-od-1-stycznia-2022.png
END:VEVENT
BEGIN:VEVENT
DTSTART;TZID=Europe/Warsaw:20210915T185000
DTEND;TZID=Europe/Warsaw:20210915T195000
DTSTAMP:20260421T120441
CREATED:20210623T110445Z
LAST-MODIFIED:20210623T110445Z
UID:39067-1631731800-1631735400@gckib.iwanowice.pl
SUMMARY:Zumba Fitness
DESCRIPTION:Połączenie tańców latynoamerykańskich z fitnessem. Rytmy salsy\, cumbii\, reggaetonu\, merengue\, cha-chy i innych. Zumba Fitness poprawia sylwetkę i pozwala na zrzucenie wagi w przyjemny sposób. Zajęcia trwają 55 minut. Koszt zajęć 50 zł za miesiąc.
URL:https://gckib.iwanowice.pl/wydarzenie/zumba-fitness-2023-08-09-2021-09-15-3/
CATEGORIES:Zumba
ATTACH;FMTTYPE=image/png:https://gckib.iwanowice.pl/wp-content/uploads/2021/06/UWAGA-Nowe-deklaracje-i-nowa-oplata-Zumba-dla-doroslych-od-1-stycznia-2022.png
END:VEVENT
BEGIN:VEVENT
DTSTART;TZID=Europe/Warsaw:20210915T185000
DTEND;TZID=Europe/Warsaw:20210915T195000
DTSTAMP:20260421T120441
CREATED:20220428T080324Z
LAST-MODIFIED:20220428T080324Z
UID:40179-1631731800-1631735400@gckib.iwanowice.pl
SUMMARY:Zumba Fitness
DESCRIPTION:Połączenie tańców latynoamerykańskich z fitnessem. Rytmy salsy\, cumbii\, reggaetonu\, morengue\, cha-chy i innych. Zumba Fitness poprawia sylwetkę i pozwala na zrzucenie wagi w przyjemny sposób. \nZajęcia odbywają się w środy od godziny 18:50 do 19:50.
URL:https://gckib.iwanowice.pl/wydarzenie/zumba-fitness-2-2021-09-15/
LOCATION:SP/ Orlik w Iwanowicach
CATEGORIES:Zumba
ATTACH;FMTTYPE=image/png:https://gckib.iwanowice.pl/wp-content/uploads/2021/06/UWAGA-Nowe-deklaracje-i-nowa-oplata-Zumba-dla-doroslych-od-1-stycznia-2022.png
END:VEVENT
BEGIN:VEVENT
DTSTART;TZID=Europe/Warsaw:20210915T193000
DTEND;TZID=Europe/Warsaw:20210915T202500
DTSTAMP:20260421T120441
CREATED:20210623T110445Z
LAST-MODIFIED:20210623T110445Z
UID:36079-1631734200-1631737500@gckib.iwanowice.pl
SUMMARY:Zumba Fitness
DESCRIPTION:Połączenie tańców latynoamerykańskich z fitnessem. Rytmy salsy\, cumbii\, reggaetonu\, merengue\, cha-chy i innych. Zumba Fitness poprawia sylwetkę i pozwala na zrzucenie wagi w przyjemny sposób. Zajęcia trwają 55 minut. Koszt zajęć 50 zł za miesiąc.
URL:https://gckib.iwanowice.pl/wydarzenie/zumba-fitness-2023-08-09-2021-09-15/
CATEGORIES:Zumba
ATTACH;FMTTYPE=image/png:https://gckib.iwanowice.pl/wp-content/uploads/2021/05/zumba-Sredni.png
END:VEVENT
BEGIN:VEVENT
DTSTART;TZID=Europe/Warsaw:20210916T185000
DTEND;TZID=Europe/Warsaw:20210916T195000
DTSTAMP:20260421T120441
CREATED:20220428T080324Z
LAST-MODIFIED:20220428T080324Z
UID:40077-1631818200-1631821800@gckib.iwanowice.pl
SUMMARY:Zumba Fitness
DESCRIPTION:Połączenie tańców latynoamerykańskich z fitnessem. Rytmy salsy\, cumbii\, reggaetonu\, morengue\, cha-chy i innych. Zumba Fitness poprawia sylwetkę i pozwala na zrzucenie wagi w przyjemny sposób. \nZajęcia odbywają się w środy od godziny 18:50 do 19:50.
URL:https://gckib.iwanowice.pl/wydarzenie/zumba-fitness-2-2021-09-16/
LOCATION:SP/ Orlik w Iwanowicach
CATEGORIES:Zumba
ATTACH;FMTTYPE=image/png:https://gckib.iwanowice.pl/wp-content/uploads/2021/06/UWAGA-Nowe-deklaracje-i-nowa-oplata-Zumba-dla-doroslych-od-1-stycznia-2022.png
END:VEVENT
BEGIN:VEVENT
DTSTART;TZID=Europe/Warsaw:20210922T170000
DTEND;TZID=Europe/Warsaw:20210922T174500
DTSTAMP:20260421T120441
CREATED:20220428T075329Z
LAST-MODIFIED:20220428T075329Z
UID:39902-1632330000-1632332700@gckib.iwanowice.pl
SUMMARY:Zumba kids
DESCRIPTION:Zumba dla dzieci. Choreografie łatwe do powtórzenia i zapamiętania. Dzieci uczą się różnych tańców np. cumbia\, reggaeton\, hip-hop\, merengue\, salsa itd. Czas trwania zajęć 45 minut. Koszt 60 zł za miesiąc.
URL:https://gckib.iwanowice.pl/wydarzenie/zumba-kids-2-2021-09-22/
CATEGORIES:Zumba
ATTACH;FMTTYPE=image/png:https://gckib.iwanowice.pl/wp-content/uploads/2021/06/UWAGA-Nowe-deklaracje-i-nowa-oplata-Zumba-dla-doroslych-od-1-stycznia-2022.png
END:VEVENT
BEGIN:VEVENT
DTSTART;TZID=Europe/Warsaw:20210922T171500
DTEND;TZID=Europe/Warsaw:20210922T180000
DTSTAMP:20260421T120441
CREATED:20210623T111259Z
LAST-MODIFIED:20210812T125226Z
UID:34131-1632330900-1632333600@gckib.iwanowice.pl
SUMMARY:Zumba Kids
DESCRIPTION:Zumba dla dzieci. Choreografie łatwe do powtórzenia i zapamiętania. Dzieci uczą się różnych tańców np. cumbia\, reggaeton\, hip-hop\, merengue\, salsa itd. Czas trwania zajęć 45 minut. Koszt 60 zł za miesiąc.
URL:https://gckib.iwanowice.pl/wydarzenie/zumba-kids-2021-09-22/
CATEGORIES:Zumba
ATTACH;FMTTYPE=image/png:https://gckib.iwanowice.pl/wp-content/uploads/2021/05/zumba-Sredni.png
END:VEVENT
BEGIN:VEVENT
DTSTART;TZID=Europe/Warsaw:20210922T175000
DTEND;TZID=Europe/Warsaw:20210922T185000
DTSTAMP:20260421T120441
CREATED:20220428T075804Z
LAST-MODIFIED:20220428T075804Z
UID:39972-1632333000-1632336600@gckib.iwanowice.pl
SUMMARY:Zumba Gold
DESCRIPTION:Zajęcia o mniejszej intensywności i wolniejszym tempie. W ramach tego programu wykorzystywane są eleementy merengue\, salsy\, cumbii\, tańca brzucha\, flamenco\, tanga i nie tylko. \nZajęcia odbywają się w środy od godziny 17:50 do 18:50. \n  \n 
URL:https://gckib.iwanowice.pl/wydarzenie/zumba-gold-2021-09-22/
LOCATION:Gminne Centrum Kultury i Bibliotek w Iwanowicach\, Strażacka 5\, Iwanowice Włościańskie
CATEGORIES:Zumba
ATTACH;FMTTYPE=image/png:https://gckib.iwanowice.pl/wp-content/uploads/2021/06/UWAGA-Nowe-deklaracje-i-nowa-oplata-Zumba-dla-doroslych-od-1-stycznia-2022.png
END:VEVENT
BEGIN:VEVENT
DTSTART;TZID=Europe/Warsaw:20210922T185000
DTEND;TZID=Europe/Warsaw:20210922T195000
DTSTAMP:20260421T120441
CREATED:20210623T110445Z
LAST-MODIFIED:20210623T110445Z
UID:38928-1632336600-1632340200@gckib.iwanowice.pl
SUMMARY:Zumba Fitness
DESCRIPTION:Połączenie tańców latynoamerykańskich z fitnessem. Rytmy salsy\, cumbii\, reggaetonu\, merengue\, cha-chy i innych. Zumba Fitness poprawia sylwetkę i pozwala na zrzucenie wagi w przyjemny sposób. Zajęcia trwają 55 minut. Koszt zajęć 50 zł za miesiąc.
URL:https://gckib.iwanowice.pl/wydarzenie/zumba-fitness-2023-08-09-2021-09-22-2/
CATEGORIES:Zumba
ATTACH;FMTTYPE=image/png:https://gckib.iwanowice.pl/wp-content/uploads/2021/06/UWAGA-Nowe-deklaracje-i-nowa-oplata-Zumba-dla-doroslych-od-1-stycznia-2022.png
END:VEVENT
BEGIN:VEVENT
DTSTART;TZID=Europe/Warsaw:20210922T185000
DTEND;TZID=Europe/Warsaw:20210922T195000
DTSTAMP:20260421T120441
CREATED:20210623T110445Z
LAST-MODIFIED:20210623T110445Z
UID:39068-1632336600-1632340200@gckib.iwanowice.pl
SUMMARY:Zumba Fitness
DESCRIPTION:Połączenie tańców latynoamerykańskich z fitnessem. Rytmy salsy\, cumbii\, reggaetonu\, merengue\, cha-chy i innych. Zumba Fitness poprawia sylwetkę i pozwala na zrzucenie wagi w przyjemny sposób. Zajęcia trwają 55 minut. Koszt zajęć 50 zł za miesiąc.
URL:https://gckib.iwanowice.pl/wydarzenie/zumba-fitness-2023-08-09-2021-09-22-3/
CATEGORIES:Zumba
ATTACH;FMTTYPE=image/png:https://gckib.iwanowice.pl/wp-content/uploads/2021/06/UWAGA-Nowe-deklaracje-i-nowa-oplata-Zumba-dla-doroslych-od-1-stycznia-2022.png
END:VEVENT
BEGIN:VEVENT
DTSTART;TZID=Europe/Warsaw:20210922T185000
DTEND;TZID=Europe/Warsaw:20210922T195000
DTSTAMP:20260421T120441
CREATED:20220428T080324Z
LAST-MODIFIED:20220428T080324Z
UID:40180-1632336600-1632340200@gckib.iwanowice.pl
SUMMARY:Zumba Fitness
DESCRIPTION:Połączenie tańców latynoamerykańskich z fitnessem. Rytmy salsy\, cumbii\, reggaetonu\, morengue\, cha-chy i innych. Zumba Fitness poprawia sylwetkę i pozwala na zrzucenie wagi w przyjemny sposób. \nZajęcia odbywają się w środy od godziny 18:50 do 19:50.
URL:https://gckib.iwanowice.pl/wydarzenie/zumba-fitness-2-2021-09-22/
LOCATION:SP/ Orlik w Iwanowicach
CATEGORIES:Zumba
ATTACH;FMTTYPE=image/png:https://gckib.iwanowice.pl/wp-content/uploads/2021/06/UWAGA-Nowe-deklaracje-i-nowa-oplata-Zumba-dla-doroslych-od-1-stycznia-2022.png
END:VEVENT
END:VCALENDAR